BEGIN:VCALENDAR
VERSION:2.0
PRODID:icalendar-ruby
CALSCALE:GREGORIAN
BEGIN:VTIMEZONE
TZID:America/New_York
BEGIN:DAYLIGHT
DTSTART:20260308T030000
TZOFFSETFROM:-0500
TZOFFSETTO:-0400
RRULE:FREQ=YEARLY;BYDAY=2SU;BYMONTH=3
TZNAME:EDT
END:DAYLIGHT
BEGIN:STANDARD
DTSTART:20261101T010000
TZOFFSETFROM:-0400
TZOFFSETTO:-0500
RRULE:FREQ=YEARLY;BYDAY=1SU;BYMONTH=11
TZNAME:EST
END:STANDARD
END:VTIMEZONE
BEGIN:VEVENT
DTSTAMP:20260421T155742Z
UID:3fd32e6e-cda2-445d-ba83-15c54a31e64a
DTSTART:20260421T080000
DTEND:20260421T110000
DESCRIPTION:
LOCATION:
SUMMARY:Ohio State Testing Math
END:VEVENT
BEGIN:VEVENT
DTSTAMP:20260421T155742Z
UID:69401f05-289c-4e56-a99c-8072eab722bb
DTSTART:20260423T080000
DTEND:20260423T110000
DESCRIPTION:
LOCATION:
SUMMARY:Ohio State Testing Math
END:VEVENT
BEGIN:VEVENT
DTSTAMP:20260421T155742Z
UID:09352242-a1b6-4121-b361-b68b98831f11
DTSTART:20260430T173000
DTEND:20260430T190000
DESCRIPTION:<p><span>This is a community event for anyone to walk through t
 he building one last time since it will come down over the summer. Spread 
 the word to former staff and we'll be sure to start advertising it. We als
 o plan to sell WCMS shirts to commemorate&nbsp\;this gem of a building.&nb
 sp\;</span></p>
LOCATION:
SUMMARY:Farewell Open House
END:VEVENT
BEGIN:VEVENT
DTSTAMP:20260421T155742Z
UID:11f0d5ea-639d-4df2-8ad7-acf5739d106f
DTSTART;VALUE=DATE:20260501
DTEND;VALUE=DATE:20260502
DESCRIPTION:
LOCATION:3640 Colonel Glenn Hwy\, Dayton\, OH 45435\, USA
SUMMARY:MS Chorus WSU Field Trip to WSU
END:VEVENT
BEGIN:VEVENT
DTSTAMP:20260421T155742Z
UID:61bd86de-4280-4b2a-be42-ade2f4e238c8
DTSTART;VALUE=DATE:20260511
DTEND;VALUE=DATE:20260515
DESCRIPTION:<p>Depart Monday May 9:30 pm-Return Thursday 9:30pm.</p><p><str
 ong>Criteria to be able to go on the DC Trip:</strong></p><p><strong>-Stud
 ents conduct on previous field trips(CTC Trip\, Incentives\, etc.) and pre
 vious extracurricular(dance\, sports\, etc.) must meet the guidelines outl
 ined in the student code of conduct.)</strong></p><p><strong>-All ASI's an
 d Detentions must be served.</strong></p><p><strong>-Students cannot have 
 any out of school suspensions.</strong></p><p><strong>-Students can have n
 o more the 2 days of AEP.  Students in AEP for physical aggression and vap
 ing are ineligible for the trip regardless of the number of days in AEP.</
 strong></p><p><strong>-All school fees(library\, school fees\, athletic\, 
 etc.) must be paid in full to be eligible to attend the trip.</strong></p>
 <p></p>
LOCATION:
SUMMARY:Washington DC Trip
END:VEVENT
BEGIN:VEVENT
DTSTAMP:20260421T155742Z
UID:73a1ff39-be70-4438-a77e-0e6561fb736a
DTSTART:20260511T180000
DTEND:20260511T200000
DESCRIPTION:
LOCATION:5833 Student St\, Dayton\, OH 45449\, USA
SUMMARY:Orchestra Spring Concert
END:VEVENT
BEGIN:VEVENT
DTSTAMP:20260421T155742Z
UID:4931218a-7c40-4b0a-ad0b-ab0aa4be46bb
DTSTART:20260513T190000
DTEND:20260513T210000
DESCRIPTION:
LOCATION:5833 Student St\, Dayton\, OH 45449\, USA
SUMMARY:MS Band Spring Concert
END:VEVENT
BEGIN:VEVENT
DTSTAMP:20260421T155742Z
UID:2c22010b-9355-49d2-91ee-3c55c5ec7b9b
DTSTART:20260515T190000
DTEND:20260515T210000
DESCRIPTION:<p>To purchase tickets click on this link.  <a href="https://ww
 w.gofevo.com/event/Westcarrolltonmiddle26" target="_blank" rel="noopener n
 oreferrer nofollow" path-prefix="">https://www.gofevo.com/event/Westcarrol
 ltonmiddle26</a></p>
LOCATION:
SUMMARY:Dayton Dragons School Fundraiser
END:VEVENT
BEGIN:VEVENT
DTSTAMP:20260421T155742Z
UID:793bca5e-e506-4f62-b609-4d5ea5ca7473
DTSTART:20260518T170000
DTEND:20260518T190000
DESCRIPTION:<p>More to be announced.</p>
LOCATION:
SUMMARY:8th Grade Farewell Dance
END:VEVENT
BEGIN:VEVENT
DTSTAMP:20260421T155742Z
UID:032d3fb5-92c6-4bf9-8f92-9f7f736a4a7c
DTSTART:20260522T080000
DTEND:20260522T090000
DESCRIPTION:
LOCATION:
SUMMARY:Field Day and Kona Ice
END:VEVENT
BEGIN:VEVENT
DTSTAMP:20260421T155742Z
UID:538d1cf3-6923-46ee-be3a-4671692553a3
DTSTART;VALUE=DATE:20260526
DTEND;VALUE=DATE:20260527
DESCRIPTION:<p>More information to be announced.</p><p>*What will you need 
 to qualify to attend.</p>
LOCATION:
SUMMARY:Kings Island for 8th Grade
END:VEVENT
BEGIN:VEVENT
DTSTAMP:20260421T155742Z
UID:1b2177fd-37dc-4896-b784-044f00871c3b
DTSTART:20260526T070000
DTEND:20260526T090000
DESCRIPTION:
LOCATION:
SUMMARY:8th Grade Awards 
END:VEVENT
BEGIN:VEVENT
DTSTAMP:20260421T155742Z
UID:09303fec-d22b-46e0-bc1c-a098d4827d9f
DTSTART;VALUE=DATE:20260527
DTEND;VALUE=DATE:20260528
DESCRIPTION:
LOCATION:
SUMMARY:LAST DAY FOR  STUDENTS
END:VEVENT
BEGIN:VEVENT
DTSTAMP:20260421T155742Z
UID:ff2b3a9b-4bb7-4d3c-8bc7-644639387199
DTSTART:20260527T080000
DTEND:20260527T090000
DESCRIPTION:<p>More information to be announce.</p><p>*Do I qualify to go?<
 /p>
LOCATION:
SUMMARY:7th Trampoline Park
END:VEVENT
END:VCALENDAR
