BEGIN:VCALENDAR
VERSION:2.0
PRODID:icalendar-ruby
CALSCALE:GREGORIAN
BEGIN:VTIMEZONE
TZID:America/Chicago
BEGIN:DAYLIGHT
DTSTART:20260308T030000
TZOFFSETFROM:-0600
TZOFFSETTO:-0500
RRULE:FREQ=YEARLY;BYDAY=2SU;BYMONTH=3
TZNAME:CDT
END:DAYLIGHT
BEGIN:STANDARD
DTSTART:20261101T010000
TZOFFSETFROM:-0500
TZOFFSETTO:-0600
RRULE:FREQ=YEARLY;BYDAY=1SU;BYMONTH=11
TZNAME:CST
END:STANDARD
END:VTIMEZONE
BEGIN:VEVENT
DTSTAMP:20260426T014154Z
UID:b9e711e1-015b-4b74-9c62-65631c5af490
DTSTART:20260427T080000
DTEND:20260427T090000
DESCRIPTION:
LOCATION:
SUMMARY:Baseball in Cando vs North Prairie @ 4:15.
END:VEVENT
BEGIN:VEVENT
DTSTAMP:20260426T014154Z
UID:f81e2c1e-3fc8-4b5c-8766-874a269ea37b
DTSTART:20260427T170000
DTEND:20260427T183000
DESCRIPTION:
LOCATION:
SUMMARY:Elementary girls VB game in Leeds vs Rugby @ 5:00 pm
END:VEVENT
BEGIN:VEVENT
DTSTAMP:20260426T014154Z
UID:7d950e30-d63c-4ee6-9a3f-b0b45a7e183d
DTSTART;VALUE=DATE:20260428
DTEND;VALUE=DATE:20260429
DESCRIPTION:<p>Peace Garden Meet<br>All track and field related events are 
 subject to change due to weather and meet availability.</p>
LOCATION:
SUMMARY:Varsity 7-12 Track @ Bottineau (Peace Garden Conf)  leaving at 11:4
 5
END:VEVENT
BEGIN:VEVENT
DTSTAMP:20260426T014154Z
UID:b852e3b3-f65f-4382-8973-0fa8a6ca6d11
DTSTART:20260428T080000
DTEND:20260428T090000
DESCRIPTION:
LOCATION:
SUMMARY:Elementary girls volleyball Practice - 6:00-7:00 pm
END:VEVENT
BEGIN:VEVENT
DTSTAMP:20260426T014154Z
UID:c6dbba52-34b4-4690-87bc-2b9b2e403ed3
DTSTART:20260428T080000
DTEND:20260428T090000
DESCRIPTION:
LOCATION:
SUMMARY:Know Your State Contest in Bismarck
END:VEVENT
BEGIN:VEVENT
DTSTAMP:20260426T014154Z
UID:e585048d-b4f4-4f0b-92b0-07ec5b71623e
DTSTART:20260428T093000
DTEND:20260428T160000
DESCRIPTION:
LOCATION:
SUMMARY:Boy's Golf  - Velva    Leave time 7:00
END:VEVENT
BEGIN:VEVENT
DTSTAMP:20260426T014154Z
UID:1dd2808f-99a6-4f10-8e22-9d1b1be51d0f
DTSTART:20260428T140000
DTEND:20260428T200000
DESCRIPTION:<p>All track and field related events are subject to change due
  to weather and meet availability.</p>
LOCATION:
SUMMARY:JH Track ( 6th grade ) @ Fessenden/ Lunch  - leave at 11:30
END:VEVENT
BEGIN:VEVENT
DTSTAMP:20260426T014154Z
UID:fdba8a3c-0663-4dda-ae98-e2aa8030ed0c
DTSTART:20260429T080000
DTEND:20260429T090000
DESCRIPTION:
LOCATION:
SUMMARY:Golf in Rugby at 10:00. Leave at 8:30
END:VEVENT
BEGIN:VEVENT
DTSTAMP:20260426T014154Z
UID:9454d199-4fc6-4e17-93e1-69052533dbd3
DTSTART:20260430T080000
DTEND:20260430T090000
DESCRIPTION:
LOCATION:
SUMMARY:Baseball game at Dunseith @ 4:15 V/JV
END:VEVENT
BEGIN:VEVENT
DTSTAMP:20260426T014154Z
UID:70fa3e21-77d4-48c7-a667-92cc349b272f
DTSTART:20260430T080000
DTEND:20260430T090000
DESCRIPTION:
LOCATION:
SUMMARY:Elementary girls VB game in Maddock @ 4:30 pm
END:VEVENT
BEGIN:VEVENT
DTSTAMP:20260426T014154Z
UID:ce2da714-4857-498e-abcc-2b4c844caa34
DTSTART:20260430T140000
DTEND:20260430T200000
DESCRIPTION:
LOCATION:
SUMMARY:Varsity Track @ Rugby\; depart at 12:20
END:VEVENT
BEGIN:VEVENT
DTSTAMP:20260426T014154Z
UID:f9f15e63-8ed3-4ea7-9f1d-bbf48e92d9b5
DTSTART:20260502T110000
DTEND:20260502T170000
DESCRIPTION:<p>All track and field related events are subject to change due
  to weather and meet availability.</p>
LOCATION:
SUMMARY:Varsity Track @ Carrington/ leave time 8:40
END:VEVENT
BEGIN:VEVENT
DTSTAMP:20260426T014154Z
UID:73d68fbb-a941-45aa-8b59-ff893a1b27a8
DTSTART:20260505T093000
DTEND:20260505T160000
DESCRIPTION:
LOCATION:
SUMMARY:Boy's Golf - Bottineau  leaving at 8:00
END:VEVENT
BEGIN:VEVENT
DTSTAMP:20260426T014154Z
UID:4b4cf885-9072-4822-b41c-247dbafac4b3
DTSTART:20260505T130000
DTEND:20260505T210000
DESCRIPTION:<p>CNDC Conference Meet</p><p>All track and field related event
 s are subject to change due to weather and meet availability.</p>
LOCATION:
SUMMARY:JH & Varsity CNDC Track @ Fessenden/ Dismiss @ 10:40 sack lunch- le
 ave @ 10:50.
END:VEVENT
BEGIN:VEVENT
DTSTAMP:20260426T014154Z
UID:5ad29a9e-ac90-4bf6-88a5-785b39c0b12a
DTSTART;VALUE=DATE:20260506
DTEND;VALUE=DATE:20260507
DESCRIPTION:
LOCATION:
SUMMARY:Benson County Elementary Play Day @ Fort Totten-Leave @ 8:15.
END:VEVENT
BEGIN:VEVENT
DTSTAMP:20260426T014154Z
UID:e716692b-7f5d-46e4-8404-ace3745372d5
DTSTART:20260507T080000
DTEND:20260507T090000
DESCRIPTION:
LOCATION:
SUMMARY:Benson County Immunization Clinic @ Leeds Community Center  1:00-2:
 00
END:VEVENT
BEGIN:VEVENT
DTSTAMP:20260426T014154Z
UID:25739401-0300-449e-a987-e64d82cca137
DTSTART:20260507T140000
DTEND:20260507T200000
DESCRIPTION:<p>All track and field related events are subject to change due
  to weather and meet availability.</p>
LOCATION:
SUMMARY:JH Track @ St. John/ \;lunch -leave @ 12:20
END:VEVENT
BEGIN:VEVENT
DTSTAMP:20260426T014154Z
UID:0d08ca7a-4490-4903-9ad8-462d6d3809bc
DTSTART:20260508T130000
DTEND:20260508T210000
DESCRIPTION:<p>All track and field related events are subject to change due
  to weather and meet availability.</p>
LOCATION:
SUMMARY:Varsity Track @ Jamestown/ Dismiss @ 9:50 sack lunch- leave 10:00
END:VEVENT
BEGIN:VEVENT
DTSTAMP:20260426T014154Z
UID:326fdb75-88b6-4d40-9bb8-465e514088b5
DTSTART:20260508T193000
DTEND:20260508T203000
DESCRIPTION:
LOCATION:
SUMMARY:Elem. Spring Concert @ 7:30.
END:VEVENT
BEGIN:VEVENT
DTSTAMP:20260426T014154Z
UID:32d17810-7c81-437e-87de-84645bde6d1b
DTSTART:20260509T100000
DTEND:20260509T170000
DESCRIPTION:<p>All track and field related events are subject to change due
  to weather and meet availability.</p>
LOCATION:
SUMMARY:Varsity Track @ Fessenden/ leave @ 7:45.
END:VEVENT
BEGIN:VEVENT
DTSTAMP:20260426T014154Z
UID:1bf18a52-9926-45b8-bc1c-986765eb562f
DTSTART:20260511T160000
DTEND:20260511T210000
DESCRIPTION:<p>All track and field related events are subject to change due
  to weather and meet availability.</p>
LOCATION:
SUMMARY:Varsity Track @ Devils Lake/ Dismiss @ 2:20- Leave 2:30
END:VEVENT
BEGIN:VEVENT
DTSTAMP:20260426T014154Z
UID:c5b48655-bae5-4496-9cb2-d5f3ac906474
DTSTART:20260512T080000
DTEND:20260512T090000
DESCRIPTION:
LOCATION:
SUMMARY:Golf at Rolla  Leave time 8:15
END:VEVENT
BEGIN:VEVENT
DTSTAMP:20260426T014154Z
UID:f39ae3e0-87f8-40df-9975-c108055ab5b5
DTSTART:20260512T160000
DTEND:20260512T200000
DESCRIPTION:<p>All track and field related events are subject to change due
  to weather and meet availability.</p>
LOCATION:
SUMMARY:JH Track @ Devils Lake/ Dismiss @2:20- Leave @ 2:30
END:VEVENT
BEGIN:VEVENT
DTSTAMP:20260426T014154Z
UID:33fa9d63-6419-4d12-bdb0-501ca18d6e8b
DTSTART;VALUE=DATE:20260515
DTEND;VALUE=DATE:20260516
DESCRIPTION:<p><em>Gym Reserved for track team in case of bad weather</em><
 /p>
LOCATION:
SUMMARY:Regional Track @ Rugby/ Dismiss @ 11:40 early lunch- leave @ 12:15
END:VEVENT
BEGIN:VEVENT
DTSTAMP:20260426T014154Z
UID:8c0fdd25-a443-4cad-ba54-e79a1017e105
DTSTART;VALUE=DATE:20260516
DTEND;VALUE=DATE:20260517
DESCRIPTION:
LOCATION:
SUMMARY:Regional Track @ Rugby (Alternate date)
END:VEVENT
BEGIN:VEVENT
DTSTAMP:20260426T014154Z
UID:a2713dd8-a453-45c5-b5f3-bb24a71e30cc
DTSTART:20260518T100000
DTEND:20260518T160000
DESCRIPTION:
LOCATION:
SUMMARY: Golf - Dunseith  Leave time 8:15
END:VEVENT
BEGIN:VEVENT
DTSTAMP:20260426T014154Z
UID:d3855907-4bbf-45b3-a33b-ed43e094355a
DTSTART:20260521T093000
DTEND:20260521T160000
DESCRIPTION:
LOCATION:
SUMMARY: Golf - Fessenden  Leave time is 7:00 a.m.
END:VEVENT
BEGIN:VEVENT
DTSTAMP:20260426T014154Z
UID:2c64e8ab-8769-46ac-90d1-f066361a99bd
DTSTART:20260521T150000
DTEND:20260523T180000
DESCRIPTION:
LOCATION:
SUMMARY:State Track and Field Meet @ Bismarck
END:VEVENT
BEGIN:VEVENT
DTSTAMP:20260426T014154Z
UID:ed2a1e89-065e-41c6-9c31-0f88eb41a5ff
DTSTART;VALUE=DATE:20260522
DTEND;VALUE=DATE:20260523
DESCRIPTION:
LOCATION:
SUMMARY:Last Day of School dismissed at 12:30
END:VEVENT
BEGIN:VEVENT
DTSTAMP:20260426T014154Z
UID:b8c00072-c835-4f9e-9640-723fe1a79f2f
DTSTART:20260524T140000
DTEND:20260524T153000
DESCRIPTION:
LOCATION:
SUMMARY:Graduation
END:VEVENT
BEGIN:VEVENT
DTSTAMP:20260426T014154Z
UID:c07027e4-d8d6-4b5f-8a84-775db964c4ea
DTSTART:20260601T080000
DTEND:20260604T090000
DESCRIPTION:
LOCATION:
SUMMARY:FFA State Convention
END:VEVENT
BEGIN:VEVENT
DTSTAMP:20260426T014154Z
UID:31820d56-a556-44fe-875a-44ddb79d6b93
DTSTART:20260604T080000
DTEND:20260604T090000
DESCRIPTION:
LOCATION:
SUMMARY:Benson County Immunization Clinic @ Leeds Community Center  1:00-2:
 00
END:VEVENT
BEGIN:VEVENT
DTSTAMP:20260426T014154Z
UID:02e4e0dc-ac58-4ed9-a4f9-e37fc16747b2
DTSTART;VALUE=DATE:20260608
DTEND;VALUE=DATE:20260612
DESCRIPTION:<p>Lake Region Volleyball Camp</p><p>8am - 11am</p><p>7th - 12t
 h Grade</p>
LOCATION:Leeds\, ND 58346\, USA
SUMMARY:LRSC Volleyball Camp
END:VEVENT
BEGIN:VEVENT
DTSTAMP:20260426T014154Z
UID:c4697274-7fa7-4d18-9b46-303c28bf7f42
DTSTART:20260609T110000
DTEND:20260609T190000
DESCRIPTION:
LOCATION:
SUMMARY:School Board Election
END:VEVENT
BEGIN:VEVENT
DTSTAMP:20260426T014154Z
UID:fde401e5-9abf-4d74-9799-be9d094828c0
DTSTART:20260618T000000
DTEND:20260625T234500
DESCRIPTION:
LOCATION:
SUMMARY:Gym Closed for Refinishing
END:VEVENT
BEGIN:VEVENT
DTSTAMP:20260426T014154Z
UID:de1305f7-d293-45cc-80b7-bc9de4e4ace8
DTSTART:20261013T080000
DTEND:20261013T090000
DESCRIPTION:
LOCATION:
SUMMARY:School Picture Day.
END:VEVENT
END:VCALENDAR
