BEGIN:VCALENDAR
VERSION:2.0
PRODID:icalendar-ruby
CALSCALE:GREGORIAN
BEGIN:VTIMEZONE
TZID:America/New_York
BEGIN:DAYLIGHT
DTSTART:20260308T030000
TZOFFSETFROM:-0500
TZOFFSETTO:-0400
RRULE:FREQ=YEARLY;BYDAY=2SU;BYMONTH=3
TZNAME:EDT
END:DAYLIGHT
BEGIN:STANDARD
DTSTART:20261101T010000
TZOFFSETFROM:-0400
TZOFFSETTO:-0500
RRULE:FREQ=YEARLY;BYDAY=1SU;BYMONTH=11
TZNAME:EST
END:STANDARD
END:VTIMEZONE
BEGIN:VEVENT
DTSTAMP:20260422T155809Z
UID:589fc913-9362-487a-bf63-bc91602461a0
DTSTART;VALUE=DATE:20260216
DTEND;VALUE=DATE:20260519
DESCRIPTION:
LOCATION:
SUMMARY:Field Trip Black Out Period
END:VEVENT
BEGIN:VEVENT
DTSTAMP:20260422T155809Z
UID:13ae3520-737d-4745-bcac-3c1ddb0c395e
DTSTART:20260422T093000
DTEND:20260422T123000
DESCRIPTION:
LOCATION:Media Center
SUMMARY:Bookkeepers' Meeting 
END:VEVENT
BEGIN:VEVENT
DTSTAMP:20260422T155809Z
UID:4d7e8253-c12a-4573-a5b6-9bfe19acd391
DTSTART:20260422T163000
DTEND:20260422T173000
DESCRIPTION:
LOCATION:
SUMMARY:Math Bootcamp 
END:VEVENT
BEGIN:VEVENT
DTSTAMP:20260422T155809Z
UID:6239ee24-a62b-4c37-9125-e22e9ed1458c
DTSTART;VALUE=DATE:20260423
DTEND;VALUE=DATE:20260424
DESCRIPTION:
LOCATION:
SUMMARY:Fourth Interim ends
END:VEVENT
BEGIN:VEVENT
DTSTAMP:20260422T155809Z
UID:1a5cb50e-8aa1-44ed-a3b5-9ae36be26195
DTSTART:20260424T090000
DTEND:20260424T093000
DESCRIPTION:
LOCATION:
SUMMARY:Science Department Checkpoint #7 
END:VEVENT
BEGIN:VEVENT
DTSTAMP:20260422T155809Z
UID:5dacab25-d05c-4779-94a6-9b154107c2e1
DTSTART:20260424T183000
DTEND:20260424T193000
DESCRIPTION:
LOCATION:
SUMMARY:Show Choir Performance 
END:VEVENT
BEGIN:VEVENT
DTSTAMP:20260422T155809Z
UID:72a595e8-bd45-46e9-be38-c50b35a2f95c
DTSTART:20260425T140000
DTEND:20260425T150000
DESCRIPTION:
LOCATION:
SUMMARY:Show Choir Performance #2 
END:VEVENT
BEGIN:VEVENT
DTSTAMP:20260422T155809Z
UID:3fb94490-b7c0-49f7-9700-0e2722c38cc5
DTSTART;VALUE=DATE:20260428
DTEND;VALUE=DATE:20260429
DESCRIPTION:
LOCATION:
SUMMARY:Secondary Interims Published on Focus
END:VEVENT
BEGIN:VEVENT
DTSTAMP:20260422T155809Z
UID:2fc52585-c86a-40ed-8fa3-4349b1607845
DTSTART:20260428T083000
DTEND:20260428T090000
DESCRIPTION:
LOCATION:
SUMMARY:ESE Meeting 
END:VEVENT
BEGIN:VEVENT
DTSTAMP:20260422T155809Z
UID:b93aa827-a5af-46cf-a5a9-62a62bb42e21
DTSTART:20260428T134500
DTEND:20260428T142500
DESCRIPTION:
LOCATION:
SUMMARY:MTSS Meeting 
END:VEVENT
BEGIN:VEVENT
DTSTAMP:20260422T155809Z
UID:05ba3bbe-0e9f-4c9c-bbd0-019416c39edf
DTSTART:20260501T080000
DTEND:20260501T083000
DESCRIPTION:
LOCATION:
SUMMARY:Gradventure 
END:VEVENT
BEGIN:VEVENT
DTSTAMP:20260422T155809Z
UID:c114bfe7-eed1-4e3a-a6aa-4bde8810fe70
DTSTART:20260501T080000
DTEND:20260501T080000
DESCRIPTION:<html><head><meta http-equiv="Content-Type" content="text/html\
 ; charset=utf-8"><meta name="ProgId" content="Word.Document"><meta name="G
 enerator" content="Microsoft Word 15"><meta name="Originator" content="Mic
 rosoft Word 15"><style><!--@font-face	{font-family:"Cambria Math"}@font-fa
 ce	{font-family:Aptos}p.MsoNormal\, li.MsoNormal\, div.MsoNormal	{margin:0
 in\;	font-size:12.0pt\;	font-family:"Aptos"\,sans-serif}a:link\, span.MsoH
 yperlink	{color:#467886\;	text-decoration:underline}a:visited\, span.MsoHy
 perlinkFollowed	{color:#96607D\;	text-decoration:underline}span.EmailStyle
 17	{font-family:"Aptos"\,sans-serif\;	color:windowtext}.MsoChpDefault	{}@p
 age WordSection1	{margin:1.0in 1.0in 1.0in 1.0in}div.WordSection1	{}--></s
 tyle></head><body lang="EN-US" link="#467886" vlink="#96607D" style="word-
 wrap:break-word"><div class="WordSection1"><p class="MsoNormal">&nbsp\;</p
 ></div></body></html>
LOCATION:
SUMMARY:PM3 FAST Reading
END:VEVENT
BEGIN:VEVENT
DTSTAMP:20260422T155809Z
UID:7c040b96-9a31-4c2a-a68b-68963af5f453
DTSTART:20260502T110000
DTEND:20260502T123000
DESCRIPTION:
LOCATION:
SUMMARY:Distribution of Yard Signs - Carpool
END:VEVENT
BEGIN:VEVENT
DTSTAMP:20260422T155809Z
UID:058f9bad-d8e9-4527-bd5c-87514a5f93c3
DTSTART;VALUE=DATE:20260504
DTEND;VALUE=DATE:20260509
DESCRIPTION:
LOCATION:
SUMMARY:Teacher Appreciation Week 
END:VEVENT
BEGIN:VEVENT
DTSTAMP:20260422T155809Z
UID:9eacac22-e9aa-4350-9395-7fb0da5a5525
DTSTART:20260505T080000
DTEND:20260505T083000
DESCRIPTION:
LOCATION:
SUMMARY:PM3 ELA for ALL 
END:VEVENT
BEGIN:VEVENT
DTSTAMP:20260422T155809Z
UID:b019e83d-184d-4813-a4b5-fa5f5767397d
DTSTART:20260506T080000
DTEND:20260506T083000
DESCRIPTION:
LOCATION:
SUMMARY:NJHS Officer ONLY lunch 
END:VEVENT
BEGIN:VEVENT
DTSTAMP:20260422T155809Z
UID:0f29b22e-069b-4ccb-a938-fe16bda7ee5f
DTSTART:20260506T080000
DTEND:20260506T083000
DESCRIPTION:<html><head><meta http-equiv="Content-Type" content="text/html\
 ; charset=utf-8"><meta name="ProgId" content="Word.Document"><meta name="G
 enerator" content="Microsoft Word 15"><meta name="Originator" content="Mic
 rosoft Word 15"><style><!--@font-face	{font-family:"Cambria Math"}@font-fa
 ce	{font-family:Aptos}p.MsoNormal\, li.MsoNormal\, div.MsoNormal	{margin:0
 in\;	font-size:12.0pt\;	font-family:"Aptos"\,sans-serif}a:link\, span.MsoH
 yperlink	{color:#467886\;	text-decoration:underline}a:visited\, span.MsoHy
 perlinkFollowed	{color:#96607D\;	text-decoration:underline}span.EmailStyle
 17	{font-family:"Aptos"\,sans-serif\;	color:windowtext}.MsoChpDefault	{}@p
 age WordSection1	{margin:1.0in 1.0in 1.0in 1.0in}div.WordSection1	{}--></s
 tyle></head><body lang="EN-US" link="#467886" vlink="#96607D" style="word-
 wrap:break-word"><div class="WordSection1"><p class="MsoNormal">&nbsp\;</p
 ></div></body></html>
LOCATION:
SUMMARY:PM3 FAST Math 7/8\, Algebra/Geometry EOC
END:VEVENT
BEGIN:VEVENT
DTSTAMP:20260422T155809Z
UID:922683b9-fb50-4af9-9d96-6063c84fe517
DTSTART:20260506T083000
DTEND:20260506T091500
DESCRIPTION:
LOCATION:
SUMMARY:SAC Meeting 
END:VEVENT
BEGIN:VEVENT
DTSTAMP:20260422T155809Z
UID:ec61a8aa-357e-4a2e-9f5d-0d30c75c1497
DTSTART:20260507T083000
DTEND:20260507T091500
DESCRIPTION:
LOCATION:
SUMMARY:Leadership Team Meeting 
END:VEVENT
BEGIN:VEVENT
DTSTAMP:20260422T155809Z
UID:37b30980-bf40-47e1-a3e2-1ab3ccff232e
DTSTART:20260509T083000
DTEND:20260509T120000
DESCRIPTION:
LOCATION:
SUMMARY:Civics Bootcamp 
END:VEVENT
BEGIN:VEVENT
DTSTAMP:20260422T155809Z
UID:751cf5fb-cbb8-462b-9593-1ff6dcbfb64d
DTSTART:20260512T083000
DTEND:20260512T091500
DESCRIPTION:
LOCATION:
SUMMARY:PTO Meeting 
END:VEVENT
BEGIN:VEVENT
DTSTAMP:20260422T155809Z
UID:6d1d7914-f535-42fa-ba06-316a8117c0d4
DTSTART:20260512T180000
DTEND:20260512T193000
DESCRIPTION:
LOCATION:
SUMMARY:Awards Ceremony 
END:VEVENT
BEGIN:VEVENT
DTSTAMP:20260422T155809Z
UID:d4d4f7c8-80b4-44b5-b2b9-1c6b5cae2a3d
DTSTART:20260513T080000
DTEND:20260513T083000
DESCRIPTION:
LOCATION:
SUMMARY:7th Civics EOC/BEST 8th Science 
END:VEVENT
BEGIN:VEVENT
DTSTAMP:20260422T155809Z
UID:eba95029-f0b1-435f-aaba-f3a2f5614377
DTSTART:20260513T090000
DTEND:20260513T093000
DESCRIPTION:
LOCATION:
SUMMARY:PTO Meeting 
END:VEVENT
BEGIN:VEVENT
DTSTAMP:20260422T155809Z
UID:2ea47da2-40f3-4c22-bcb3-db6b066c0132
DTSTART:20260514T083000
DTEND:20260514T090000
DESCRIPTION:
LOCATION:
SUMMARY:Faculty Meeting 
END:VEVENT
BEGIN:VEVENT
DTSTAMP:20260422T155809Z
UID:18383e48-0e69-4be2-ad6c-d4e93d412732
DTSTART:20260514T103000
DTEND:20260514T143000
DESCRIPTION:
LOCATION:
SUMMARY:Mentor/Mentee Field Trip 
END:VEVENT
BEGIN:VEVENT
DTSTAMP:20260422T155809Z
UID:495b1ced-c91b-4813-a3d1-2543ebda182a
DTSTART:20260514T143000
DTEND:20260514T153000
DESCRIPTION:
LOCATION:
SUMMARY:MYP Community Projects 
END:VEVENT
BEGIN:VEVENT
DTSTAMP:20260422T155809Z
UID:56516f40-a4d5-4d43-a45b-9b7a13b27b30
DTSTART:20260514T150000
DTEND:20260514T153000
DESCRIPTION:
LOCATION:
SUMMARY:Hawk Rock 
END:VEVENT
BEGIN:VEVENT
DTSTAMP:20260422T155809Z
UID:c58fc07d-a2b6-4445-b557-35335693a993
DTSTART:20260514T173000
DTEND:20260514T180000
DESCRIPTION:
LOCATION:
SUMMARY:2nd Semester Award Ceremony - Athletics 
END:VEVENT
BEGIN:VEVENT
DTSTAMP:20260422T155809Z
UID:03f6e8ef-a964-4592-8169-2aad572ee4e8
DTSTART:20260515T080000
DTEND:20260515T083000
DESCRIPTION:
LOCATION:
SUMMARY:Level Up Party
END:VEVENT
BEGIN:VEVENT
DTSTAMP:20260422T155809Z
UID:1ead34a8-77d9-4b29-ba86-9d720eb3be6c
DTSTART:20260518T080000
DTEND:20260518T083000
DESCRIPTION:
LOCATION:
SUMMARY:Busch Gardens field trip - 7th grade reach only 
END:VEVENT
BEGIN:VEVENT
DTSTAMP:20260422T155809Z
UID:e040e1e3-4fb3-4335-95fc-c3a00fbce556
DTSTART:20260518T080000
DTEND:20260518T083000
DESCRIPTION:
LOCATION:
SUMMARY:Science Recognition Celebration 
END:VEVENT
BEGIN:VEVENT
DTSTAMP:20260422T155809Z
UID:372781cc-ff58-4ee2-b26b-35e537ada820
DTSTART:20260519T080000
DTEND:20260519T083000
DESCRIPTION:
LOCATION:
SUMMARY:Civics Celebration 
END:VEVENT
BEGIN:VEVENT
DTSTAMP:20260422T155809Z
UID:d4c79dc2-925a-45f3-8bb2-1e581c28c6e6
DTSTART:20260519T090000
DTEND:20260519T093000
DESCRIPTION:
LOCATION:
SUMMARY:Department Meeting 
END:VEVENT
BEGIN:VEVENT
DTSTAMP:20260422T155809Z
UID:320b8d8e-41b5-4bb8-a01d-ac58830ba700
DTSTART:20260519T180000
DTEND:20260519T193000
DESCRIPTION:
LOCATION:
SUMMARY:Band & Orchestra Spring Concert 
END:VEVENT
BEGIN:VEVENT
DTSTAMP:20260422T155809Z
UID:c6bf5624-57ce-47f5-9430-b14acc7e0ab1
DTSTART:20260520T180000
DTEND:20260520T183000
DESCRIPTION:
LOCATION:
SUMMARY:Spring Chorus Concert 
END:VEVENT
BEGIN:VEVENT
DTSTAMP:20260422T155809Z
UID:70a8aa40-7252-4674-9d90-408ebdbd440c
DTSTART;VALUE=DATE:20260521
DTEND;VALUE=DATE:20260522
DESCRIPTION:
LOCATION:
SUMMARY:Science Research Field Trip 
END:VEVENT
BEGIN:VEVENT
DTSTAMP:20260422T155809Z
UID:ef5d94c0-8ad1-48ec-97a1-c4df8aab6ba3
DTSTART;VALUE=DATE:20260522
DTEND;VALUE=DATE:20260523
DESCRIPTION:
LOCATION:
SUMMARY:Exams
END:VEVENT
BEGIN:VEVENT
DTSTAMP:20260422T155809Z
UID:4a7bf4a1-3658-4dc1-ab4e-03cb393de729
DTSTART;VALUE=DATE:20260525
DTEND;VALUE=DATE:20260526
DESCRIPTION:
LOCATION:
SUMMARY:Memorial Day - Holiday for all
END:VEVENT
BEGIN:VEVENT
DTSTAMP:20260422T155809Z
UID:95923b35-7582-4718-872b-559c44f3080c
DTSTART;VALUE=DATE:20260526
DTEND;VALUE=DATE:20260528
DESCRIPTION:
LOCATION:
SUMMARY:Exams
END:VEVENT
BEGIN:VEVENT
DTSTAMP:20260422T155809Z
UID:4f7b0989-58c2-45a4-bb60-5c1312ce88d5
DTSTART:20260526T083000
DTEND:20260526T093000
DESCRIPTION:
LOCATION:
SUMMARY:ESE Meeting 
END:VEVENT
BEGIN:VEVENT
DTSTAMP:20260422T155809Z
UID:fc735ed2-51cf-4733-b47b-bab0dcacf725
DTSTART;VALUE=DATE:20260527
DTEND;VALUE=DATE:20260528
DESCRIPTION:
LOCATION:
SUMMARY:Fourth 9-weeks/Semester 2 ends - Last day of school
END:VEVENT
BEGIN:VEVENT
DTSTAMP:20260422T155809Z
UID:7f88e6c2-322c-49ec-a132-c5d0df64f52b
DTSTART;VALUE=DATE:20260803
DTEND;VALUE=DATE:20260808
DESCRIPTION:
LOCATION:
SUMMARY:Pre Planning for Teachers 
END:VEVENT
BEGIN:VEVENT
DTSTAMP:20260422T155809Z
UID:0bbdf044-cc5a-4dc4-8c6d-9542a4708378
DTSTART;VALUE=DATE:20260810
DTEND;VALUE=DATE:20260811
DESCRIPTION:
LOCATION:
SUMMARY:First Day of School for Students - First 9-weeks begins
END:VEVENT
END:VCALENDAR
