BEGIN:VCALENDAR
VERSION:2.0
PRODID:icalendar-ruby
CALSCALE:GREGORIAN
BEGIN:VTIMEZONE
TZID:America/Los_Angeles
BEGIN:DAYLIGHT
DTSTART:20260308T030000
TZOFFSETFROM:-0800
TZOFFSETTO:-0700
RRULE:FREQ=YEARLY;BYDAY=2SU;BYMONTH=3
TZNAME:PDT
END:DAYLIGHT
BEGIN:STANDARD
DTSTART:20261101T010000
TZOFFSETFROM:-0700
TZOFFSETTO:-0800
RRULE:FREQ=YEARLY;BYDAY=1SU;BYMONTH=11
TZNAME:PST
END:STANDARD
END:VTIMEZONE
BEGIN:VEVENT
DTSTAMP:20260423T095336Z
UID:70fc3345-346a-4857-8d6a-695e343133c4
DTSTART:20260428T173000
DTEND:20260428T183000
DESCRIPTION:
LOCATION:
SUMMARY:School Board Meeting
END:VEVENT
BEGIN:VEVENT
DTSTAMP:20260423T095336Z
UID:3246179f-610a-4d91-83fa-3e7683175d0b
DTSTART:20260514T130000
DTEND:20260514T134500
DESCRIPTION:
LOCATION:
SUMMARY:Kinder Concert
END:VEVENT
BEGIN:VEVENT
DTSTAMP:20260423T095336Z
UID:64f35e60-0365-4fda-917c-258f2428cbaf
DTSTART;VALUE=DATE:20260525
DTEND;VALUE=DATE:20260526
DESCRIPTION:
LOCATION:
SUMMARY:No School - Memorial Day
END:VEVENT
BEGIN:VEVENT
DTSTAMP:20260423T095336Z
UID:57a01316-5c18-45ff-8c50-2596c0663f6d
DTSTART:20260526T173000
DTEND:20260526T183000
DESCRIPTION:
LOCATION:
SUMMARY:School Board Meeting
END:VEVENT
BEGIN:VEVENT
DTSTAMP:20260423T095336Z
UID:76269011-2a10-408a-91db-9f940d8d5311
DTSTART;VALUE=DATE:20260529
DTEND;VALUE=DATE:20260530
DESCRIPTION:
LOCATION:
SUMMARY:Last Day of Preschool
END:VEVENT
BEGIN:VEVENT
DTSTAMP:20260423T095336Z
UID:255fdf19-6b29-4849-835a-b0ba11ecde3d
DTSTART:20260604T180000
DTEND:20260604T190000
DESCRIPTION:
LOCATION:
SUMMARY:Parent Lighthouse Meeting
END:VEVENT
BEGIN:VEVENT
DTSTAMP:20260423T095336Z
UID:5cc6de0b-aa29-49b4-8300-b8ac9ad0ecc3
DTSTART:20260608T122500
DTEND:20260608T132500
DESCRIPTION:
LOCATION:
SUMMARY:Early Release
END:VEVENT
BEGIN:VEVENT
DTSTAMP:20260423T095336Z
UID:fe77407e-2e0d-4efc-a1c8-4c48db8d8460
DTSTART:20260609T095000
DTEND:20260609T095000
DESCRIPTION:
LOCATION:
SUMMARY:Release Last Day of School
END:VEVENT
END:VCALENDAR
