BEGIN:VCALENDAR
VERSION:2.0
PRODID:icalendar-ruby
CALSCALE:GREGORIAN
BEGIN:VTIMEZONE
TZID:America/New_York
BEGIN:DAYLIGHT
DTSTART:20260308T030000
TZOFFSETFROM:-0500
TZOFFSETTO:-0400
RRULE:FREQ=YEARLY;BYDAY=2SU;BYMONTH=3
TZNAME:EDT
END:DAYLIGHT
BEGIN:STANDARD
DTSTART:20261101T010000
TZOFFSETFROM:-0400
TZOFFSETTO:-0500
RRULE:FREQ=YEARLY;BYDAY=1SU;BYMONTH=11
TZNAME:EST
END:STANDARD
END:VTIMEZONE
BEGIN:VEVENT
DTSTAMP:20260425T034651Z
UID:c5675db1-7ebf-4954-8c3b-a9955b1913ac
DTSTART:20260424T091500
DTEND:20260424T094500
DESCRIPTION:<html><head><meta http-equiv="Content-Type" content="text/html\
 ; charset=utf-8"></head><body><div></div></body></html>
LOCATION:VV Gym
SUMMARY:VV Rocks!
END:VEVENT
BEGIN:VEVENT
DTSTAMP:20260425T034651Z
UID:2f6f4198-9413-4b2c-a955-c8ab18236ef7
DTSTART:20260424T114000
DTEND:20260424T114000
DESCRIPTION:<html><head><meta http-equiv="Content-Type" content="text/html\
 ; charset=utf-8"><meta name="ProgId" content="Word.Document"><meta name="G
 enerator" content="Microsoft Word 15"><meta name="Originator" content="Mic
 rosoft Word 15"><style><!--@font-face	{font-family:"Cambria Math"}@font-fa
 ce	{font-family:Calibri}p.MsoNormal\, li.MsoNormal\, div.MsoNormal	{margin
 :0in\;	font-size:11.0pt\;	font-family:"Calibri"\,sans-serif}a:link\, span.
 MsoHyperlink	{color:#0563C1\;	text-decoration:underline}a:visited\, span.M
 soHyperlinkFollowed	{color:#954F72\;	text-decoration:underline}span.EmailS
 tyle17	{font-family:"Times New Roman"\,serif\;	color:windowtext}.MsoChpDef
 ault	{font-family:"Calibri"\,sans-serif}@page WordSection1	{margin:1.0in 1
 .0in 1.0in 1.0in}div.WordSection1	{}--></style></head><body lang="EN-US" l
 ink="#0563C1" vlink="#954F72" style="word-wrap:break-word"><div class="Wor
 dSection1"><p class="MsoNormal"><span style="font-size:14.0pt\; font-famil
 y:&quot\;Times New Roman&quot\;\,serif">&nbsp\;</span></p></div></body></h
 tml>
LOCATION:
SUMMARY:K-1 Early Dismissal-Parent Teacher Conference
END:VEVENT
BEGIN:VEVENT
DTSTAMP:20260425T034651Z
UID:79c8a4a9-b550-415a-b863-447115e9196b
DTSTART;VALUE=DATE:20260429
DTEND;VALUE=DATE:20260430
DESCRIPTION:<html><head><meta http-equiv="Content-Type" content="text/html\
 ; charset=utf-8"><meta name="Generator" content="Microsoft Exchange Server
 "><!-- converted from text --><style><!-- .EmailQuote { margin-left: 1pt\;
  padding-left: 4pt\; border-left: #800000 2px solid\; } --></style></head>
 <body><font size="2"><span style="font-size:11pt\;"><div class="PlainText"
 >&nbsp\;</div></span></font></body></html>
LOCATION:
SUMMARY:NYS ELA Tests Grade 3
END:VEVENT
BEGIN:VEVENT
DTSTAMP:20260425T034651Z
UID:2d85bc36-83c7-4966-a278-25629d1cb975
DTSTART;VALUE=DATE:20260430
DTEND;VALUE=DATE:20260501
DESCRIPTION:<html><head><meta http-equiv="Content-Type" content="text/html\
 ; charset=utf-8"><meta name="ProgId" content="Word.Document"><meta name="G
 enerator" content="Microsoft Word 15"><meta name="Originator" content="Mic
 rosoft Word 15"><style><!--@font-face	{font-family:"Cambria Math"}@font-fa
 ce	{font-family:Calibri}p.MsoNormal\, li.MsoNormal\, div.MsoNormal	{margin
 :0in\;	font-size:11.0pt\;	font-family:"Calibri"\,sans-serif}a:link\, span.
 MsoHyperlink	{color:#0563C1\;	text-decoration:underline}a:visited\, span.M
 soHyperlinkFollowed	{color:#954F72\;	text-decoration:underline}span.EmailS
 tyle17	{font-family:"Times New Roman"\,serif\;	color:windowtext}.MsoChpDef
 ault	{font-family:"Calibri"\,sans-serif}@page WordSection1	{margin:1.0in 1
 .0in 1.0in 1.0in}div.WordSection1	{}--></style></head><body lang="EN-US" l
 ink="#0563C1" vlink="#954F72" style="word-wrap:break-word"><div class="Wor
 dSection1"><p class="MsoNormal"><span style="font-size:14.0pt\; font-famil
 y:&quot\;Times New Roman&quot\;\,serif">&nbsp\;</span></p></div></body></h
 tml>
LOCATION:
SUMMARY:NYS ELA Tests Grade 3
END:VEVENT
BEGIN:VEVENT
DTSTAMP:20260425T034651Z
UID:72138e96-fe26-424e-b767-b36b7d97d9bb
DTSTART:20260504T080000
DTEND:20260504T083000
DESCRIPTION:<html><head><meta http-equiv="Content-Type" content="text/html\
 ; charset=utf-8"></head><body><div></div></body></html>
LOCATION:
SUMMARY:VV RIF Day
END:VEVENT
BEGIN:VEVENT
DTSTAMP:20260425T034651Z
UID:1c19fa56-22ee-40ad-813b-017fd2f496e2
DTSTART:20260505T183000
DTEND:20260505T190000
DESCRIPTION:<html><head><meta http-equiv="Content-Type" content="text/html\
 ; charset=utf-8"></head><body><div></div></body></html>
LOCATION:VV Library
SUMMARY:VV PTO Meeting
END:VEVENT
BEGIN:VEVENT
DTSTAMP:20260425T034651Z
UID:dafc1a95-6696-4eb5-9201-ba89104973e1
DTSTART;VALUE=DATE:20260506
DTEND;VALUE=DATE:20260507
DESCRIPTION:<html><head><meta http-equiv="Content-Type" content="text/html\
 ; charset=utf-8"><meta name="Generator" content="Microsoft Exchange Server
 "><style><!--.EmailQuote	{margin-left:1pt\;	padding-left:4pt\;	border-left
 :#800000 2px solid}--></style></head><body><font size="2"><span style="fon
 t-size:11pt"><div class="PlainText">&nbsp\;</div></span></font></body></ht
 ml>
LOCATION:
SUMMARY:NYS Math Tests Grades 3-8
END:VEVENT
BEGIN:VEVENT
DTSTAMP:20260425T034651Z
UID:0a30c2ba-d640-4c11-8bdb-8f9f3b42f393
DTSTART;VALUE=DATE:20260507
DTEND;VALUE=DATE:20260508
DESCRIPTION:<html><head><meta http-equiv="Content-Type" content="text/html\
 ; charset=utf-8"><meta name="ProgId" content="Word.Document"><meta name="G
 enerator" content="Microsoft Word 15"><meta name="Originator" content="Mic
 rosoft Word 15"><style><!--@font-face	{font-family:"Cambria Math"}@font-fa
 ce	{font-family:Calibri}p.MsoNormal\, li.MsoNormal\, div.MsoNormal	{margin
 :0in\;	font-size:11.0pt\;	font-family:"Calibri"\,sans-serif}a:link\, span.
 MsoHyperlink	{color:#0563C1\;	text-decoration:underline}a:visited\, span.M
 soHyperlinkFollowed	{color:#954F72\;	text-decoration:underline}span.EmailS
 tyle17	{font-family:"Times New Roman"\,serif\;	color:windowtext}.MsoChpDef
 ault	{font-family:"Calibri"\,sans-serif}@page WordSection1	{margin:1.0in 1
 .0in 1.0in 1.0in}--></style></head><body><div class="WordSection1"><p clas
 s="MsoNormal"><span style="font-size:14.0pt\; font-family:&quot\;Times New
  Roman&quot\;\,serif">&nbsp\;</span></p></div></body></html>
LOCATION:
SUMMARY:NYS Math Tests Grades 3-8
END:VEVENT
BEGIN:VEVENT
DTSTAMP:20260425T034651Z
UID:beeef4cc-1803-4f62-a199-17c407e9d6d5
DTSTART;VALUE=DATE:20260508
DTEND;VALUE=DATE:20260509
DESCRIPTION:<html><head><meta http-equiv="Content-Type" content="text/html\
 ; charset=utf-8"><meta name="Generator" content="Microsoft Exchange Server
 "><!-- converted from text --><style><!-- .EmailQuote { margin-left: 1pt\;
  padding-left: 4pt\; border-left: #800000 2px solid\; } --></style></head>
 <body><font size="2"><span style="font-size:11pt\;"><div class="PlainText"
 >&nbsp\;</div></span></font></body></html>
LOCATION:
SUMMARY:4th Quarter Interim
END:VEVENT
BEGIN:VEVENT
DTSTAMP:20260425T034651Z
UID:122b77ef-0a87-48a5-8c8e-e37969871265
DTSTART;VALUE=DATE:20260512
DTEND;VALUE=DATE:20260513
DESCRIPTION:<html><head><meta http-equiv="Content-Type" content="text/html\
 ; charset=utf-8"><meta name="Generator" content="Microsoft Exchange Server
 "><!-- converted from text --><style><!-- .EmailQuote { margin-left: 1pt\;
  padding-left: 4pt\; border-left: #800000 2px solid\; } --></style></head>
 <body><font size="2"><span style="font-size:11pt\;"><div class="PlainText"
 >&nbsp\;</div></span></font></body></html>
LOCATION:
SUMMARY:NYS Math Tests Grade 3
END:VEVENT
BEGIN:VEVENT
DTSTAMP:20260425T034651Z
UID:0c9c990b-ceff-4067-a2b4-88273d8ccc9e
DTSTART:20260513T090000
DTEND:20260513T093000
DESCRIPTION:<html><head><meta http-equiv="Content-Type" content="text/html\
 ; charset=utf-8"></head><body><div></div></body></html>
LOCATION:
SUMMARY:VV 5th Gr Visits OMS
END:VEVENT
BEGIN:VEVENT
DTSTAMP:20260425T034651Z
UID:2dd88a9b-a200-4e94-a401-70480a9faa63
DTSTART;VALUE=DATE:20260519
DTEND;VALUE=DATE:20260520
DESCRIPTION:<html><head><meta http-equiv="Content-Type" content="text/html\
 ; charset=utf-8"><meta name="Generator" content="Microsoft Exchange Server
 "><!-- converted from text --><style><!-- .EmailQuote { margin-left: 1pt\;
  padding-left: 4pt\; border-left: #800000 2px solid\; } --></style></head>
 <body><font size="2"><span style="font-size:11pt\;"><div class="PlainText"
 >&nbsp\;</div></span></font></body></html>
LOCATION:
SUMMARY:NYS Science Tests Grades 5 & 8
END:VEVENT
BEGIN:VEVENT
DTSTAMP:20260425T034651Z
UID:5f87715e-358d-4240-8948-c85aabf72c97
DTSTART:20260520T114000
DTEND:20260520T114000
DESCRIPTION:<html><head><meta http-equiv="Content-Type" content="text/html\
 ; charset=utf-8"><meta name="ProgId" content="Word.Document"><meta name="G
 enerator" content="Microsoft Word 15"><meta name="Originator" content="Mic
 rosoft Word 15"><style><!--@font-face	{font-family:"Cambria Math"}@font-fa
 ce	{font-family:Calibri}p.MsoNormal\, li.MsoNormal\, div.MsoNormal	{margin
 :0in\;	font-size:11.0pt\;	font-family:"Calibri"\,sans-serif}a:link\, span.
 MsoHyperlink	{color:#0563C1\;	text-decoration:underline}a:visited\, span.M
 soHyperlinkFollowed	{color:#954F72\;	text-decoration:underline}span.EmailS
 tyle17	{font-family:"Times New Roman"\,serif\;	color:windowtext}.MsoChpDef
 ault	{font-family:"Calibri"\,sans-serif}@page WordSection1	{margin:1.0in 1
 .0in 1.0in 1.0in}div.WordSection1	{}--></style></head><body lang="EN-US" l
 ink="#0563C1" vlink="#954F72" style="word-wrap:break-word"><div class="Wor
 dSection1"><p class="MsoNormal"><span style="font-size:14.0pt\; font-famil
 y:&quot\;Times New Roman&quot\;\,serif">&nbsp\;</span></p></div></body></h
 tml>
LOCATION:
SUMMARY:K-5 Early Dismissal-Staff Development 
END:VEVENT
BEGIN:VEVENT
DTSTAMP:20260425T034651Z
UID:340220c3-8fb9-4440-ba69-96bdb2c5b117
DTSTART;VALUE=DATE:20260525
DTEND;VALUE=DATE:20260526
DESCRIPTION:<html><head><meta http-equiv="Content-Type" content="text/html\
 ; charset=utf-8"><meta name="Generator" content="Microsoft Exchange Server
 "><!-- converted from text --><style><!-- .EmailQuote { margin-left: 1pt\;
  padding-left: 4pt\; border-left: #800000 2px solid\; } --></style></head>
 <body><font size="2"><span style="font-size:11pt\;"><div class="PlainText"
 >&nbsp\;</div></span></font></body></html>
LOCATION:
SUMMARY:No School-Memorial Day
END:VEVENT
BEGIN:VEVENT
DTSTAMP:20260425T034651Z
UID:8934d319-806e-4742-880f-54a81fcdf7f1
DTSTART:20260602T183000
DTEND:20260602T190000
DESCRIPTION:<html><head><meta http-equiv="Content-Type" content="text/html\
 ; charset=utf-8"></head><body><div></div></body></html>
LOCATION:VV Library
SUMMARY:VV PTO Meeting
END:VEVENT
BEGIN:VEVENT
DTSTAMP:20260425T034651Z
UID:c44a6bcb-65a7-4146-b935-82f823dc326c
DTSTART:20260604T090000
DTEND:20260604T110000
DESCRIPTION:
LOCATION:70 River St #2358\, Oneonta\, NY 13820\, USA
SUMMARY:2nd & 3rd Grade Career Fair @ The Oneonta Boys & Girls Club
END:VEVENT
BEGIN:VEVENT
DTSTAMP:20260425T034651Z
UID:c42b37e0-8145-480c-84ca-7926b1d55427
DTSTART:20260610T093000
DTEND:20260610T110000
DESCRIPTION:<html><head><meta http-equiv="Content-Type" content="text/html\
 ; charset=utf-8"></head><body><div class="elementToProof" style="font-fami
 ly:Aptos\,Aptos_EmbeddedFont\,Aptos_MSFontService\,Calibri\,Helvetica\,san
 s-serif\; font-size:12pt\; color:rgb(0\,0\,0)">Actual end time is 10:45 am
 </div></body></html>
LOCATION:VV Back Field
SUMMARY:VV Field Days (Grs 3-5)
END:VEVENT
BEGIN:VEVENT
DTSTAMP:20260425T034651Z
UID:016871b5-37b0-4e4d-b0ed-0210f5f19555
DTSTART:20260610T130000
DTEND:20260610T143000
DESCRIPTION:<html><head><meta http-equiv="Content-Type" content="text/html\
 ; charset=utf-8"></head><body><div class="elementToProof" style="font-fami
 ly:Aptos\,Aptos_EmbeddedFont\,Aptos_MSFontService\,Calibri\,Helvetica\,san
 s-serif\; font-size:12pt\; color:rgb(0\,0\,0)">Actual start time 1:15 pm</
 div></body></html>
LOCATION:
SUMMARY:VV Field Days (Grs K-2)
END:VEVENT
BEGIN:VEVENT
DTSTAMP:20260425T034651Z
UID:c43d6ff2-2254-4828-8322-e1ee5642abb6
DTSTART:20260611T140000
DTEND:20260611T143000
DESCRIPTION:<html><head><meta http-equiv="Content-Type" content="text/html\
 ; charset=utf-8"></head><body><div></div></body></html>
LOCATION:VV Gym
SUMMARY:VV Spring Concert
END:VEVENT
BEGIN:VEVENT
DTSTAMP:20260425T034651Z
UID:bec72edf-9316-4fb3-bd14-d17911f5c63c
DTSTART:20260611T190000
DTEND:20260611T193000
DESCRIPTION:<html><head><meta http-equiv="Content-Type" content="text/html\
 ; charset=utf-8"></head><body><div></div></body></html>
LOCATION:OHS Auditorium
SUMMARY:VV Spring Concert
END:VEVENT
BEGIN:VEVENT
DTSTAMP:20260425T034651Z
UID:2083e3c2-2628-4710-b9eb-a698f8a73c71
DTSTART:20260618T091500
DTEND:20260618T094500
DESCRIPTION:<html><head><meta http-equiv="Content-Type" content="text/html\
 ; charset=utf-8"></head><body><div></div></body></html>
LOCATION:VV Gym
SUMMARY:VV Rocks!
END:VEVENT
BEGIN:VEVENT
DTSTAMP:20260425T034651Z
UID:722d0678-77fe-46f8-bf38-fd5b20c654d3
DTSTART;VALUE=DATE:20260619
DTEND;VALUE=DATE:20260620
DESCRIPTION:<html><head><meta http-equiv="Content-Type" content="text/html\
 ; charset=utf-8"><meta name="Generator" content="Microsoft Exchange Server
 "><!-- converted from text --><style><!-- .EmailQuote { margin-left: 1pt\;
  padding-left: 4pt\; border-left: #800000 2px solid\; } --></style></head>
 <body><font size="2"><span style="font-size:11pt\;"><div class="PlainText"
 >&nbsp\;</div></span></font></body></html>
LOCATION:
SUMMARY:No School-Juneteenth
END:VEVENT
BEGIN:VEVENT
DTSTAMP:20260425T034651Z
UID:5e3b5b0a-817f-475c-bbcf-6f753acea9c6
DTSTART:20260622T114000
DTEND:20260622T121000
DESCRIPTION:
LOCATION:
SUMMARY:K-5 Early Dismissal
END:VEVENT
BEGIN:VEVENT
DTSTAMP:20260425T034651Z
UID:2b72181f-d24c-4ef4-a3b5-f6209fcd1723
DTSTART:20260623T114000
DTEND:20260623T114000
DESCRIPTION:<html><head><meta http-equiv="Content-Type" content="text/html\
 ; charset=utf-8"><meta name="ProgId" content="Word.Document"><meta name="G
 enerator" content="Microsoft Word 15"><meta name="Originator" content="Mic
 rosoft Word 15"><style><!--@font-face	{font-family:"Cambria Math"}@font-fa
 ce	{font-family:Calibri}p.MsoNormal\, li.MsoNormal\, div.MsoNormal	{margin
 :0in\;	font-size:11.0pt\;	font-family:"Calibri"\,sans-serif}a:link\, span.
 MsoHyperlink	{color:#0563C1\;	text-decoration:underline}a:visited\, span.M
 soHyperlinkFollowed	{color:#954F72\;	text-decoration:underline}span.EmailS
 tyle17	{font-family:"Times New Roman"\,serif\;	color:windowtext}.MsoChpDef
 ault	{font-family:"Calibri"\,sans-serif}@page WordSection1	{margin:1.0in 1
 .0in 1.0in 1.0in}div.WordSection1	{}--></style></head><body lang="EN-US" l
 ink="#0563C1" vlink="#954F72" style="word-wrap:break-word"><div class="Wor
 dSection1"><p class="MsoNormal"><span style="font-size:14.0pt\; font-famil
 y:&quot\;Times New Roman&quot\;\,serif">&nbsp\;</span></p></div></body></h
 tml>
LOCATION:
SUMMARY:K-5 Early Dismissal
END:VEVENT
BEGIN:VEVENT
DTSTAMP:20260425T034651Z
UID:d6e14510-c53f-4e18-8aee-627dbec468df
DTSTART:20260624T093000
DTEND:20260624T100000
DESCRIPTION:<html><head><meta http-equiv="Content-Type" content="text/html\
 ; charset=utf-8"></head><body><div></div></body></html>
LOCATION:VV Gym
SUMMARY:VV 5th Gr Graduation Celebration
END:VEVENT
BEGIN:VEVENT
DTSTAMP:20260425T034651Z
UID:ffd78668-3c45-45a9-bbf4-23c0cfbae400
DTSTART:20260624T114000
DTEND:20260624T114000
DESCRIPTION:<html><head><meta http-equiv="Content-Type" content="text/html\
 ; charset=utf-8"><meta name="ProgId" content="Word.Document"><meta name="G
 enerator" content="Microsoft Word 15"><meta name="Originator" content="Mic
 rosoft Word 15"><style><!--@font-face	{font-family:"Cambria Math"}@font-fa
 ce	{font-family:Calibri}p.MsoNormal\, li.MsoNormal\, div.MsoNormal	{margin
 :0in\;	font-size:11.0pt\;	font-family:"Calibri"\,sans-serif}a:link\, span.
 MsoHyperlink	{color:#0563C1\;	text-decoration:underline}a:visited\, span.M
 soHyperlinkFollowed	{color:#954F72\;	text-decoration:underline}span.EmailS
 tyle17	{font-family:"Times New Roman"\,serif\;	color:windowtext}.MsoChpDef
 ault	{font-family:"Calibri"\,sans-serif}@page WordSection1	{margin:1.0in 1
 .0in 1.0in 1.0in}div.WordSection1	{}--></style></head><body lang="EN-US" l
 ink="#0563C1" vlink="#954F72" style="word-wrap:break-word"><div class="Wor
 dSection1"><p class="MsoNormal"><span style="font-size:14.0pt\; font-famil
 y:&quot\;Times New Roman&quot\;\,serif">&nbsp\;</span></p></div></body></h
 tml>
LOCATION:
SUMMARY:K-5 Early Dismissal
END:VEVENT
BEGIN:VEVENT
DTSTAMP:20260425T034651Z
UID:016b4bc2-bf87-497f-b345-991f8fc2a0e2
DTSTART:20260625T114000
DTEND:20260625T114000
DESCRIPTION:<html><head><meta http-equiv="Content-Type" content="text/html\
 ; charset=utf-8"><meta name="ProgId" content="Word.Document"><meta name="G
 enerator" content="Microsoft Word 15"><meta name="Originator" content="Mic
 rosoft Word 15"><style><!--@font-face	{font-family:"Cambria Math"}@font-fa
 ce	{font-family:Calibri}p.MsoNormal\, li.MsoNormal\, div.MsoNormal	{margin
 :0in\;	font-size:11.0pt\;	font-family:"Calibri"\,sans-serif}a:link\, span.
 MsoHyperlink	{color:#0563C1\;	text-decoration:underline}a:visited\, span.M
 soHyperlinkFollowed	{color:#954F72\;	text-decoration:underline}span.EmailS
 tyle17	{font-family:"Times New Roman"\,serif\;	color:windowtext}.MsoChpDef
 ault	{font-family:"Calibri"\,sans-serif}@page WordSection1	{margin:1.0in 1
 .0in 1.0in 1.0in}div.WordSection1	{}--></style></head><body lang="EN-US" l
 ink="#0563C1" vlink="#954F72" style="word-wrap:break-word"><div class="Wor
 dSection1"><p class="MsoNormal"><span style="font-size:14.0pt\; font-famil
 y:&quot\;Times New Roman&quot\;\,serif">&nbsp\;</span></p></div></body></h
 tml>
LOCATION:
SUMMARY:K-5 Early Dismissal
END:VEVENT
BEGIN:VEVENT
DTSTAMP:20260425T034651Z
UID:ad7ed1ee-bd1e-4abb-bc9f-3709edfbc152
DTSTART;VALUE=DATE:20260626
DTEND;VALUE=DATE:20260627
DESCRIPTION:<html><head><meta http-equiv="Content-Type" content="text/html\
 ; charset=utf-8"><meta name="Generator" content="Microsoft Exchange Server
 "><!-- converted from text --><style><!-- .EmailQuote { margin-left: 1pt\;
  padding-left: 4pt\; border-left: #800000 2px solid\; } --></style></head>
 <body><font size="2"><span style="font-size:11pt\;"><div class="PlainText"
 >&nbsp\;</div></span></font></body></html>
LOCATION:
SUMMARY:4th Quarter Ends
END:VEVENT
BEGIN:VEVENT
DTSTAMP:20260425T034651Z
UID:f088cee7-0b27-47d2-b985-0c7332b81eae
DTSTART;VALUE=DATE:20260626
DTEND;VALUE=DATE:20260627
DESCRIPTION:<html><head><meta http-equiv="Content-Type" content="text/html\
 ; charset=utf-8"><meta name="Generator" content="Microsoft Exchange Server
 "><!-- converted from text --><style><!-- .EmailQuote { margin-left: 1pt\;
  padding-left: 4pt\; border-left: #800000 2px solid\; } --></style></head>
 <body><font size="2"><span style="font-size:11pt\;"><div class="PlainText"
 >&nbsp\;</div></span></font></body></html>
LOCATION:
SUMMARY:Last Day of School
END:VEVENT
BEGIN:VEVENT
DTSTAMP:20260425T034651Z
UID:77f18942-698a-43a7-9df4-f06e849c164d
DTSTART:20260626T114000
DTEND:20260626T114000
DESCRIPTION:<html><head><meta http-equiv="Content-Type" content="text/html\
 ; charset=utf-8"><meta name="ProgId" content="Word.Document"><meta name="G
 enerator" content="Microsoft Word 15"><meta name="Originator" content="Mic
 rosoft Word 15"><style><!--@font-face	{font-family:"Cambria Math"}@font-fa
 ce	{font-family:Calibri}p.MsoNormal\, li.MsoNormal\, div.MsoNormal	{margin
 :0in\;	font-size:11.0pt\;	font-family:"Calibri"\,sans-serif}a:link\, span.
 MsoHyperlink	{color:#0563C1\;	text-decoration:underline}a:visited\, span.M
 soHyperlinkFollowed	{color:#954F72\;	text-decoration:underline}span.EmailS
 tyle17	{font-family:"Times New Roman"\,serif\;	color:windowtext}.MsoChpDef
 ault	{font-family:"Calibri"\,sans-serif}@page WordSection1	{margin:1.0in 1
 .0in 1.0in 1.0in}div.WordSection1	{}--></style></head><body lang="EN-US" l
 ink="#0563C1" vlink="#954F72" style="word-wrap:break-word"><div class="Wor
 dSection1"><p class="MsoNormal"><span style="font-size:14.0pt\; font-famil
 y:&quot\;Times New Roman&quot\;\,serif">&nbsp\;</span></p></div></body></h
 tml>
LOCATION:
SUMMARY:K-5 Early Dismissal
END:VEVENT
END:VCALENDAR
