BEGIN:VCALENDAR
VERSION:2.0
PRODID:icalendar-ruby
CALSCALE:GREGORIAN
BEGIN:VTIMEZONE
TZID:America/New_York
BEGIN:DAYLIGHT
DTSTART:20260308T030000
TZOFFSETFROM:-0500
TZOFFSETTO:-0400
RRULE:FREQ=YEARLY;BYDAY=2SU;BYMONTH=3
TZNAME:EDT
END:DAYLIGHT
BEGIN:STANDARD
DTSTART:20261101T010000
TZOFFSETFROM:-0400
TZOFFSETTO:-0500
RRULE:FREQ=YEARLY;BYDAY=1SU;BYMONTH=11
TZNAME:EST
END:STANDARD
END:VTIMEZONE
BEGIN:VEVENT
DTSTAMP:20260425T034600Z
UID:9d9baa4c-cd35-4598-806c-815048453127
DTSTART:20260424T091500
DTEND:20260424T094500
DESCRIPTION:<html><head><meta http-equiv="Content-Type" content="text/html\
 ; charset=utf-8"></head><body><div></div></body></html>
LOCATION:RS GYM
SUMMARY:RS Pride Program
END:VEVENT
BEGIN:VEVENT
DTSTAMP:20260425T034600Z
UID:a462d460-794e-4b18-81e1-315f065ac11f
DTSTART:20260424T114000
DTEND:20260424T114000
DESCRIPTION:<html><head><meta http-equiv="Content-Type" content="text/html\
 ; charset=utf-8"></head><body><div class="cal_bd2e"><div><div class="x_cal
 _e2fe"><div><div></div></div></div></div></div></body></html>
LOCATION:
SUMMARY:K & 1 Parent Teacher Conference 11:40 Dismissal K & 1st ONLY
END:VEVENT
BEGIN:VEVENT
DTSTAMP:20260425T034600Z
UID:9d952363-e038-402f-9300-d4ecd23b4e31
DTSTART;VALUE=DATE:20260428
DTEND;VALUE=DATE:20260429
DESCRIPTION:<html><head><meta http-equiv="Content-Type" content="text/html\
 ; charset=utf-8"><meta name="Generator" content="Microsoft Exchange Server
 "><!-- converted from text --><style><!-- .EmailQuote { margin-left: 1pt\;
  padding-left: 4pt\; border-left: #800000 2px solid\; } --></style></head>
 <body><font size="2"><span style="font-size:11pt\;"><div class="PlainText"
 >&nbsp\;</div></span></font></body></html>
LOCATION:
SUMMARY:NYS ELA Tests Grade 3
END:VEVENT
BEGIN:VEVENT
DTSTAMP:20260425T034600Z
UID:c234108e-af1b-4d26-b45c-d6678df82972
DTSTART;VALUE=DATE:20260429
DTEND;VALUE=DATE:20260430
DESCRIPTION:
LOCATION:
SUMMARY:Bike-A-Thon
END:VEVENT
BEGIN:VEVENT
DTSTAMP:20260425T034600Z
UID:eae9dcf7-509b-499c-b22f-9595b29f7e6e
DTSTART;VALUE=DATE:20260429
DTEND;VALUE=DATE:20260430
DESCRIPTION:<html><head><meta http-equiv="Content-Type" content="text/html\
 ; charset=utf-8"></head><body><div></div></body></html>
LOCATION:
SUMMARY:NYS Testing-ELA Grade 3
END:VEVENT
BEGIN:VEVENT
DTSTAMP:20260425T034600Z
UID:608d9003-c2ec-41b7-b067-2dc514040c8c
DTSTART;VALUE=DATE:20260430
DTEND;VALUE=DATE:20260501
DESCRIPTION:
LOCATION:
SUMMARY:NYS ELA Test Grade 3
END:VEVENT
BEGIN:VEVENT
DTSTAMP:20260425T034600Z
UID:99bcafc3-cc15-4743-9404-a6141f41a14b
DTSTART;VALUE=DATE:20260506
DTEND;VALUE=DATE:20260507
DESCRIPTION:<html><head><meta http-equiv="Content-Type" content="text/html\
 ; charset=utf-8"></head><body><div></div></body></html>
LOCATION:
SUMMARY:NYS Math Testing Grades 3-8
END:VEVENT
BEGIN:VEVENT
DTSTAMP:20260425T034600Z
UID:b22bbdf4-abc5-487e-a1a8-e0875ed6761e
DTSTART;VALUE=DATE:20260507
DTEND;VALUE=DATE:20260508
DESCRIPTION:<html><head><meta http-equiv="Content-Type" content="text/html\
 ; charset=utf-8"></head><body><div class="cal_13f"><div><div></div></div><
 /div></body></html>
LOCATION:
SUMMARY:NYS Math Testing Grades 3-8
END:VEVENT
BEGIN:VEVENT
DTSTAMP:20260425T034600Z
UID:6dbc2586-5821-4bdc-827e-43b47655b783
DTSTART;VALUE=DATE:20260508
DTEND;VALUE=DATE:20260509
DESCRIPTION:<html><head><meta http-equiv="Content-Type" content="text/html\
 ; charset=utf-8"></head><body><div></div></body></html>
LOCATION:
SUMMARY:4th Quarter Interim
END:VEVENT
BEGIN:VEVENT
DTSTAMP:20260425T034600Z
UID:62d52cc2-906e-45cc-8d98-43b4e4f9e4a5
DTSTART;VALUE=DATE:20260508
DTEND;VALUE=DATE:20260509
DESCRIPTION:<html><head><meta http-equiv="Content-Type" content="text/html\
 ; charset=utf-8"></head><body><div></div></body></html>
LOCATION:
SUMMARY:RS RIF Day
END:VEVENT
BEGIN:VEVENT
DTSTAMP:20260425T034600Z
UID:026b5200-aad8-4e37-b54e-3ed16f8825bc
DTSTART;VALUE=DATE:20260511
DTEND;VALUE=DATE:20260512
DESCRIPTION:<html><head><meta http-equiv="Content-Type" content="text/html\
 ; charset=utf-8"></head><body><div class="cal_2bca"><div><div></div></div>
 </div></body></html>
LOCATION:
SUMMARY:5th Grade Visit to OMS (RS)
END:VEVENT
BEGIN:VEVENT
DTSTAMP:20260425T034600Z
UID:f278ee01-65a9-4ae1-8f53-28c72a5039ec
DTSTART;VALUE=DATE:20260512
DTEND;VALUE=DATE:20260513
DESCRIPTION:
LOCATION:
SUMMARY:NYS Science Tests Grades 5 & 8
END:VEVENT
BEGIN:VEVENT
DTSTAMP:20260425T034600Z
UID:1be087c8-f565-4bf1-bdee-2f5e7bf7c8eb
DTSTART;VALUE=DATE:20260520
DTEND;VALUE=DATE:20260521
DESCRIPTION:<html><head><meta http-equiv="Content-Type" content="text/html\
 ; charset=utf-8"></head><body><div></div></body></html>
LOCATION:
SUMMARY:Staff Development Day-11:40 am Dismissal
END:VEVENT
BEGIN:VEVENT
DTSTAMP:20260425T034600Z
UID:f8706599-ff0a-49cb-962f-88bfc4048c95
DTSTART:20260520T113000
DTEND:20260520T120000
DESCRIPTION:<html><head><meta http-equiv="Content-Type" content="text/html\
 ; charset=utf-8"><meta name="Generator" content="Microsoft Exchange Server
 "><!-- converted from text --><style><!-- .EmailQuote { margin-left: 1pt\;
  padding-left: 4pt\; border-left: #800000 2px solid\; } --></style></head>
 <body><font size="2"><span style="font-size:11pt\;"><div class="PlainText"
 >&nbsp\;</div></span></font></body></html>
LOCATION:
SUMMARY:NYS Math Tests Grade 3
END:VEVENT
BEGIN:VEVENT
DTSTAMP:20260425T034600Z
UID:efdfbdc8-d774-44a4-9d00-66e5acb942df
DTSTART;VALUE=DATE:20260525
DTEND;VALUE=DATE:20260526
DESCRIPTION:<html><head><meta http-equiv="Content-Type" content="text/html\
 ; charset=utf-8"></head><body><div></div></body></html>
LOCATION:
SUMMARY:No School-Memorial Day
END:VEVENT
BEGIN:VEVENT
DTSTAMP:20260425T034600Z
UID:24dd1eee-81bc-4bbb-ab62-98a3af5136ea
DTSTART:20260529T091500
DTEND:20260529T094500
DESCRIPTION:<html><head><meta http-equiv="Content-Type" content="text/html\
 ; charset=utf-8"></head><body><div></div></body></html>
LOCATION:RS GYM
SUMMARY:RS Pride Program
END:VEVENT
BEGIN:VEVENT
DTSTAMP:20260425T034600Z
UID:0b425646-d6cb-4305-a692-bfe295c10065
DTSTART:20260604T090000
DTEND:20260604T110000
DESCRIPTION:
LOCATION:70 River St #2358\, Oneonta\, NY 13820\, USA
SUMMARY:2nd & 3rd Grade Career Fair @ The Oneonta Boys & Girls Club
END:VEVENT
BEGIN:VEVENT
DTSTAMP:20260425T034600Z
UID:3b3d778e-bba4-4394-b9da-cc8d20b011ee
DTSTART:20260609T141500
DTEND:20260609T144500
DESCRIPTION:<html><head><meta http-equiv="Content-Type" content="text/html\
 ; charset=utf-8"></head><body><div></div></body></html>
LOCATION:
SUMMARY:RS Spring Concert
END:VEVENT
BEGIN:VEVENT
DTSTAMP:20260425T034600Z
UID:b8203aa7-b99b-4279-8064-4a6161406303
DTSTART:20260609T180000
DTEND:20260609T190000
DESCRIPTION:<html><head><meta http-equiv="Content-Type" content="text/html\
 ; charset=utf-8"></head><body><div></div></body></html>
LOCATION:RS Gym
SUMMARY:RS Spring Concert
END:VEVENT
BEGIN:VEVENT
DTSTAMP:20260425T034600Z
UID:792e2ce4-38a6-48ee-830e-e0a418e4fe2e
DTSTART:20260618T091500
DTEND:20260618T094500
DESCRIPTION:<html><head><meta http-equiv="Content-Type" content="text/html\
 ; charset=utf-8"></head><body><div></div></body></html>
LOCATION:RS GYM
SUMMARY:RS Pride Program
END:VEVENT
BEGIN:VEVENT
DTSTAMP:20260425T034600Z
UID:9c47d18a-99b6-4086-a4bb-b5eab161379b
DTSTART;VALUE=DATE:20260619
DTEND;VALUE=DATE:20260620
DESCRIPTION:<html><head><meta http-equiv="Content-Type" content="text/html\
 ; charset=utf-8"></head><body><div></div></body></html>
LOCATION:
SUMMARY:No School-Juneteenth
END:VEVENT
BEGIN:VEVENT
DTSTAMP:20260425T034600Z
UID:fadccabe-1901-431d-858a-db544dddb0f2
DTSTART:20260622T114000
DTEND:20260622T114000
DESCRIPTION:<html><head><meta http-equiv="Content-Type" content="text/html\
 ; charset=utf-8"><meta name="ProgId" content="Word.Document"><meta name="G
 enerator" content="Microsoft Word 15"><meta name="Originator" content="Mic
 rosoft Word 15"><style><!--@font-face	{font-family:"Cambria Math"}@font-fa
 ce	{font-family:Calibri}p.MsoNormal\, li.MsoNormal\, div.MsoNormal	{margin
 :0in\;	font-size:11.0pt\;	font-family:"Calibri"\,sans-serif}a:link\, span.
 MsoHyperlink	{color:#0563C1\;	text-decoration:underline}a:visited\, span.M
 soHyperlinkFollowed	{color:#954F72\;	text-decoration:underline}span.EmailS
 tyle17	{font-family:"Times New Roman"\,serif\;	color:windowtext}.MsoChpDef
 ault	{font-family:"Calibri"\,sans-serif}@page WordSection1	{margin:1.0in 1
 .0in 1.0in 1.0in}div.WordSection1	{}--></style></head><body lang="EN-US" l
 ink="#0563C1" vlink="#954F72" style="word-wrap:break-word"><div class="Wor
 dSection1"><p class="MsoNormal"><span style="font-size:14.0pt\; font-famil
 y:&quot\;Times New Roman&quot\;\,serif">&nbsp\;</span></p></div></body></h
 tml>
LOCATION:
SUMMARY:K-5 Early Dismissal
END:VEVENT
BEGIN:VEVENT
DTSTAMP:20260425T034600Z
UID:078e16a6-1321-4043-aae2-133a80a6aa2a
DTSTART;VALUE=DATE:20260623
DTEND;VALUE=DATE:20260624
DESCRIPTION:<html><head><meta http-equiv="Content-Type" content="text/html\
 ; charset=utf-8"></head><body><div></div></body></html>
LOCATION:
SUMMARY:RS Field Day
END:VEVENT
BEGIN:VEVENT
DTSTAMP:20260425T034600Z
UID:0095adfe-fd22-4be3-bb46-daf913e10a97
DTSTART:20260623T114000
DTEND:20260623T114000
DESCRIPTION:<html><head><meta http-equiv="Content-Type" content="text/html\
 ; charset=utf-8"><meta name="ProgId" content="Word.Document"><meta name="G
 enerator" content="Microsoft Word 15"><meta name="Originator" content="Mic
 rosoft Word 15"><style><!--@font-face	{font-family:"Cambria Math"}@font-fa
 ce	{font-family:Calibri}p.MsoNormal\, li.MsoNormal\, div.MsoNormal	{margin
 :0in\;	font-size:11.0pt\;	font-family:"Calibri"\,sans-serif}a:link\, span.
 MsoHyperlink	{color:#0563C1\;	text-decoration:underline}a:visited\, span.M
 soHyperlinkFollowed	{color:#954F72\;	text-decoration:underline}span.EmailS
 tyle17	{font-family:"Times New Roman"\,serif\;	color:windowtext}.MsoChpDef
 ault	{font-family:"Calibri"\,sans-serif}@page WordSection1	{margin:1.0in 1
 .0in 1.0in 1.0in}div.WordSection1	{}--></style></head><body lang="EN-US" l
 ink="#0563C1" vlink="#954F72" style="word-wrap:break-word"><div class="Wor
 dSection1"><p class="MsoNormal"><span style="font-size:14.0pt\; font-famil
 y:&quot\;Times New Roman&quot\;\,serif">&nbsp\;</span></p></div></body></h
 tml>
LOCATION:
SUMMARY:K-5 Early Dismissal
END:VEVENT
BEGIN:VEVENT
DTSTAMP:20260425T034600Z
UID:90584603-d7ac-4dd9-bfe3-4b692315eac7
DTSTART:20260624T114000
DTEND:20260624T114000
DESCRIPTION:<html><head><meta http-equiv="Content-Type" content="text/html\
 ; charset=utf-8"><meta name="ProgId" content="Word.Document"><meta name="G
 enerator" content="Microsoft Word 15"><meta name="Originator" content="Mic
 rosoft Word 15"><style><!--@font-face	{font-family:"Cambria Math"}@font-fa
 ce	{font-family:Calibri}p.MsoNormal\, li.MsoNormal\, div.MsoNormal	{margin
 :0in\;	font-size:11.0pt\;	font-family:"Calibri"\,sans-serif}a:link\, span.
 MsoHyperlink	{color:#0563C1\;	text-decoration:underline}a:visited\, span.M
 soHyperlinkFollowed	{color:#954F72\;	text-decoration:underline}span.EmailS
 tyle17	{font-family:"Times New Roman"\,serif\;	color:windowtext}.MsoChpDef
 ault	{font-family:"Calibri"\,sans-serif}@page WordSection1	{margin:1.0in 1
 .0in 1.0in 1.0in}div.WordSection1	{}--></style></head><body lang="EN-US" l
 ink="#0563C1" vlink="#954F72" style="word-wrap:break-word"><div class="Wor
 dSection1"><p class="MsoNormal"><span style="font-size:14.0pt\; font-famil
 y:&quot\;Times New Roman&quot\;\,serif">&nbsp\;</span></p></div></body></h
 tml>
LOCATION:
SUMMARY:K-5 Early Dismissal
END:VEVENT
BEGIN:VEVENT
DTSTAMP:20260425T034600Z
UID:3df0b681-e851-4ae2-b925-760a7d30c85d
DTSTART:20260625T091500
DTEND:20260625T100000
DESCRIPTION:<html><head><meta http-equiv="Content-Type" content="text/html\
 ; charset=utf-8"></head><body><div></div></body></html>
LOCATION:
SUMMARY:RS 5th Grade Celebration
END:VEVENT
BEGIN:VEVENT
DTSTAMP:20260425T034600Z
UID:ced27438-4705-4c94-adda-d0ac33c2bcce
DTSTART:20260625T114000
DTEND:20260625T114000
DESCRIPTION:<html><head><meta http-equiv="Content-Type" content="text/html\
 ; charset=utf-8"><meta name="ProgId" content="Word.Document"><meta name="G
 enerator" content="Microsoft Word 15"><meta name="Originator" content="Mic
 rosoft Word 15"><style><!--@font-face	{font-family:"Cambria Math"}@font-fa
 ce	{font-family:Calibri}p.MsoNormal\, li.MsoNormal\, div.MsoNormal	{margin
 :0in\;	font-size:11.0pt\;	font-family:"Calibri"\,sans-serif}a:link\, span.
 MsoHyperlink	{color:#0563C1\;	text-decoration:underline}a:visited\, span.M
 soHyperlinkFollowed	{color:#954F72\;	text-decoration:underline}span.EmailS
 tyle17	{font-family:"Times New Roman"\,serif\;	color:windowtext}.MsoChpDef
 ault	{font-family:"Calibri"\,sans-serif}@page WordSection1	{margin:1.0in 1
 .0in 1.0in 1.0in}div.WordSection1	{}--></style></head><body lang="EN-US" l
 ink="#0563C1" vlink="#954F72" style="word-wrap:break-word"><div class="Wor
 dSection1"><p class="MsoNormal"><span style="font-size:14.0pt\; font-famil
 y:&quot\;Times New Roman&quot\;\,serif">&nbsp\;</span></p></div></body></h
 tml>
LOCATION:
SUMMARY:K-5 Early Dismissal
END:VEVENT
BEGIN:VEVENT
DTSTAMP:20260425T034600Z
UID:e8adbe2f-40fc-4c46-85c1-43b625c48ae3
DTSTART;VALUE=DATE:20260626
DTEND;VALUE=DATE:20260627
DESCRIPTION:<html><head><meta http-equiv="Content-Type" content="text/html\
 ; charset=utf-8"></head><body><div></div></body></html>
LOCATION:
SUMMARY:4th Quarter Ends
END:VEVENT
BEGIN:VEVENT
DTSTAMP:20260425T034600Z
UID:c2aac8e0-1e4c-4736-b2f3-e7ddfe18501a
DTSTART;VALUE=DATE:20260626
DTEND;VALUE=DATE:20260627
DESCRIPTION:<html><head><meta http-equiv="Content-Type" content="text/html\
 ; charset=utf-8"></head><body><div></div></body></html>
LOCATION:
SUMMARY:LAST DAY OF SCHOOL
END:VEVENT
BEGIN:VEVENT
DTSTAMP:20260425T034600Z
UID:b160a442-0639-4616-9de7-79d7f1767345
DTSTART:20260626T114000
DTEND:20260626T114000
DESCRIPTION:<html><head><meta http-equiv="Content-Type" content="text/html\
 ; charset=utf-8"><meta name="ProgId" content="Word.Document"><meta name="G
 enerator" content="Microsoft Word 15"><meta name="Originator" content="Mic
 rosoft Word 15"><style><!--@font-face	{font-family:"Cambria Math"}@font-fa
 ce	{font-family:Calibri}p.MsoNormal\, li.MsoNormal\, div.MsoNormal	{margin
 :0in\;	font-size:11.0pt\;	font-family:"Calibri"\,sans-serif}a:link\, span.
 MsoHyperlink	{color:#0563C1\;	text-decoration:underline}a:visited\, span.M
 soHyperlinkFollowed	{color:#954F72\;	text-decoration:underline}span.EmailS
 tyle17	{font-family:"Times New Roman"\,serif\;	color:windowtext}.MsoChpDef
 ault	{font-family:"Calibri"\,sans-serif}@page WordSection1	{margin:1.0in 1
 .0in 1.0in 1.0in}div.WordSection1	{}--></style></head><body lang="EN-US" l
 ink="#0563C1" vlink="#954F72" style="word-wrap:break-word"><div class="Wor
 dSection1"><p class="MsoNormal"><span style="font-size:14.0pt\; font-famil
 y:&quot\;Times New Roman&quot\;\,serif">&nbsp\;</span></p></div></body></h
 tml>
LOCATION:
SUMMARY:K-5 Early Dismissal
END:VEVENT
END:VCALENDAR
