BEGIN:VCALENDAR
VERSION:2.0
PRODID:icalendar-ruby
CALSCALE:GREGORIAN
BEGIN:VTIMEZONE
TZID:America/New_York
BEGIN:DAYLIGHT
DTSTART:20260308T030000
TZOFFSETFROM:-0500
TZOFFSETTO:-0400
RRULE:FREQ=YEARLY;BYDAY=2SU;BYMONTH=3
TZNAME:EDT
END:DAYLIGHT
BEGIN:STANDARD
DTSTART:20261101T010000
TZOFFSETFROM:-0400
TZOFFSETTO:-0500
RRULE:FREQ=YEARLY;BYDAY=1SU;BYMONTH=11
TZNAME:EST
END:STANDARD
END:VTIMEZONE
BEGIN:VEVENT
DTSTAMP:20260425T034544Z
UID:90da0a9e-cd52-476e-b7dc-8629496d35f7
DTSTART;VALUE=DATE:20260426
DTEND;VALUE=DATE:20260427
DESCRIPTION:
LOCATION:
SUMMARY:SADD Run
END:VEVENT
BEGIN:VEVENT
DTSTAMP:20260425T034544Z
UID:b60cc157-2b3f-4af8-a7f3-d3c05e1f6ccc
DTSTART:20260501T074200
DTEND:20260501T083800
DESCRIPTION:<html><head><meta http-equiv="Content-Type" content="text/html\
 ; charset=utf-8"></head><body><div class="cal_7e5f"><div><div class="x_cal
 _a42c"><div><div class="x_x_cal_6e47"><div><div class="x_x_x_cal_357c"><di
 v><div class="x_x_x_x_cal_e97d"><div><div class="x_x_x_x_x_cal_e8e0"><div>
 <div class="x_x_x_x_x_x_cal_4d19"><div><div class="x_x_x_x_x_x_x_cal_691c"
 ><div><div class="x_x_x_x_x_x_x_x_cal_2c4"><div><div></div></div></div></d
 iv></div></div></div></div></div></div></div></div></div></div></div></div
 ></div></div></div></body></html>
LOCATION:
SUMMARY:OMS House Meetings
END:VEVENT
BEGIN:VEVENT
DTSTAMP:20260425T034544Z
UID:ed455429-0fc8-4794-9f80-d229050a0c32
DTSTART;VALUE=DATE:20260504
DTEND;VALUE=DATE:20260509
DESCRIPTION:
LOCATION:
SUMMARY:Teacher Appreciation Week
END:VEVENT
BEGIN:VEVENT
DTSTAMP:20260425T034544Z
UID:9db3fd91-a588-4178-9e88-e42d73064829
DTSTART:20260505T173000
DTEND:20260505T190000
DESCRIPTION:<html><head><meta http-equiv="Content-Type" content="text/html\
 ; charset=utf-8"></head><body><div class="elementToProof" style="font-fami
 ly:Aptos\,Aptos_EmbeddedFont\,Aptos_MSFontService\,Calibri\,Helvetica\,san
 s-serif\; font-size:12pt\; color:rgb(0\,0\,0)">Come to the OCSD Art Show O
 pening Reception at the Southside Mall.</div></body></html>
LOCATION:
SUMMARY:District Art Show- Southside Mall- Opening Reception
END:VEVENT
BEGIN:VEVENT
DTSTAMP:20260425T034544Z
UID:b7ebf63b-65b8-4fbb-873e-7e958d9ef077
DTSTART;VALUE=DATE:20260506
DTEND;VALUE=DATE:20260530
DESCRIPTION:<html><head><meta http-equiv="Content-Type" content="text/html\
 ; charset=utf-8"></head><body><div class="elementToProof" style="font-fami
 ly:Aptos\,Aptos_EmbeddedFont\,Aptos_MSFontService\,Calibri\,Helvetica\,san
 s-serif\; font-size:12pt\; color:rgb(0\,0\,0)">Stop by the Southside Mall 
 to see OCSD Students' art work on display!</div></body></html>
LOCATION:
SUMMARY:District Art Show- Southside Mall
END:VEVENT
BEGIN:VEVENT
DTSTAMP:20260425T034544Z
UID:5cb77f72-c94a-421d-839f-a89d21442919
DTSTART;VALUE=DATE:20260506
DTEND;VALUE=DATE:20260508
DESCRIPTION:<html><head><meta http-equiv="Content-Type" content="text/html\
 ; charset=utf-8"></head><body><div class="BodyFragment"><font size="2"><sp
 an style="font-size:11pt"><div class="PlainText">&nbsp\;</div></span></fon
 t></div></body></html>
LOCATION:
SUMMARY:NYS Math Tests Grades 4-8
END:VEVENT
BEGIN:VEVENT
DTSTAMP:20260425T034544Z
UID:d3f57730-7d2f-4f56-a32a-52e85b18a266
DTSTART;VALUE=DATE:20260508
DTEND;VALUE=DATE:20260509
DESCRIPTION:<html><head><meta http-equiv="Content-Type" content="text/html\
 ; charset=utf-8"><style><!--@font-face	{font-family:"Cambria Math"}@font-f
 ace	{font-family:Calibri}.cal_f5c2 p.x_MsoNormal\, .cal_f5c2 li.x_MsoNorma
 l\, .cal_f5c2 div.x_MsoNormal	{margin:0in\;	font-size:11.0pt\;	font-family
 :"Calibri"\,sans-serif}.cal_f5c2 a:link\, .cal_f5c2 span.x_MsoHyperlink	{c
 olor:#0563C1\;	text-decoration:underline}.cal_f5c2 a:visited\, .cal_f5c2 s
 pan.x_MsoHyperlinkFollowed	{color:#954F72\;	text-decoration:underline}.cal
 _f5c2 span.x_EmailStyle17	{font-family:"Times New Roman"\,serif\;	color:wi
 ndowtext}.cal_f5c2 .x_MsoChpDefault	{font-family:"Calibri"\,sans-serif}@pa
 ge WordSection1	{margin:1.0in 1.0in 1.0in 1.0in}--></style></head><body><d
 iv class="cal_f5c2"><div lang="EN-US" style="word-wrap:break-word"><div cl
 ass="x_WordSection1"><p class="x_MsoNormal"><span style="font-size:14.0pt\
 ; font-family:&quot\;Times New Roman&quot\;\,serif">&nbsp\;</span></p></di
 v></div></div></body></html>
LOCATION:
SUMMARY:4th Quarter Interim
END:VEVENT
BEGIN:VEVENT
DTSTAMP:20260425T034544Z
UID:59d6dbcf-a165-46ef-9fca-175595166b80
DTSTART;VALUE=DATE:20260508
DTEND;VALUE=DATE:20260510
DESCRIPTION:
LOCATION:
SUMMARY:NYSSMA Solo Festival
END:VEVENT
BEGIN:VEVENT
DTSTAMP:20260425T034544Z
UID:101ed9b1-20b6-4f8a-8dfd-c8cca677893a
DTSTART;VALUE=DATE:20260511
DTEND;VALUE=DATE:20260512
DESCRIPTION:
LOCATION:
SUMMARY:5th Grade Visit to OMS (RS)
END:VEVENT
BEGIN:VEVENT
DTSTAMP:20260425T034544Z
UID:17b43d46-446d-4e6b-918e-d9ea9ca4845a
DTSTART;VALUE=DATE:20260512
DTEND;VALUE=DATE:20260513
DESCRIPTION:<html><head><meta http-equiv="Content-Type" content="text/html\
 ; charset=utf-8"><style><!--@font-face	{font-family:"Cambria Math"}@font-f
 ace	{font-family:Calibri}.cal_2b13 p.x_MsoNormal\, .cal_2b13 li.x_MsoNorma
 l\, .cal_2b13 div.x_MsoNormal	{margin:0in\;	font-size:11.0pt\;	font-family
 :"Calibri"\,sans-serif}.cal_2b13 a:link\, .cal_2b13 span.x_MsoHyperlink	{c
 olor:#0563C1\;	text-decoration:underline}.cal_2b13 a:visited\, .cal_2b13 s
 pan.x_MsoHyperlinkFollowed	{color:#954F72\;	text-decoration:underline}.cal
 _2b13 span.x_EmailStyle17	{font-family:"Times New Roman"\,serif\;	color:wi
 ndowtext}.cal_2b13 .x_MsoChpDefault	{font-family:"Calibri"\,sans-serif}@pa
 ge WordSection1	{margin:1.0in 1.0in 1.0in 1.0in}--></style></head><body><d
 iv class="cal_2b13"><div lang="EN-US" style="word-wrap:break-word"><div cl
 ass="x_WordSection1"><p class="x_MsoNormal"><span style="font-size:14.0pt\
 ; font-family:&quot\;Times New Roman&quot\;\,serif">&nbsp\;</span></p></di
 v></div></div></body></html>
LOCATION:
SUMMARY:NYS Science Tests Grades 5 & 8
END:VEVENT
BEGIN:VEVENT
DTSTAMP:20260425T034544Z
UID:57be0533-8a27-477c-acaf-c2cedfeb9dff
DTSTART;VALUE=DATE:20260512
DTEND;VALUE=DATE:20260514
DESCRIPTION:
LOCATION:
SUMMARY:NYSSMA Majors Festival
END:VEVENT
BEGIN:VEVENT
DTSTAMP:20260425T034544Z
UID:69458fbf-f55a-491f-8dac-0a7abb196c4c
DTSTART;VALUE=DATE:20260513
DTEND;VALUE=DATE:20260514
DESCRIPTION:<html><head><meta http-equiv="Content-Type" content="text/html\
 ; charset=utf-8"></head><body><div class="cal_5b29"><div><div></div></div>
 </div></body></html>
LOCATION:
SUMMARY:5th Grade Visit to OMS (VV)
END:VEVENT
BEGIN:VEVENT
DTSTAMP:20260425T034544Z
UID:d76df6c7-741b-4a0d-aec7-12107de2c7fa
DTSTART;VALUE=DATE:20260514
DTEND;VALUE=DATE:20260515
DESCRIPTION:<html><head><meta http-equiv="Content-Type" content="text/html\
 ; charset=utf-8"></head><body><div></div></body></html>
LOCATION:
SUMMARY:5th Grade Visit to OMS (GP)
END:VEVENT
BEGIN:VEVENT
DTSTAMP:20260425T034544Z
UID:5c6ec304-c6f2-46a2-8315-aa0515e3158e
DTSTART:20260520T104500
DTEND:20260520T104500
DESCRIPTION:<html><head><meta http-equiv="Content-Type" content="text/html\
 ; charset=utf-8"><style><!--@font-face	{font-family:"Cambria Math"}@font-f
 ace	{font-family:Calibri}.cal_ee9e p.x_MsoNormal\, .cal_ee9e li.x_MsoNorma
 l\, .cal_ee9e div.x_MsoNormal	{margin:0in\;	font-size:11.0pt\;	font-family
 :"Calibri"\,sans-serif}.cal_ee9e a:link\, .cal_ee9e span.x_MsoHyperlink	{c
 olor:#0563C1\;	text-decoration:underline}.cal_ee9e a:visited\, .cal_ee9e s
 pan.x_MsoHyperlinkFollowed	{color:#954F72\;	text-decoration:underline}.cal
 _ee9e span.x_EmailStyle17	{font-family:"Times New Roman"\,serif\;	color:wi
 ndowtext}.cal_ee9e .x_MsoChpDefault	{font-family:"Calibri"\,sans-serif}@pa
 ge WordSection1	{margin:1.0in 1.0in 1.0in 1.0in}--></style></head><body><d
 iv class="cal_ee9e"><div lang="EN-US" style="word-wrap:break-word"><div cl
 ass="x_WordSection1"><p class="x_MsoNormal"><span style="font-size:14.0pt\
 ; font-family:&quot\;Times New Roman&quot\;\,serif">&nbsp\;</span></p></di
 v></div></div></body></html>
LOCATION:
SUMMARY:6-8 Early Dismissal-Staff Development
END:VEVENT
BEGIN:VEVENT
DTSTAMP:20260425T034544Z
UID:3b0e517b-5957-42bd-80af-d9bec432c45f
DTSTART:20260520T170000
DTEND:20260520T180000
DESCRIPTION:
LOCATION:
SUMMARY:OMS PTO Meeting
END:VEVENT
BEGIN:VEVENT
DTSTAMP:20260425T034544Z
UID:4f51343d-8232-4a92-9bd7-f5515c854a0a
DTSTART;VALUE=DATE:20260521
DTEND;VALUE=DATE:20260522
DESCRIPTION:
LOCATION:
SUMMARY:OMS HIVE/LIVE
END:VEVENT
BEGIN:VEVENT
DTSTAMP:20260425T034544Z
UID:00e43f06-ffde-4e6d-9477-1be020277143
DTSTART;VALUE=DATE:20260525
DTEND;VALUE=DATE:20260526
DESCRIPTION:<html><head><meta http-equiv="Content-Type" content="text/html\
 ; charset=utf-8"></head><body><div class="elementToProof" style="font-fami
 ly:Aptos\,Aptos_EmbeddedFont\,Aptos_MSFontService\,Calibri\,Helvetica\,san
 s-serif\; font-size:12pt\; color:rgb(0\,0\,0)"><br></div></body></html>
LOCATION:
SUMMARY:Memorial Day Parade
END:VEVENT
BEGIN:VEVENT
DTSTAMP:20260425T034544Z
UID:28fb6d09-0d90-41e8-a6b1-b718415fc43b
DTSTART;VALUE=DATE:20260525
DTEND;VALUE=DATE:20260526
DESCRIPTION:<html><head><meta http-equiv="Content-Type" content="text/html\
 ; charset=utf-8"><style><!--@font-face	{font-family:"Cambria Math"}@font-f
 ace	{font-family:Calibri}.cal_d4ee p.x_MsoNormal\, .cal_d4ee li.x_MsoNorma
 l\, .cal_d4ee div.x_MsoNormal	{margin:0in\;	font-size:11.0pt\;	font-family
 :"Calibri"\,sans-serif}.cal_d4ee a:link\, .cal_d4ee span.x_MsoHyperlink	{c
 olor:#0563C1\;	text-decoration:underline}.cal_d4ee a:visited\, .cal_d4ee s
 pan.x_MsoHyperlinkFollowed	{color:#954F72\;	text-decoration:underline}.cal
 _d4ee span.x_EmailStyle17	{font-family:"Times New Roman"\,serif\;	color:wi
 ndowtext}.cal_d4ee .x_MsoChpDefault	{font-family:"Calibri"\,sans-serif}@pa
 ge WordSection1	{margin:1.0in 1.0in 1.0in 1.0in}--></style></head><body><d
 iv class="cal_d4ee"><div lang="EN-US" style="word-wrap:break-word"><div cl
 ass="x_WordSection1"><p class="x_MsoNormal"><span style="font-size:14.0pt\
 ; font-family:&quot\;Times New Roman&quot\;\,serif">&nbsp\;</span></p></di
 v></div></div></body></html>
LOCATION:
SUMMARY:No School-Memorial Day
END:VEVENT
BEGIN:VEVENT
DTSTAMP:20260425T034544Z
UID:e16b3a7e-5e6c-4719-8d49-a35fbe8bb5e8
DTSTART:20260528T190000
DTEND:20260528T200000
DESCRIPTION:
LOCATION:
SUMMARY:OMS 6th Grade Concert
END:VEVENT
BEGIN:VEVENT
DTSTAMP:20260425T034544Z
UID:1a43d61c-cd0a-4b74-a165-1f7d44525044
DTSTART:20260603T190000
DTEND:20260603T200000
DESCRIPTION:
LOCATION:
SUMMARY:OMS 7th/8th Grade Concert
END:VEVENT
BEGIN:VEVENT
DTSTAMP:20260425T034544Z
UID:e0c79592-7c49-42ba-a5ac-732797d46073
DTSTART:20260605T074200
DTEND:20260605T083800
DESCRIPTION:<html><head><meta http-equiv="Content-Type" content="text/html\
 ; charset=utf-8"></head><body><div class="cal_5591"><div><div class="x_cal
 _7e5f"><div><div class="x_x_cal_a42c"><div><div class="x_x_x_cal_6e47"><di
 v><div class="x_x_x_x_cal_357c"><div><div class="x_x_x_x_x_cal_e97d"><div>
 <div class="x_x_x_x_x_x_cal_e8e0"><div><div class="x_x_x_x_x_x_x_cal_4d19"
 ><div><div class="x_x_x_x_x_x_x_x_cal_691c"><div><div class="x_x_x_x_x_x_x
 _x_x_cal_2c4"><div><div></div></div></div></div></div></div></div></div></
 div></div></div></div></div></div></div></div></div></div></div></div></di
 v></body></html>
LOCATION:
SUMMARY:OMS House Meetings
END:VEVENT
BEGIN:VEVENT
DTSTAMP:20260425T034544Z
UID:212fe3b6-0fba-4ca2-9520-bdfbb15e8caf
DTSTART;VALUE=DATE:20260607
DTEND;VALUE=DATE:20260608
DESCRIPTION:
LOCATION:
SUMMARY:OMS Bike-A-Thon and Spring Fling
END:VEVENT
BEGIN:VEVENT
DTSTAMP:20260425T034544Z
UID:a6d18029-7bcf-4a8c-80b4-e9fdc117294a
DTSTART;VALUE=DATE:20260612
DTEND;VALUE=DATE:20260613
DESCRIPTION:
LOCATION:
SUMMARY:OMS Field Day + OMS HIVE/LIVE
END:VEVENT
BEGIN:VEVENT
DTSTAMP:20260425T034544Z
UID:1c11db00-4ad0-4566-92cf-e6a73bd42a7e
DTSTART:20260616T180000
DTEND:20260616T190000
DESCRIPTION:
LOCATION:
SUMMARY:OMS 6th/7th Grade Awards
END:VEVENT
BEGIN:VEVENT
DTSTAMP:20260425T034544Z
UID:1e651a8c-5377-44b8-bf4b-286eb63e2fdb
DTSTART;VALUE=DATE:20260617
DTEND;VALUE=DATE:20260618
DESCRIPTION:
LOCATION:
SUMMARY:Algebra I Regents
END:VEVENT
BEGIN:VEVENT
DTSTAMP:20260425T034544Z
UID:7c3e3929-b2d0-41eb-a058-fbc29d15dcff
DTSTART:20260617T170000
DTEND:20260617T180000
DESCRIPTION:<html><head><meta http-equiv="Content-Type" content="text/html\
 ; charset=utf-8"></head><body><div style="font-family:Aptos\,Aptos_Embedde
 dFont\,Aptos_MSFontService\,Calibri\,Helvetica\,sans-serif\; font-size:12p
 t\; color:rgb(0\,0\,0)">Location: Oneonta Middle School</div></body></html
 >
LOCATION:
SUMMARY:OMS PTO Meeting
END:VEVENT
BEGIN:VEVENT
DTSTAMP:20260425T034544Z
UID:1eeaf410-e06d-4c75-a2dd-f430b2a78d74
DTSTART;VALUE=DATE:20260618
DTEND;VALUE=DATE:20260619
DESCRIPTION:
LOCATION:
SUMMARY:Earth Science Regents
END:VEVENT
BEGIN:VEVENT
DTSTAMP:20260425T034544Z
UID:07c75375-d62a-4356-8c24-2ac0411ceedd
DTSTART;VALUE=DATE:20260619
DTEND;VALUE=DATE:20260620
DESCRIPTION:<html><head><meta http-equiv="Content-Type" content="text/html\
 ; charset=utf-8"><style><!--@font-face	{font-family:"Cambria Math"}@font-f
 ace	{font-family:Calibri}.cal_85a0 p.x_MsoNormal\, .cal_85a0 li.x_MsoNorma
 l\, .cal_85a0 div.x_MsoNormal	{margin:0in\;	font-size:11.0pt\;	font-family
 :"Calibri"\,sans-serif}.cal_85a0 a:link\, .cal_85a0 span.x_MsoHyperlink	{c
 olor:#0563C1\;	text-decoration:underline}.cal_85a0 a:visited\, .cal_85a0 s
 pan.x_MsoHyperlinkFollowed	{color:#954F72\;	text-decoration:underline}.cal
 _85a0 span.x_EmailStyle17	{font-family:"Times New Roman"\,serif\;	color:wi
 ndowtext}.cal_85a0 .x_MsoChpDefault	{font-family:"Calibri"\,sans-serif}@pa
 ge WordSection1	{margin:1.0in 1.0in 1.0in 1.0in}--></style></head><body><d
 iv class="cal_85a0"><div lang="EN-US" style="word-wrap:break-word"><div cl
 ass="x_WordSection1"><p class="x_MsoNormal"><span style="font-size:14.0pt\
 ; font-family:&quot\;Times New Roman&quot\;\,serif">&nbsp\;</span></p></di
 v></div></div></body></html>
LOCATION:
SUMMARY:No School-Juneteenth
END:VEVENT
BEGIN:VEVENT
DTSTAMP:20260425T034544Z
UID:8ffd3cd5-4ab0-4a15-a50e-174ef2d5394a
DTSTART:20260622T104500
DTEND:20260622T104500
DESCRIPTION:<html><head><meta http-equiv="Content-Type" content="text/html\
 ; charset=utf-8"><meta name="ProgId" content="Word.Document"><meta name="G
 enerator" content="Microsoft Word 15"><meta name="Originator" content="Mic
 rosoft Word 15"><style><!--@font-face	{font-family:"Cambria Math"}@font-fa
 ce	{font-family:Calibri}p.MsoNormal\, li.MsoNormal\, div.MsoNormal	{margin
 :0in\;	font-size:11.0pt\;	font-family:"Calibri"\,sans-serif}a:link\, span.
 MsoHyperlink	{color:#0563C1\;	text-decoration:underline}a:visited\, span.M
 soHyperlinkFollowed	{color:#954F72\;	text-decoration:underline}span.EmailS
 tyle17	{font-family:"Times New Roman"\,serif\;	color:windowtext}.MsoChpDef
 ault	{font-family:"Calibri"\,sans-serif}@page WordSection1	{margin:1.0in 1
 .0in 1.0in 1.0in}div.WordSection1	{}--></style></head><body lang="EN-US" l
 ink="#0563C1" vlink="#954F72" style="word-wrap:break-word"><div class="Wor
 dSection1"><p class="MsoNormal"><span style="font-size:14.0pt\; font-famil
 y:&quot\;Times New Roman&quot\;\,serif">&nbsp\;</span></p></div></body></h
 tml>
LOCATION:
SUMMARY:6-8 Early Dismissal
END:VEVENT
BEGIN:VEVENT
DTSTAMP:20260425T034544Z
UID:da93b5e2-9e1c-4563-9874-e8949bc6fb95
DTSTART:20260623T104500
DTEND:20260623T104500
DESCRIPTION:<html><head><meta http-equiv="Content-Type" content="text/html\
 ; charset=utf-8"><meta name="ProgId" content="Word.Document"><meta name="G
 enerator" content="Microsoft Word 15"><meta name="Originator" content="Mic
 rosoft Word 15"><style><!--@font-face	{font-family:"Cambria Math"}@font-fa
 ce	{font-family:Calibri}p.MsoNormal\, li.MsoNormal\, div.MsoNormal	{margin
 :0in\;	font-size:11.0pt\;	font-family:"Calibri"\,sans-serif}a:link\, span.
 MsoHyperlink	{color:#0563C1\;	text-decoration:underline}a:visited\, span.M
 soHyperlinkFollowed	{color:#954F72\;	text-decoration:underline}span.EmailS
 tyle17	{font-family:"Times New Roman"\,serif\;	color:windowtext}.MsoChpDef
 ault	{font-family:"Calibri"\,sans-serif}@page WordSection1	{margin:1.0in 1
 .0in 1.0in 1.0in}div.WordSection1	{}--></style></head><body lang="EN-US" l
 ink="#0563C1" vlink="#954F72" style="word-wrap:break-word"><div class="Wor
 dSection1"><p class="MsoNormal"><span style="font-size:14.0pt\; font-famil
 y:&quot\;Times New Roman&quot\;\,serif">&nbsp\;</span></p></div></body></h
 tml>
LOCATION:
SUMMARY:6-8 Early Dismissal
END:VEVENT
BEGIN:VEVENT
DTSTAMP:20260425T034544Z
UID:d813edf6-2a80-49e6-9c85-4b0dd898efa7
DTSTART:20260624T104500
DTEND:20260624T104500
DESCRIPTION:<html><head><meta http-equiv="Content-Type" content="text/html\
 ; charset=utf-8"><meta name="ProgId" content="Word.Document"><meta name="G
 enerator" content="Microsoft Word 15"><meta name="Originator" content="Mic
 rosoft Word 15"><style><!--@font-face	{font-family:"Cambria Math"}@font-fa
 ce	{font-family:Calibri}p.MsoNormal\, li.MsoNormal\, div.MsoNormal	{margin
 :0in\;	font-size:11.0pt\;	font-family:"Calibri"\,sans-serif}a:link\, span.
 MsoHyperlink	{color:#0563C1\;	text-decoration:underline}a:visited\, span.M
 soHyperlinkFollowed	{color:#954F72\;	text-decoration:underline}span.EmailS
 tyle17	{font-family:"Times New Roman"\,serif\;	color:windowtext}.MsoChpDef
 ault	{font-family:"Calibri"\,sans-serif}@page WordSection1	{margin:1.0in 1
 .0in 1.0in 1.0in}div.WordSection1	{}--></style></head><body lang="EN-US" l
 ink="#0563C1" vlink="#954F72" style="word-wrap:break-word"><div class="Wor
 dSection1"><p class="MsoNormal"><span style="font-size:14.0pt\; font-famil
 y:&quot\;Times New Roman&quot\;\,serif">&nbsp\;</span></p></div></body></h
 tml>
LOCATION:
SUMMARY:6-8 Early Dismissal
END:VEVENT
BEGIN:VEVENT
DTSTAMP:20260425T034544Z
UID:161484b3-b8f6-44a8-a0e7-6eb41be7af11
DTSTART:20260624T180000
DTEND:20260624T193000
DESCRIPTION:
LOCATION:
SUMMARY:OMS 8th Grade Graduation
END:VEVENT
BEGIN:VEVENT
DTSTAMP:20260425T034544Z
UID:96ed176f-da73-476e-a62a-42d8ca34b911
DTSTART:20260625T104500
DTEND:20260625T104500
DESCRIPTION:<html><head><meta http-equiv="Content-Type" content="text/html\
 ; charset=utf-8"><meta name="ProgId" content="Word.Document"><meta name="G
 enerator" content="Microsoft Word 15"><meta name="Originator" content="Mic
 rosoft Word 15"><style><!--@font-face	{font-family:"Cambria Math"}@font-fa
 ce	{font-family:Calibri}p.MsoNormal\, li.MsoNormal\, div.MsoNormal	{margin
 :0in\;	font-size:11.0pt\;	font-family:"Calibri"\,sans-serif}a:link\, span.
 MsoHyperlink	{color:#0563C1\;	text-decoration:underline}a:visited\, span.M
 soHyperlinkFollowed	{color:#954F72\;	text-decoration:underline}span.EmailS
 tyle17	{font-family:"Times New Roman"\,serif\;	color:windowtext}.MsoChpDef
 ault	{font-family:"Calibri"\,sans-serif}@page WordSection1	{margin:1.0in 1
 .0in 1.0in 1.0in}div.WordSection1	{}--></style></head><body lang="EN-US" l
 ink="#0563C1" vlink="#954F72" style="word-wrap:break-word"><div class="Wor
 dSection1"><p class="MsoNormal"><span style="font-size:14.0pt\; font-famil
 y:&quot\;Times New Roman&quot\;\,serif">&nbsp\;</span></p></div></body></h
 tml>
LOCATION:
SUMMARY:6-8 Early Dismissal
END:VEVENT
BEGIN:VEVENT
DTSTAMP:20260425T034544Z
UID:887ec541-c014-4dec-a81e-a38ca5e5d214
DTSTART;VALUE=DATE:20260626
DTEND;VALUE=DATE:20260627
DESCRIPTION:<html><head><meta http-equiv="Content-Type" content="text/html\
 ; charset=utf-8"><meta name="Generator" content="Microsoft Exchange Server
 "><!-- converted from text --><style><!-- .EmailQuote { margin-left: 1pt\;
  padding-left: 4pt\; border-left: #800000 2px solid\; } --></style></head>
 <body><font size="2"><span style="font-size:11pt\;"><div class="PlainText"
 >&nbsp\;</div></span></font></body></html>
LOCATION:
SUMMARY:4th Quarter Ends
END:VEVENT
BEGIN:VEVENT
DTSTAMP:20260425T034544Z
UID:aece917c-15dd-44e2-ac28-8dcd1acd966d
DTSTART;VALUE=DATE:20260626
DTEND;VALUE=DATE:20260627
DESCRIPTION:<html><head><meta http-equiv="Content-Type" content="text/html\
 ; charset=utf-8"><meta name="Generator" content="Microsoft Exchange Server
 "><!-- converted from text --><style><!-- .EmailQuote { margin-left: 1pt\;
  padding-left: 4pt\; border-left: #800000 2px solid\; } --></style></head>
 <body><font size="2"><span style="font-size:11pt\;"><div class="PlainText"
 >&nbsp\;</div></span></font></body></html>
LOCATION:
SUMMARY:Last Day of School
END:VEVENT
BEGIN:VEVENT
DTSTAMP:20260425T034544Z
UID:fdd5bc54-49dc-480e-9c4d-b35bbb365454
DTSTART:20260626T104500
DTEND:20260626T104500
DESCRIPTION:<html><head><meta http-equiv="Content-Type" content="text/html\
 ; charset=utf-8"><meta name="ProgId" content="Word.Document"><meta name="G
 enerator" content="Microsoft Word 15"><meta name="Originator" content="Mic
 rosoft Word 15"><style><!--@font-face	{font-family:"Cambria Math"}@font-fa
 ce	{font-family:Calibri}p.MsoNormal\, li.MsoNormal\, div.MsoNormal	{margin
 :0in\;	font-size:11.0pt\;	font-family:"Calibri"\,sans-serif}a:link\, span.
 MsoHyperlink	{color:#0563C1\;	text-decoration:underline}a:visited\, span.M
 soHyperlinkFollowed	{color:#954F72\;	text-decoration:underline}span.EmailS
 tyle17	{font-family:"Times New Roman"\,serif\;	color:windowtext}.MsoChpDef
 ault	{font-family:"Calibri"\,sans-serif}@page WordSection1	{margin:1.0in 1
 .0in 1.0in 1.0in}div.WordSection1	{}--></style></head><body lang="EN-US" l
 ink="#0563C1" vlink="#954F72" style="word-wrap:break-word"><div class="Wor
 dSection1"><p class="MsoNormal"><span style="font-size:14.0pt\; font-famil
 y:&quot\;Times New Roman&quot\;\,serif">&nbsp\;</span></p></div></body></h
 tml>
LOCATION:
SUMMARY:6-8 Early Dismissal
END:VEVENT
END:VCALENDAR
