BEGIN:VCALENDAR
VERSION:2.0
PRODID:icalendar-ruby
CALSCALE:GREGORIAN
BEGIN:VTIMEZONE
TZID:America/Chicago
BEGIN:DAYLIGHT
DTSTART:20260308T030000
TZOFFSETFROM:-0600
TZOFFSETTO:-0500
RRULE:FREQ=YEARLY;BYDAY=2SU;BYMONTH=3
TZNAME:CDT
END:DAYLIGHT
BEGIN:STANDARD
DTSTART:20261101T010000
TZOFFSETFROM:-0500
TZOFFSETTO:-0600
RRULE:FREQ=YEARLY;BYDAY=1SU;BYMONTH=11
TZNAME:CST
END:STANDARD
END:VTIMEZONE
BEGIN:VEVENT
DTSTAMP:20260420T135550Z
UID:3b907916-1aa7-47e4-852c-2d3546d1ff42
DTSTART;VALUE=DATE:20260521
DTEND;VALUE=DATE:20260522
DESCRIPTION:
LOCATION:
SUMMARY:2-hour Early Release
END:VEVENT
BEGIN:VEVENT
DTSTAMP:20260420T135550Z
UID:1ce73b2d-5f45-4823-a1e1-a095f7466a11
DTSTART;VALUE=DATE:20260521
DTEND;VALUE=DATE:20260522
DESCRIPTION:
LOCATION:
SUMMARY:End 6th 6 Weeks
END:VEVENT
BEGIN:VEVENT
DTSTAMP:20260420T135550Z
UID:a7451ef7-8bfc-4a22-bfd4-8a7e180773b0
DTSTART;VALUE=DATE:20260521
DTEND;VALUE=DATE:20260522
DESCRIPTION:
LOCATION:
SUMMARY:Last Day of School
END:VEVENT
BEGIN:VEVENT
DTSTAMP:20260420T135550Z
UID:61284c26-de78-439c-ac67-f7441dcd3e4f
DTSTART;VALUE=DATE:20260522
DTEND;VALUE=DATE:20260523
DESCRIPTION:
LOCATION:
SUMMARY:Staff Workday
END:VEVENT
BEGIN:VEVENT
DTSTAMP:20260420T135550Z
UID:be6ff2af-e255-4124-b735-198cbf162e06
DTSTART;VALUE=DATE:20260525
DTEND;VALUE=DATE:20260526
DESCRIPTION:
LOCATION:
SUMMARY:Student/Staff Holiday
END:VEVENT
BEGIN:VEVENT
DTSTAMP:20260420T135550Z
UID:c6494190-b53b-4368-98ca-75970d3febe7
DTSTART;VALUE=DATE:20260619
DTEND;VALUE=DATE:20260620
DESCRIPTION:
LOCATION:
SUMMARY:Student/Staff Holiday
END:VEVENT
END:VCALENDAR
