BEGIN:VCALENDAR
VERSION:2.0
PRODID:icalendar-ruby
CALSCALE:GREGORIAN
BEGIN:VTIMEZONE
TZID:America/Chicago
BEGIN:DAYLIGHT
DTSTART:20260308T030000
TZOFFSETFROM:-0600
TZOFFSETTO:-0500
RRULE:FREQ=YEARLY;BYDAY=2SU;BYMONTH=3
TZNAME:CDT
END:DAYLIGHT
BEGIN:STANDARD
DTSTART:20261101T010000
TZOFFSETFROM:-0500
TZOFFSETTO:-0600
RRULE:FREQ=YEARLY;BYDAY=1SU;BYMONTH=11
TZNAME:CST
END:STANDARD
END:VTIMEZONE
BEGIN:VEVENT
DTSTAMP:20260423T035741Z
UID:21d4b949-8b58-49b8-82e1-5c1ee363dc45
DTSTART:20260423T180000
DTEND:20260423T190000
DESCRIPTION:<p>HC Library</p>
LOCATION:351 Lutheran Church Rd\, Copperas Cove\, TX 76522\, USA
SUMMARY:Parent Workshop
END:VEVENT
BEGIN:VEVENT
DTSTAMP:20260423T035741Z
UID:3580ede7-257d-4a20-96b4-2cae011b4eaa
DTSTART:20260424T071000
DTEND:20260424T152000
DESCRIPTION:<p>HC Library</p>
LOCATION:351 Lutheran Church Rd\, Copperas Cove\, TX 76522\, USA
SUMMARY:Scholastic Book Fair
END:VEVENT
BEGIN:VEVENT
DTSTAMP:20260423T035741Z
UID:6d349020-648e-4511-8fc6-ac06c955f465
DTSTART:20260424T170000
DTEND:20260424T190000
DESCRIPTION:<p>HC Cafeteria</p>
LOCATION:351 Lutheran Church Rd\, Copperas Cove\, TX 76522\, USA
SUMMARY:PTA Movie Night
END:VEVENT
BEGIN:VEVENT
DTSTAMP:20260423T035741Z
UID:6d93bffd-c5cb-45b0-ad9a-1fcc9e44bad3
DTSTART:20260425T080000
DTEND:20260425T123000
DESCRIPTION:
LOCATION:1115 Northern Dancer Dr\, Copperas Cove\, TX 76522\, USA
SUMMARY:Robotics Showcase
END:VEVENT
BEGIN:VEVENT
DTSTAMP:20260423T035741Z
UID:d1fbc9d9-b9a1-4525-9c93-1e9cd9920de1
DTSTART:20260425T093000
DTEND:20260425T110000
DESCRIPTION:<p><span>Autism Walk (Theme: Under the Sea)</span></p><p style=
 "text-align: left"><span>Saturday\, April 25th\,&nbsp\;2026 9:30am-11:00am
 </span></p><p style="text-align: left"><span>Bulldawg Stadium – 702 Joe 
 Lombardi Way</span></p><p style="text-align: left"><span>(Alternative loca
 tion: CCJHS Gym for inclement weather)</span></p>
LOCATION:702 Joe Lombardi Wy\, Copperas Cove\, TX 76522\, USA
SUMMARY:Autism Awareness Walk
END:VEVENT
BEGIN:VEVENT
DTSTAMP:20260423T035741Z
UID:c0c325c7-8760-4d9e-8b12-52bab36b072d
DTSTART:20260427T071000
DTEND:20260427T152000
DESCRIPTION:<p>HC Library</p>
LOCATION:351 Lutheran Church Rd\, Copperas Cove\, TX 76522\, USA
SUMMARY:Scholastic Book Fair
END:VEVENT
BEGIN:VEVENT
DTSTAMP:20260423T035741Z
UID:3b26527b-83de-4736-ba0f-78cd506f3770
DTSTART:20260427T153000
DTEND:20260427T163000
DESCRIPTION:
LOCATION:351 Lutheran Church Rd\, Copperas Cove\, TX 76522\, USA
SUMMARY:ES2S Meeting
END:VEVENT
BEGIN:VEVENT
DTSTAMP:20260423T035741Z
UID:71531b5b-e854-4178-8e98-2d7ca52577ef
DTSTART:20260427T154500
DTEND:20260427T163000
DESCRIPTION:
LOCATION:351 Lutheran Church Rd\, Copperas Cove\, TX 76522\, USA
SUMMARY:Student Council
END:VEVENT
BEGIN:VEVENT
DTSTAMP:20260423T035741Z
UID:24121248-8f1b-4122-9214-6b1c90b0e5e3
DTSTART:20260428T071000
DTEND:20260428T152000
DESCRIPTION:<p>HC Library</p>
LOCATION:351 Lutheran Church Rd\, Copperas Cove\, TX 76522\, USA
SUMMARY:Scholastic Book Fair
END:VEVENT
BEGIN:VEVENT
DTSTAMP:20260423T035741Z
UID:09d603e1-fc0e-40f4-8190-4262d74accb5
DTSTART:20260428T074000
DTEND:20260428T152000
DESCRIPTION:<p>Campus is closed to visitors.</p>
LOCATION:351 Lutheran Church Rd\, Copperas Cove\, TX 76522\, USA
SUMMARY:STAAR Testing 3rd\, 4th\, & 5th Math
END:VEVENT
BEGIN:VEVENT
DTSTAMP:20260423T035741Z
UID:4257153b-7edd-437a-a286-6995e98080de
DTSTART:20260429T071000
DTEND:20260429T152000
DESCRIPTION:<p>HC Library</p>
LOCATION:351 Lutheran Church Rd\, Copperas Cove\, TX 76522\, USA
SUMMARY:Scholastic Book Fair
END:VEVENT
BEGIN:VEVENT
DTSTAMP:20260423T035741Z
UID:ef3e02bb-9d76-40aa-a70e-c78a638eda2b
DTSTART:20260429T090000
DTEND:20260429T100000
DESCRIPTION:<p>Room 202</p>
LOCATION:351 Lutheran Church Rd\, Copperas Cove\, TX 76522\, USA
SUMMARY:Parent Workshop
END:VEVENT
BEGIN:VEVENT
DTSTAMP:20260423T035741Z
UID:9fbaea4a-47ae-46bb-97ad-cedda305f389
DTSTART:20260429T163000
DTEND:20260429T180000
DESCRIPTION:<p>HC Library</p>
LOCATION:351 Lutheran Church Rd\, Copperas Cove\, TX 76522\, USA
SUMMARY:BOGO Night
END:VEVENT
BEGIN:VEVENT
DTSTAMP:20260423T035741Z
UID:2427144e-ea16-4fe8-8cac-9f26c2585665
DTSTART:20260430T071000
DTEND:20260430T152000
DESCRIPTION:<p>HC Library</p>
LOCATION:351 Lutheran Church Rd\, Copperas Cove\, TX 76522\, USA
SUMMARY:Scholastic Book Fair
END:VEVENT
BEGIN:VEVENT
DTSTAMP:20260423T035741Z
UID:69221546-0550-438f-a3e5-9e90f010790b
DTSTART:20260430T083000
DTEND:20260430T143000
DESCRIPTION:
LOCATION:
SUMMARY:4th Grade Field Trip
END:VEVENT
BEGIN:VEVENT
DTSTAMP:20260423T035741Z
UID:99fd808c-7de2-4f83-b5dd-bae7e5136f0e
DTSTART;VALUE=DATE:20260521
DTEND;VALUE=DATE:20260522
DESCRIPTION:
LOCATION:
SUMMARY:2-hour Early Release
END:VEVENT
BEGIN:VEVENT
DTSTAMP:20260423T035741Z
UID:6fa16ac7-0f80-42a0-8249-35a4f38e6604
DTSTART;VALUE=DATE:20260521
DTEND;VALUE=DATE:20260522
DESCRIPTION:
LOCATION:
SUMMARY:End 6th 6 Weeks
END:VEVENT
BEGIN:VEVENT
DTSTAMP:20260423T035741Z
UID:2a8290f7-6df3-4f1a-832f-ad9a80a98dd9
DTSTART;VALUE=DATE:20260521
DTEND;VALUE=DATE:20260522
DESCRIPTION:
LOCATION:
SUMMARY:Last Day of School
END:VEVENT
BEGIN:VEVENT
DTSTAMP:20260423T035741Z
UID:ae1f405b-c181-41bd-9aa6-17f37e638531
DTSTART;VALUE=DATE:20260522
DTEND;VALUE=DATE:20260523
DESCRIPTION:
LOCATION:
SUMMARY:Staff Workday
END:VEVENT
BEGIN:VEVENT
DTSTAMP:20260423T035741Z
UID:be3215b2-6265-4fcf-99f9-8fc939af741e
DTSTART;VALUE=DATE:20260525
DTEND;VALUE=DATE:20260526
DESCRIPTION:
LOCATION:
SUMMARY:Student/Staff Holiday
END:VEVENT
BEGIN:VEVENT
DTSTAMP:20260423T035741Z
UID:586465ab-3752-45b4-8d8e-ad7ee7e71f62
DTSTART;VALUE=DATE:20260619
DTEND;VALUE=DATE:20260620
DESCRIPTION:
LOCATION:
SUMMARY:Student/Staff Holiday
END:VEVENT
END:VCALENDAR
