BEGIN:VCALENDAR
VERSION:2.0
PRODID:icalendar-ruby
CALSCALE:GREGORIAN
BEGIN:VTIMEZONE
TZID:America/Los_Angeles
BEGIN:DAYLIGHT
DTSTART:20260308T030000
TZOFFSETFROM:-0800
TZOFFSETTO:-0700
RRULE:FREQ=YEARLY;BYDAY=2SU;BYMONTH=3
TZNAME:PDT
END:DAYLIGHT
BEGIN:STANDARD
DTSTART:20261101T010000
TZOFFSETFROM:-0700
TZOFFSETTO:-0800
RRULE:FREQ=YEARLY;BYDAY=1SU;BYMONTH=11
TZNAME:PST
END:STANDARD
END:VTIMEZONE
BEGIN:VEVENT
DTSTAMP:20260423T095608Z
UID:dceba850-28b0-41e9-b27d-198208ffa496
DTSTART:20260423T160000
DTEND:20260423T170000
DESCRIPTION:
LOCATION:
SUMMARY:HS Boys and Girls Tennis @ HOME vs Tonasket
END:VEVENT
BEGIN:VEVENT
DTSTAMP:20260423T095608Z
UID:410b9f50-ff4d-4d4c-bec0-21fc8f703108
DTSTART:20260423T160000
DTEND:20260423T173000
DESCRIPTION:
LOCATION:
SUMMARY:HS Boys JV Soccer @ HOME vs Wenatchee
END:VEVENT
BEGIN:VEVENT
DTSTAMP:20260423T095608Z
UID:2ae50a99-6cbe-43a2-9542-9ef6a38e9a95
DTSTART:20260423T180000
DTEND:20260423T193000
DESCRIPTION:
LOCATION:
SUMMARY:HS Boys Varsity Soccer @ HOME vs Oroville
END:VEVENT
BEGIN:VEVENT
DTSTAMP:20260423T095608Z
UID:b74f55da-63da-4a5c-9e87-13f0e807d1f0
DTSTART:20260424T160000
DTEND:20260424T180000
DESCRIPTION:
LOCATION:
SUMMARY:HS Boys Varsity Baseball @ Chelan
END:VEVENT
BEGIN:VEVENT
DTSTAMP:20260423T095608Z
UID:d106ad11-1868-4212-9c65-3b4b032c76e3
DTSTART:20260424T160000
DTEND:20260424T190000
DESCRIPTION:
LOCATION:
SUMMARY:HS Track and Field @ Naches
END:VEVENT
BEGIN:VEVENT
DTSTAMP:20260423T095608Z
UID:86bdc4d9-edfe-4d61-9a76-2528058c13e2
DTSTART:20260425T110000
DTEND:20260425T150000
DESCRIPTION:
LOCATION:
SUMMARY:HS Boys Varsity Baseball @ HOME vs Chelan
END:VEVENT
BEGIN:VEVENT
DTSTAMP:20260423T095608Z
UID:f2578f00-c831-47ce-bfca-edc1f0fee232
DTSTART:20260425T110000
DTEND:20260425T123000
DESCRIPTION:
LOCATION:
SUMMARY:HS Boys Varsity Soccer @ Liberty Bell
END:VEVENT
BEGIN:VEVENT
DTSTAMP:20260423T095608Z
UID:7b5d742e-d61b-41fc-9415-2124ef04f38b
DTSTART:20260425T130000
DTEND:20260425T140000
DESCRIPTION:
LOCATION:
SUMMARY:HS Boys JV Soccer @ Liberty Bell
END:VEVENT
BEGIN:VEVENT
DTSTAMP:20260423T095608Z
UID:c2058e48-a73c-420e-89bc-b03438527fae
DTSTART:20260427T160000
DTEND:20260427T170000
DESCRIPTION:
LOCATION:
SUMMARY:JV Baseball @ Wenatchee
END:VEVENT
BEGIN:VEVENT
DTSTAMP:20260423T095608Z
UID:14bbbe74-15e3-407c-b51b-b354151ffb86
DTSTART:20260428T140000
DTEND:20260428T160000
DESCRIPTION:
LOCATION:
SUMMARY:HS Golf @ Cascade
END:VEVENT
BEGIN:VEVENT
DTSTAMP:20260423T095608Z
UID:153d77fb-5285-49f9-8b26-4ec39c3b10e4
DTSTART:20260428T160000
DTEND:20260428T180000
DESCRIPTION:
LOCATION:
SUMMARY:HS Boys and Girls Tennis @ Chelan
END:VEVENT
BEGIN:VEVENT
DTSTAMP:20260423T095608Z
UID:99def5be-1b15-4c94-8cbc-cacbcafc6810
DTSTART:20260428T160000
DTEND:20260428T170000
DESCRIPTION:
LOCATION:
SUMMARY:HS Softball @ HOME vs Lake Roosevelt
END:VEVENT
BEGIN:VEVENT
DTSTAMP:20260423T095608Z
UID:b3ce9c97-f8be-4efa-87ce-eb666e649d58
DTSTART:20260428T160000
DTEND:20260428T180000
DESCRIPTION:
LOCATION:
SUMMARY:HS Track and Field @ Tonasket
END:VEVENT
BEGIN:VEVENT
DTSTAMP:20260423T095608Z
UID:9c71dfeb-17ad-4e6f-93f3-3ccad41c3ce1
DTSTART:20260428T170000
DTEND:20260428T175000
DESCRIPTION:
LOCATION:20 S. Cedar St - CTE Building
SUMMARY:Annual CTE Meeting
END:VEVENT
BEGIN:VEVENT
DTSTAMP:20260423T095608Z
UID:0678ffa2-c04a-426c-a103-0196a57ec175
DTSTART:20260428T170000
DTEND:20260428T183000
DESCRIPTION:
LOCATION:
SUMMARY:HS Boys Varsity Soccer @ HOME vs Cascade
END:VEVENT
BEGIN:VEVENT
DTSTAMP:20260423T095608Z
UID:4029f630-e869-4dfb-9a6a-2ff5309b0f79
DTSTART:20260428T180000
DTEND:20260428T193000
DESCRIPTION:
LOCATION:619 Bartlett Ave W\, Omak\, WA 98841\, USA
SUMMARY:School Board Meeting
END:VEVENT
BEGIN:VEVENT
DTSTAMP:20260423T095608Z
UID:66c58f06-c859-4f88-a9c4-a83928de1d74
DTSTART:20260428T183000
DTEND:20260428T200000
DESCRIPTION:
LOCATION:
SUMMARY:HS Boys JV Soccer @ HOME vs Cascade
END:VEVENT
BEGIN:VEVENT
DTSTAMP:20260423T095608Z
UID:e64a09f2-7ffc-4f76-9573-bdf8fb361339
DTSTART:20260429T153000
DTEND:20260429T183000
DESCRIPTION:
LOCATION:
SUMMARY:HS Boys Varsity Baseball @ Tonasket- Double Header
END:VEVENT
BEGIN:VEVENT
DTSTAMP:20260423T095608Z
UID:cc68b665-636b-40e4-8b85-d6b3264374aa
DTSTART:20260430T140000
DTEND:20260430T160000
DESCRIPTION:
LOCATION:
SUMMARY:HS Golf @ Home vs Chelan- Senior Night
END:VEVENT
BEGIN:VEVENT
DTSTAMP:20260423T095608Z
UID:a54952d3-9f7e-4e7e-b4a2-7a987b4b537e
DTSTART:20260430T153000
DTEND:20260430T190000
DESCRIPTION:
LOCATION:
SUMMARY:HS JV Softball @ Quincy- Double Header
END:VEVENT
BEGIN:VEVENT
DTSTAMP:20260423T095608Z
UID:8f0235b8-485b-436c-9f10-a3236d4b59d7
DTSTART:20260430T160000
DTEND:20260430T180000
DESCRIPTION:
LOCATION:
SUMMARY:HS Boys and Girls Tennis @ HOME vs Cascade
END:VEVENT
BEGIN:VEVENT
DTSTAMP:20260423T095608Z
UID:52a5f6d6-8dca-49c3-801d-c9de4933e2fb
DTSTART:20260430T170000
DTEND:20260430T183000
DESCRIPTION:
LOCATION:
SUMMARY:HS Boys Varsity Soccer @ HOME vs Chelan
END:VEVENT
BEGIN:VEVENT
DTSTAMP:20260423T095608Z
UID:a5788358-3daa-4c10-8f20-0e19897bace5
DTSTART:20260430T183000
DTEND:20260430T200000
DESCRIPTION:
LOCATION:
SUMMARY:HS Boys JV Soccer @ HOME vs Chelan- Senior Night
END:VEVENT
BEGIN:VEVENT
DTSTAMP:20260423T095608Z
UID:990d8ff4-0fe6-4b97-8b3e-e5a3bd48ca6c
DTSTART:20260501T160000
DTEND:20260501T180000
DESCRIPTION:
LOCATION:
SUMMARY:HS Track and Field @ Peshastin
END:VEVENT
BEGIN:VEVENT
DTSTAMP:20260423T095608Z
UID:0f1af1cb-3c07-4862-a44b-b158797abe0b
DTSTART:20260502T110000
DTEND:20260502T140000
DESCRIPTION:
LOCATION:
SUMMARY:HS Baseball @ Manson- Double Header
END:VEVENT
BEGIN:VEVENT
DTSTAMP:20260423T095608Z
UID:10bf5f80-f600-4f98-88e0-86442e47b782
DTSTART:20260502T110000
DTEND:20260502T140000
DESCRIPTION:
LOCATION:
SUMMARY:HS Boys and Girls Tennis @ HOME vs Entiat
END:VEVENT
BEGIN:VEVENT
DTSTAMP:20260423T095608Z
UID:fe20b608-b69d-4bad-afc9-4823cee59750
DTSTART:20260502T110000
DTEND:20260502T140000
DESCRIPTION:
LOCATION:
SUMMARY:HS Softball @ Manson- Double Header
END:VEVENT
BEGIN:VEVENT
DTSTAMP:20260423T095608Z
UID:12af1749-0cf2-4185-8637-aa1d9d8370cc
DTSTART:20260502T120000
DTEND:20260502T140000
DESCRIPTION:
LOCATION:
SUMMARY:HS Boys Varsity Soccer @ HOME vs Soap Lake
END:VEVENT
BEGIN:VEVENT
DTSTAMP:20260423T095608Z
UID:31d33e8f-2c62-463d-8c3c-bf7c71ee316a
DTSTART:20260504T150000
DTEND:20260504T180000
DESCRIPTION:
LOCATION:
SUMMARY:JV Softball @ Cascade- Double Header
END:VEVENT
BEGIN:VEVENT
DTSTAMP:20260423T095608Z
UID:fbf09c2d-7ace-4022-8005-aa34f151d467
DTSTART:20260504T160000
DTEND:20260504T170000
DESCRIPTION:
LOCATION:
SUMMARY:JV Baseball @ HOME vs Wenatchee
END:VEVENT
BEGIN:VEVENT
DTSTAMP:20260423T095608Z
UID:767fd9c3-8a69-43a4-9071-808b3c8049ca
DTSTART:20260505T153000
DTEND:20260505T180000
DESCRIPTION:
LOCATION:
SUMMARY:HS JV Track and Field @ Ephrata
END:VEVENT
BEGIN:VEVENT
DTSTAMP:20260423T095608Z
UID:c51cbfab-07af-41c2-a029-f6dc626249c6
DTSTART:20260505T153000
DTEND:20260505T190000
DESCRIPTION:
LOCATION:
SUMMARY:HS Softball @ HOME vs Chelan- Double Header
END:VEVENT
BEGIN:VEVENT
DTSTAMP:20260423T095608Z
UID:31a10d64-16ce-4a61-b4e9-43beaf66ff2c
DTSTART;VALUE=DATE:20260511
DTEND;VALUE=DATE:20260516
DESCRIPTION:
LOCATION:
SUMMARY:Camp-D Group 1
END:VEVENT
BEGIN:VEVENT
DTSTAMP:20260423T095608Z
UID:178d9e09-7dd4-4fa0-88f9-64202523e0ff
DTSTART:20260515T153000
DTEND:20260515T180000
DESCRIPTION:
LOCATION:
SUMMARY:HS Track and Field @ Peshastin- CTL League Championships
END:VEVENT
BEGIN:VEVENT
DTSTAMP:20260423T095608Z
UID:87f912c9-c604-4b37-8ebe-edc01c8369d3
DTSTART;VALUE=DATE:20260518
DTEND;VALUE=DATE:20260523
DESCRIPTION:
LOCATION:
SUMMARY:Camp-D Group 2 
END:VEVENT
BEGIN:VEVENT
DTSTAMP:20260423T095608Z
UID:ac29952d-8a07-445e-8791-88f26ed0c88f
DTSTART:20260522T140000
DTEND:20260522T160000
DESCRIPTION:
LOCATION:
SUMMARY:HS Track and Field @ Cashmere- District 5 1A Championship
END:VEVENT
BEGIN:VEVENT
DTSTAMP:20260423T095608Z
UID:bfb3ad12-6626-4527-b804-7c8ca04c3021
DTSTART;VALUE=DATE:20260525
DTEND;VALUE=DATE:20260526
DESCRIPTION:
LOCATION:
SUMMARY:Memorial Day -  NO SCHOOL
END:VEVENT
BEGIN:VEVENT
DTSTAMP:20260423T095608Z
UID:557afd7b-4af8-4018-a09a-445f1d2ef71b
DTSTART:20260526T173000
DTEND:20260526T193000
DESCRIPTION:
LOCATION:619 Bartlett Ave W\, Omak\, WA 98841\, USA
SUMMARY:School Board Meeting
END:VEVENT
BEGIN:VEVENT
DTSTAMP:20260423T095608Z
UID:a0ef1b5c-7da1-4709-b080-5ea642b53cfd
DTSTART;VALUE=DATE:20260529
DTEND;VALUE=DATE:20260530
DESCRIPTION:
LOCATION:
SUMMARY:Last Day of Preschool 
END:VEVENT
BEGIN:VEVENT
DTSTAMP:20260423T095608Z
UID:19469752-ff97-4325-91a3-f2749b3271e7
DTSTART:20260531T140000
DTEND:20260531T150000
DESCRIPTION:
LOCATION:
SUMMARY:WAVA Graduation
END:VEVENT
BEGIN:VEVENT
DTSTAMP:20260423T095608Z
UID:1889d1da-d384-4294-b647-7b33a353932c
DTSTART:20260606T100000
DTEND:20260606T120000
DESCRIPTION:
LOCATION:
SUMMARY:Highlands Graduation 
END:VEVENT
BEGIN:VEVENT
DTSTAMP:20260423T095608Z
UID:84d8b78c-94a6-4d0d-8feb-3d119c959eca
DTSTART:20260606T130000
DTEND:20260606T150000
DESCRIPTION:
LOCATION:
SUMMARY:Omak High School Graduation 
END:VEVENT
BEGIN:VEVENT
DTSTAMP:20260423T095608Z
UID:34fa5aee-afd3-4b53-b8cc-702494df838a
DTSTART;VALUE=DATE:20260608
DTEND;VALUE=DATE:20260609
DESCRIPTION:
LOCATION:
SUMMARY:Early Release -  Records 
END:VEVENT
BEGIN:VEVENT
DTSTAMP:20260423T095608Z
UID:f3fadcbf-36b4-4196-9593-7d908c21a912
DTSTART:20260608T180000
DTEND:20260608T190000
DESCRIPTION:
LOCATION:
SUMMARY:8th Grade Promotion 
END:VEVENT
BEGIN:VEVENT
DTSTAMP:20260423T095608Z
UID:380b7195-9b6d-46e4-97c4-c85cc8ca9aea
DTSTART;VALUE=DATE:20260609
DTEND;VALUE=DATE:20260610
DESCRIPTION:
LOCATION:
SUMMARY:End of 4th Quarter / 3rd Trimester
END:VEVENT
BEGIN:VEVENT
DTSTAMP:20260423T095608Z
UID:62671853-4e77-4bb4-8a23-1d64029b5c54
DTSTART;VALUE=DATE:20260609
DTEND;VALUE=DATE:20260610
DESCRIPTION:
LOCATION:
SUMMARY:LAST DAY OF SCHOOL
END:VEVENT
BEGIN:VEVENT
DTSTAMP:20260423T095608Z
UID:0183ce0d-9c21-497a-93ff-aceb348a5d86
DTSTART:20260623T173000
DTEND:20260623T193000
DESCRIPTION:
LOCATION:619 Bartlett Ave W\, Omak\, WA 98841\, USA
SUMMARY:School Board Meeting
END:VEVENT
BEGIN:VEVENT
DTSTAMP:20260423T095608Z
UID:44cf7d0f-3fa2-4f50-a5e0-c9b2d4da4d02
DTSTART:20260728T170000
DTEND:20260728T173000
DESCRIPTION:
LOCATION:619 Bartlett Ave W\, Omak\, WA 98841\, USA
SUMMARY:2026-2027 Budget Hearing
END:VEVENT
END:VCALENDAR
