BEGIN:VCALENDAR
VERSION:2.0
PRODID:icalendar-ruby
CALSCALE:GREGORIAN
BEGIN:VTIMEZONE
TZID:America/New_York
BEGIN:DAYLIGHT
DTSTART:20260308T030000
TZOFFSETFROM:-0500
TZOFFSETTO:-0400
RRULE:FREQ=YEARLY;BYDAY=2SU;BYMONTH=3
TZNAME:EDT
END:DAYLIGHT
BEGIN:STANDARD
DTSTART:20261101T010000
TZOFFSETFROM:-0400
TZOFFSETTO:-0500
RRULE:FREQ=YEARLY;BYDAY=1SU;BYMONTH=11
TZNAME:EST
END:STANDARD
END:VTIMEZONE
BEGIN:VEVENT
DTSTAMP:20260425T131745Z
UID:9a53b223-7c62-4396-9b75-e445d65342ff
DTSTART:20260427T083000
DTEND:20260427T093000
DESCRIPTION:
LOCATION:
SUMMARY:Teacher Workday
END:VEVENT
BEGIN:VEVENT
DTSTAMP:20260425T131745Z
UID:1d8e39b5-61b2-4fb3-9076-3b2f59c138d8
DTSTART:20260428T170000
DTEND:20260428T183000
DESCRIPTION:
LOCATION:
SUMMARY:STEAM Family Night for Students in Grades 3-5
END:VEVENT
BEGIN:VEVENT
DTSTAMP:20260425T131745Z
UID:e6a61459-e41e-4196-a8f2-0f0c2452c98b
DTSTART:20260429T113000
DTEND:20260429T123000
DESCRIPTION:
LOCATION:
SUMMARY:WOL Field Day T-shirt Order Deadline
END:VEVENT
BEGIN:VEVENT
DTSTAMP:20260425T131745Z
UID:f6c0d364-ee4f-4bb0-a29d-7e2825cab3b4
DTSTART:20260504T100000
DTEND:20260508T110000
DESCRIPTION:
LOCATION:
SUMMARY:Teacher Appreciation Week  - (May 4 - 8th)
END:VEVENT
BEGIN:VEVENT
DTSTAMP:20260425T131745Z
UID:fb51bcf8-7e13-4791-b23c-f3f3beda0750
DTSTART:20260505T093000
DTEND:20260505T103000
DESCRIPTION:
LOCATION:
SUMMARY:Cinco De Mayo
END:VEVENT
BEGIN:VEVENT
DTSTAMP:20260425T131745Z
UID:bbf9ceeb-3383-4d96-bb6b-82fbe77a6fe4
DTSTART:20260511T100000
DTEND:20260511T110000
DESCRIPTION:
LOCATION:
SUMMARY:LHS Seniors Walk the Halls @ WOL
END:VEVENT
BEGIN:VEVENT
DTSTAMP:20260425T131745Z
UID:aece0654-0d0a-4c51-a6a0-6ef8decf7bcd
DTSTART:20260513T093000
DTEND:20260513T103000
DESCRIPTION:
LOCATION:
SUMMARY:Bowen East PK visits W. O. Lance Elementary
END:VEVENT
BEGIN:VEVENT
DTSTAMP:20260425T131745Z
UID:d1163ec5-a3ed-4ee2-bfac-ae5590965da2
DTSTART:20260518T100000
DTEND:20260518T110000
DESCRIPTION:
LOCATION:
SUMMARY:Liberty Legacy EOY Celebration for 3rd Graders in the Multi-Purpose
  Room
END:VEVENT
BEGIN:VEVENT
DTSTAMP:20260425T131745Z
UID:bdd48527-921c-40d7-bb2e-27a3ee2c2ae1
DTSTART:20260521T090000
DTEND:20260521T100000
DESCRIPTION:
LOCATION:
SUMMARY:WOL Kindergarten Graduation @ 9:00 a.m. LHS Auditorium
END:VEVENT
BEGIN:VEVENT
DTSTAMP:20260425T131745Z
UID:b69a1e86-6317-4f9d-b387-489d07ea8fc9
DTSTART:20260521T100000
DTEND:20260521T110000
DESCRIPTION:
LOCATION:
SUMMARY:WOL Sixth Grade Graduation @ 1:00 p.m. at LHS Auditorium
END:VEVENT
BEGIN:VEVENT
DTSTAMP:20260425T131745Z
UID:ccab300e-b307-4d55-8de3-8abb196f5839
DTSTART:20260522T083000
DTEND:20260522T093000
DESCRIPTION:
LOCATION:
SUMMARY:Field Day
END:VEVENT
BEGIN:VEVENT
DTSTAMP:20260425T131745Z
UID:6ad7d192-bc6f-49c2-b871-ba2cf87fb368
DTSTART:20260525T083000
DTEND:20260525T093000
DESCRIPTION:
LOCATION:
SUMMARY:Memorial Day - Holiday No School
END:VEVENT
BEGIN:VEVENT
DTSTAMP:20260425T131745Z
UID:f4f6a577-0c43-4812-bee8-65e15b5eca81
DTSTART:20260526T090000
DTEND:20260526T100000
DESCRIPTION:
LOCATION:
SUMMARY:Honors Day / Grades 1 & 2 @ 9:00 a.m.\; Grades 3\, 4\, & 5 @ 11:30 
 a.m. in WOL Multipurpose Room. Invitations will be sent home to students w
 ho can attend. The clothing is beach or tropical themed.
END:VEVENT
BEGIN:VEVENT
DTSTAMP:20260425T131745Z
UID:9eacce03-e1ca-458a-b77f-a6eb217c2a68
DTSTART:20260527T080000
DTEND:20260527T090000
DESCRIPTION:
LOCATION:
SUMMARY:Report Cards 
END:VEVENT
BEGIN:VEVENT
DTSTAMP:20260425T131745Z
UID:5a87c5de-14d9-4c6a-8df9-611dfd2f3326
DTSTART:20260527T090000
DTEND:20260527T100000
DESCRIPTION:
LOCATION:
SUMMARY:Last day of school for students
END:VEVENT
BEGIN:VEVENT
DTSTAMP:20260425T131745Z
UID:03975d4b-f861-4c73-9304-e60108950346
DTSTART:20260528T080000
DTEND:20260529T090000
DESCRIPTION:
LOCATION:
SUMMARY:Teacher Workday
END:VEVENT
BEGIN:VEVENT
DTSTAMP:20260425T131745Z
UID:82d89f49-d8e1-477f-b4bb-3cb0200b5e8d
DTSTART:20260601T083000
DTEND:20260601T093000
DESCRIPTION:
LOCATION:
SUMMARY:TEAMS Teacher Workday
END:VEVENT
END:VCALENDAR
