BEGIN:VCALENDAR
VERSION:2.0
PRODID:icalendar-ruby
CALSCALE:GREGORIAN
BEGIN:VTIMEZONE
TZID:America/New_York
BEGIN:DAYLIGHT
DTSTART:20260308T030000
TZOFFSETFROM:-0500
TZOFFSETTO:-0400
RRULE:FREQ=YEARLY;BYDAY=2SU;BYMONTH=3
TZNAME:EDT
END:DAYLIGHT
BEGIN:STANDARD
DTSTART:20261101T010000
TZOFFSETFROM:-0400
TZOFFSETTO:-0500
RRULE:FREQ=YEARLY;BYDAY=1SU;BYMONTH=11
TZNAME:EST
END:STANDARD
END:VTIMEZONE
BEGIN:VEVENT
DTSTAMP:20260423T103433Z
UID:90ffc310-81df-4fa4-ae2b-e05ce29d7a9f
DTSTART:20260425T100000
DTEND:20260425T130000
DESCRIPTION:
LOCATION:1978 Eagle Way\, Manassas\, VA 20110\, USA
SUMMARY:Manassas Reads
END:VEVENT
BEGIN:VEVENT
DTSTAMP:20260423T103433Z
UID:ef91c633-8479-4ddb-8b17-3393bb6c345a
DTSTART:20260427T173000
DTEND:20260427T193000
DESCRIPTION:<p><span>The School Board of the City of Manassas will hold a <
 strong>Policy Committee Meeting on Monday\, April 27\, 2026\, at 5:30 p.m.
  &nbsp\;</strong>Please note the location:<strong> &nbsp\;Central Office\,
  8700 Centreville Road\, Manassas\, VA.</strong></span></p><p><span>A copy
  of&nbsp\;the agenda may be found at </span><a target="_blank" rel="noopen
 er noreferrer nofollow" href="http://www.boarddocs.com/va/mcpsva/Board.nsf
 /Public"><span>http://www.boarddocs.com/va/mcpsva/Board.nsf/Public</span><
 /a><span>.</span></p>
LOCATION:Historic District\, 8700 Centreville Rd\, Manassas\, VA 20110\, US
 A
SUMMARY:School Board Policy Committee Meeting
END:VEVENT
BEGIN:VEVENT
DTSTAMP:20260423T103433Z
UID:c00ac701-cff8-491f-ae3a-78dcf7d519d0
DTSTART:20260428T180000
DTEND:20260428T200000
DESCRIPTION:<p><span>The School Board of the City of Manassas will hold a R
 egular Business Meeting&nbsp\;on <strong>Tuesday\, April 28\, 2026\, at 6 
 p.m.</strong>&nbsp\; Please note the location: &nbsp\;<strong>City Hall\, 
 9027 Center Street\, Manassas\, VA.</strong></span></p><p><span>A copy of 
 the agenda may be found at&nbsp\;</span><a target="_blank" rel="noopener n
 oreferrer nofollow" href="http://www.boarddocs.com/va/mcpsva/Board.nsf/Pub
 lic"><span>http://www.boarddocs.com/va/mcpsva/Board.nsf/Public</span></a><
 span>.</span></p>
LOCATION:9027 Center St\, Manassas\, VA 20110\, USA
SUMMARY:School Board Regular Business Meeting
END:VEVENT
BEGIN:VEVENT
DTSTAMP:20260423T103433Z
UID:22c86890-0ff7-44df-9a84-be29438bb4c2
DTSTART:20260506T190000
DTEND:20260506T203000
DESCRIPTION:<p>The SEAC supports special education opportunities by gatheri
 ng\, sharing\, and disseminating information to the Manassas City Public S
 chools (MCPS) Office of Special Education and the MCPS school board. We we
 lcome parents\, students\, MCPS staff\, and the community's support of rai
 sing awareness and advocating for children with special needs.</p><p>Pleas
 e contact Sharon Chambers at 571-377-6069 or <a target="_blank" rel="noope
 ner noreferrer nofollow" href="mailto:schambers@mcpsva.org">email </a>Shar
 on Chambers to receive the Zoom Link or for more information.&nbsp\;</p>
LOCATION:Historic District\, 8700 Centreville Rd\, Manassas\, VA 20110\, US
 A
SUMMARY:Special Education Advisory Committee (SEAC) Meeting
END:VEVENT
BEGIN:VEVENT
DTSTAMP:20260423T103433Z
UID:b67f4260-111b-4968-9be2-d36ffc4b3168
DTSTART;VALUE=DATE:20260513
DTEND;VALUE=DATE:20260514
DESCRIPTION:
LOCATION:
SUMMARY:Early Release Day (PM Professional Day)
END:VEVENT
BEGIN:VEVENT
DTSTAMP:20260423T103433Z
UID:87dfc4a8-f04d-4ce7-9796-b53f84a9b721
DTSTART:20260519T180000
DTEND:20260519T200000
DESCRIPTION:
LOCATION:9027 Center St\, Manassas\, VA 20110\, USA
SUMMARY:School Board Regular Business Meeting
END:VEVENT
BEGIN:VEVENT
DTSTAMP:20260423T103433Z
UID:33f15ff9-ef3c-4984-9dae-11367a80bdf7
DTSTART:20260520T173000
DTEND:20260520T200000
DESCRIPTION:<p>Manassas City Public Schools\, in partnership with the Manas
 sas City Police Department\, proudly presents the award-winning Parent E3 
 (Engage\, Educate\, Empower) Series<strong>.</strong> This free program pr
 ovides parents and caregivers with essential information and resources on 
 trending topics that impact youth. Each session offers expert insights\, p
 ractical tips\, and the opportunity to connect with other families and com
 munity partners.</p><p><strong>Register here to attend:</strong> <a target
 ="_blank" rel="noopener noreferrer nofollow" href="https://form.jotform.co
 m/213333962420045">https://form.jotform.com/213333962420045</a></p><hr><p>
 Las Escuelas Públicas de la Ciudad de Manassas\, en colaboración con el 
 Departamento de Policía de la Ciudad de Manassas\, presentan con orgullo 
 la galardonada Serie E3 para Padres (Participar\, Aprender\, Empoderar). E
 ste programa gratuito brinda a los padres y cuidadores información y recu
 rsos esenciales sobre temas actuales que afectan a la juventud. Cada sesi
 ón ofrece información de expertos\, consejos prácticos y la oportunidad
  de conectarse con otras familias y socios comunitarios.</p><p><strong>Reg
 ístrese aquí para asistir:</strong> <a target="_blank" rel="noopener nor
 eferrer nofollow" href="https://form.jotform.com/213333962420045">https://
 form.jotform.com/213333962420045</a></p>
LOCATION:8750 Sudley Rd\, Manassas\, VA 20110\, USA
SUMMARY:Parent E3 Series: Youth Mental Health
END:VEVENT
BEGIN:VEVENT
DTSTAMP:20260423T103433Z
UID:48b5b197-6f93-4354-980e-b9a5baca7b87
DTSTART;VALUE=DATE:20260525
DTEND;VALUE=DATE:20260526
DESCRIPTION:
LOCATION:
SUMMARY:Memorial Day (Schools and Offices Closed)
END:VEVENT
BEGIN:VEVENT
DTSTAMP:20260423T103433Z
UID:a56579f7-53c7-46d1-8823-e51a82f023e5
DTSTART;VALUE=DATE:20260605
DTEND;VALUE=DATE:20260606
DESCRIPTION:
LOCATION:
SUMMARY:Last Day of School for students and teachers (Early Release Day)
END:VEVENT
BEGIN:VEVENT
DTSTAMP:20260423T103433Z
UID:7f5719c6-a24d-4ace-9652-b10faf76c300
DTSTART:20260609T180000
DTEND:20260609T200000
DESCRIPTION:
LOCATION:9027 Center St\, Manassas\, VA 20110\, USA
SUMMARY:School Board Regular Business Meeting
END:VEVENT
BEGIN:VEVENT
DTSTAMP:20260423T103433Z
UID:fe931b61-192a-4f27-bc23-d37207bec7c0
DTSTART;VALUE=DATE:20260619
DTEND;VALUE=DATE:20260620
DESCRIPTION:
LOCATION:
SUMMARY:Juneteenth (Schools and Offices Closed)
END:VEVENT
BEGIN:VEVENT
DTSTAMP:20260423T103433Z
UID:aa1766a8-c2e7-4e91-90d8-35072d487907
DTSTART:20260623T180000
DTEND:20260623T200000
DESCRIPTION:
LOCATION:9027 Center St\, Manassas\, VA 20110\, USA
SUMMARY:School Board Regular Business Meeting
END:VEVENT
BEGIN:VEVENT
DTSTAMP:20260423T103433Z
UID:22ae5598-8c16-4d56-856a-325f54aa8956
DTSTART:20260625T173000
DTEND:20260625T193000
DESCRIPTION:
LOCATION:9027 Center St\, Manassas\, VA 20110\, USA
SUMMARY:Joint School Board and City Council Meeting 
END:VEVENT
BEGIN:VEVENT
DTSTAMP:20260423T103433Z
UID:45b656a3-b607-4513-a080-065066e017c4
DTSTART:20260714T080000
DTEND:20260714T100000
DESCRIPTION:
LOCATION:
SUMMARY:School Board and City Council Legislative Breakfast
END:VEVENT
BEGIN:VEVENT
DTSTAMP:20260423T103433Z
UID:59fd24ce-a0c8-468f-8ed0-7cd12280ee35
DTSTART:20260714T180000
DTEND:20260714T200000
DESCRIPTION:
LOCATION:9027 Center St\, Manassas\, VA 20110\, USA
SUMMARY:School Board Regular Business Meeting
END:VEVENT
BEGIN:VEVENT
DTSTAMP:20260423T103433Z
UID:78d53776-a6ab-41d9-abd3-ab278e04112d
DTSTART;VALUE=DATE:20260728
DTEND;VALUE=DATE:20260801
DESCRIPTION:
LOCATION:
SUMMARY:New Teacher Academy
END:VEVENT
BEGIN:VEVENT
DTSTAMP:20260423T103433Z
UID:c1101d96-9241-40ca-8495-6e5e1e1ba955
DTSTART:20260728T180000
DTEND:20260728T200000
DESCRIPTION:
LOCATION:9027 Center St\, Manassas\, VA 20110\, USA
SUMMARY:School Board Regular Business Meeting
END:VEVENT
BEGIN:VEVENT
DTSTAMP:20260423T103433Z
UID:2ac553ab-42eb-4662-bff9-668e82460ada
DTSTART;VALUE=DATE:20260803
DTEND;VALUE=DATE:20260804
DESCRIPTION:
LOCATION:
SUMMARY:All Teachers Report
END:VEVENT
BEGIN:VEVENT
DTSTAMP:20260423T103433Z
UID:3e098136-4553-4dfd-9e97-6d1ca9686e37
DTSTART;VALUE=DATE:20260804
DTEND;VALUE=DATE:20260812
DESCRIPTION:
LOCATION:
SUMMARY:Professional Day  ( student holiday )
END:VEVENT
BEGIN:VEVENT
DTSTAMP:20260423T103433Z
UID:6b5c078f-3aaa-4414-a01f-801ef17ce9e7
DTSTART:20260811T180000
DTEND:20260811T200000
DESCRIPTION:
LOCATION:9027 Center St\, Manassas\, VA 20110\, USA
SUMMARY:School Board Regular Business Meeting
END:VEVENT
BEGIN:VEVENT
DTSTAMP:20260423T103433Z
UID:dd857bda-6433-4b5d-a116-67338aa538fc
DTSTART;VALUE=DATE:20260812
DTEND;VALUE=DATE:20260813
DESCRIPTION:
LOCATION:
SUMMARY:First Day of School for Students
END:VEVENT
BEGIN:VEVENT
DTSTAMP:20260423T103433Z
UID:db771ccc-d650-42c8-a5e2-45eb1ba12aa1
DTSTART:20260825T180000
DTEND:20260825T200000
DESCRIPTION:
LOCATION:9027 Center St\, Manassas\, VA 20110\, USA
SUMMARY:School Board Regular Business Meeting
END:VEVENT
BEGIN:VEVENT
DTSTAMP:20260423T103433Z
UID:a4582a37-e2ec-4f16-86c7-fdd7c86164b1
DTSTART;VALUE=DATE:20260904
DTEND;VALUE=DATE:20260908
DESCRIPTION:
LOCATION:
SUMMARY:Labor Day weekend holiday (schools and offices closed)
END:VEVENT
BEGIN:VEVENT
DTSTAMP:20260423T103433Z
UID:074ff7c5-0a3b-451d-9549-48787375ef6d
DTSTART:20260908T180000
DTEND:20260908T200000
DESCRIPTION:
LOCATION:9027 Center St\, Manassas\, VA 20110\, USA
SUMMARY:School Board Regular Business Meeting
END:VEVENT
BEGIN:VEVENT
DTSTAMP:20260423T103433Z
UID:94cd5298-ed29-4fac-9ed0-1c919279b692
DTSTART;VALUE=DATE:20260911
DTEND;VALUE=DATE:20260912
DESCRIPTION:
LOCATION:
SUMMARY:Rosh Hashanah ( schools and offices closed )
END:VEVENT
BEGIN:VEVENT
DTSTAMP:20260423T103433Z
UID:4ca62c19-a553-4b94-b0ed-c12cc16c7131
DTSTART;VALUE=DATE:20260916
DTEND;VALUE=DATE:20260917
DESCRIPTION:
LOCATION:
SUMMARY:Early Release ( PM Professional Day )
END:VEVENT
BEGIN:VEVENT
DTSTAMP:20260423T103433Z
UID:cf803eda-6230-4cd4-9bd2-3b267e75b5db
DTSTART;VALUE=DATE:20260921
DTEND;VALUE=DATE:20260922
DESCRIPTION:
LOCATION:
SUMMARY:Yom Kippur ( schools and officed closed )
END:VEVENT
BEGIN:VEVENT
DTSTAMP:20260423T103433Z
UID:50f08987-f3d7-4a29-8c22-816e9c58c998
DTSTART:20260922T180000
DTEND:20260922T200000
DESCRIPTION:
LOCATION:9027 Center St\, Manassas\, VA 20110\, USA
SUMMARY:School Board Regular Business Meeting
END:VEVENT
BEGIN:VEVENT
DTSTAMP:20260423T103433Z
UID:a341d175-0c85-4f27-a305-3ba53d426eff
DTSTART;VALUE=DATE:20261002
DTEND;VALUE=DATE:20261003
DESCRIPTION:
LOCATION:
SUMMARY:Professional Day ( student holiday )
END:VEVENT
BEGIN:VEVENT
DTSTAMP:20260423T103433Z
UID:66be4c5f-e254-488f-83f1-956492bc1513
DTSTART:20261013T180000
DTEND:20261013T200000
DESCRIPTION:
LOCATION:9027 Center St\, Manassas\, VA 20110\, USA
SUMMARY:School Board Regular Business Meeting
END:VEVENT
BEGIN:VEVENT
DTSTAMP:20260423T103433Z
UID:f706e546-5e4b-4ff9-98b0-9401e94330b0
DTSTART;VALUE=DATE:20261021
DTEND;VALUE=DATE:20261022
DESCRIPTION:
LOCATION:
SUMMARY:Early Release ( PM Professional Day )
END:VEVENT
BEGIN:VEVENT
DTSTAMP:20260423T103433Z
UID:f9389940-cf37-4ff4-bc12-060ef727dedd
DTSTART:20261027T180000
DTEND:20261027T200000
DESCRIPTION:
LOCATION:9027 Center St\, Manassas\, VA 20110\, USA
SUMMARY:School Board Regular Business Meeting
END:VEVENT
BEGIN:VEVENT
DTSTAMP:20260423T103433Z
UID:56b7e3cd-9ed2-4c88-a2ba-e8f8bbc8770b
DTSTART:20261029T173000
DTEND:20261029T193000
DESCRIPTION:
LOCATION:9027 Center St\, Manassas\, VA 20110\, USA
SUMMARY:Joint School Board and City Council Meeting 
END:VEVENT
BEGIN:VEVENT
DTSTAMP:20260423T103433Z
UID:a02e278b-4e9d-49c3-8cd4-aae89d162d2d
DTSTART;VALUE=DATE:20261102
DTEND;VALUE=DATE:20261103
DESCRIPTION:
LOCATION:
SUMMARY:Parent-Teacher Conferences ( early release for students )
END:VEVENT
BEGIN:VEVENT
DTSTAMP:20260423T103433Z
UID:28404269-decb-4b19-b9e9-8fb152c15a35
DTSTART;VALUE=DATE:20261103
DTEND;VALUE=DATE:20261104
DESCRIPTION:
LOCATION:
SUMMARY:Election Day/Professional Day (student holiday)
END:VEVENT
BEGIN:VEVENT
DTSTAMP:20260423T103433Z
UID:09d3d3d1-1d04-430f-9e74-152ff1d70dbf
DTSTART:20261105T173000
DTEND:20261105T193000
DESCRIPTION:
LOCATION:9027 Center St\, Manassas\, VA 20110\, USA
SUMMARY:Joint School Board and City Council Meeting 
END:VEVENT
BEGIN:VEVENT
DTSTAMP:20260423T103433Z
UID:63fea459-02cb-4d17-9090-166730a9d6ed
DTSTART:20261110T180000
DTEND:20261110T200000
DESCRIPTION:
LOCATION:9027 Center St\, Manassas\, VA 20110\, USA
SUMMARY:School Board Regular Business Meeting
END:VEVENT
BEGIN:VEVENT
DTSTAMP:20260423T103433Z
UID:035c7788-8d91-49a2-878a-794844580c6c
DTSTART;VALUE=DATE:20261111
DTEND;VALUE=DATE:20261112
DESCRIPTION:
LOCATION:
SUMMARY:Veterans Day (schools and offices closed)
END:VEVENT
BEGIN:VEVENT
DTSTAMP:20260423T103433Z
UID:69ceec73-d4bc-47f5-b958-78b14882dff2
DTSTART;VALUE=DATE:20261125
DTEND;VALUE=DATE:20261128
DESCRIPTION:
LOCATION:
SUMMARY:Thanksgiving break ( schools and offices closed to the public )
END:VEVENT
BEGIN:VEVENT
DTSTAMP:20260423T103433Z
UID:e3d357ef-b360-4b55-a0d1-f8749c289dcd
DTSTART:20261208T180000
DTEND:20261208T200000
DESCRIPTION:
LOCATION:9027 Center St\, Manassas\, VA 20110\, USA
SUMMARY:School Board Regular Business Meeting
END:VEVENT
BEGIN:VEVENT
DTSTAMP:20260423T103433Z
UID:0d4661f8-d19a-40b3-b2d9-012031fca1f7
DTSTART;VALUE=DATE:20261209
DTEND;VALUE=DATE:20261210
DESCRIPTION:
LOCATION:
SUMMARY:Early Release ( PM Professional Day )
END:VEVENT
BEGIN:VEVENT
DTSTAMP:20260423T103433Z
UID:22136a03-ceef-42d7-b95a-a0d551a3c76f
DTSTART;VALUE=DATE:20261221
DTEND;VALUE=DATE:20270102
DESCRIPTION:
LOCATION:
SUMMARY:Winter Break (no school for students and teachers\; schools and off
 ices will be closed December 24 and 25)
END:VEVENT
BEGIN:VEVENT
DTSTAMP:20260423T103433Z
UID:01b0cbbb-e84e-4e48-9b88-bc25e6ea2e60
DTSTART;VALUE=DATE:20270101
DTEND;VALUE=DATE:20270102
DESCRIPTION:
LOCATION:
SUMMARY:New Year's Day (schools and offices closed)
END:VEVENT
BEGIN:VEVENT
DTSTAMP:20260423T103433Z
UID:cea05df8-0e07-493f-ac8a-b7beba30c63e
DTSTART:20270104T160000
DTEND:20270104T180000
DESCRIPTION:
LOCATION:Historic District\, 8700 Centreville Rd\, Manassas\, VA 20110\, US
 A
SUMMARY:School Board Organizational Meeting
END:VEVENT
BEGIN:VEVENT
DTSTAMP:20260423T103433Z
UID:0945ead9-6e43-482e-ab08-3c9d3740d062
DTSTART;VALUE=DATE:20270108
DTEND;VALUE=DATE:20270109
DESCRIPTION:
LOCATION:
SUMMARY:Professional Day ( student holiday )
END:VEVENT
BEGIN:VEVENT
DTSTAMP:20260423T103433Z
UID:89ddf1bb-06bb-4e28-ab12-e4a664a07731
DTSTART;VALUE=DATE:20270113
DTEND;VALUE=DATE:20270114
DESCRIPTION:
LOCATION:
SUMMARY:Early Release ( PM Professional Day )
END:VEVENT
BEGIN:VEVENT
DTSTAMP:20260423T103433Z
UID:ef97e562-1443-40f9-ad5e-72ee4a1b7c8d
DTSTART;VALUE=DATE:20270118
DTEND;VALUE=DATE:20270119
DESCRIPTION:
LOCATION:
SUMMARY:Martin Luther King Jr. Day (schools and offices closed)
END:VEVENT
BEGIN:VEVENT
DTSTAMP:20260423T103433Z
UID:2eb4a624-2701-478d-9b7a-9eff2085a5aa
DTSTART;VALUE=DATE:20270201
DTEND;VALUE=DATE:20270202
DESCRIPTION:
LOCATION:
SUMMARY:Professional Day ( student holiday )
END:VEVENT
BEGIN:VEVENT
DTSTAMP:20260423T103433Z
UID:e28182d7-764c-41a4-b1ea-1a5672ee1024
DTSTART;VALUE=DATE:20270210
DTEND;VALUE=DATE:20270211
DESCRIPTION:
LOCATION:
SUMMARY:Parent-Teacher Conferences (student release for students)
END:VEVENT
BEGIN:VEVENT
DTSTAMP:20260423T103433Z
UID:ab73577b-0b27-46fd-8259-fbc4de99002a
DTSTART;VALUE=DATE:20270215
DTEND;VALUE=DATE:20270216
DESCRIPTION:
LOCATION:
SUMMARY:President's Day (schools and offices closed)
END:VEVENT
BEGIN:VEVENT
DTSTAMP:20260423T103433Z
UID:7f1b4124-34bb-416d-b8e0-cfd2815b6a12
DTSTART;VALUE=DATE:20270303
DTEND;VALUE=DATE:20270304
DESCRIPTION:
LOCATION:
SUMMARY:Early Release ( PM Professional Day )
END:VEVENT
BEGIN:VEVENT
DTSTAMP:20260423T103433Z
UID:48bb91e3-cc8d-4bed-9433-d9d1e2bb4f34
DTSTART;VALUE=DATE:20270310
DTEND;VALUE=DATE:20270311
DESCRIPTION:
LOCATION:
SUMMARY:Eid al-Fitr (schools and offices closed)
END:VEVENT
BEGIN:VEVENT
DTSTAMP:20260423T103433Z
UID:a87eebab-2a3a-4b6f-8406-c84156dfbdae
DTSTART;VALUE=DATE:20270329
DTEND;VALUE=DATE:20270403
DESCRIPTION:
LOCATION:
SUMMARY:Spring Break  (no school for students and teachers)
END:VEVENT
BEGIN:VEVENT
DTSTAMP:20260423T103433Z
UID:49ad63d3-fb35-40f2-8498-db4fe4aa5ad9
DTSTART;VALUE=DATE:20270401
DTEND;VALUE=DATE:20270403
DESCRIPTION:
LOCATION:
SUMMARY:Spring Break  (no school for students and teachers\; schools and of
 fices will be closed April 2)
END:VEVENT
BEGIN:VEVENT
DTSTAMP:20260423T103433Z
UID:d574a8ff-7cbf-46df-a0ee-866910af4d6d
DTSTART;VALUE=DATE:20270407
DTEND;VALUE=DATE:20270408
DESCRIPTION:
LOCATION:
SUMMARY:Early Release ( PM Professional Day )
END:VEVENT
BEGIN:VEVENT
DTSTAMP:20260423T103433Z
UID:c2e9ccb0-29a0-4097-bfcb-907107b8b537
DTSTART;VALUE=DATE:20270419
DTEND;VALUE=DATE:20270420
DESCRIPTION:
LOCATION:
SUMMARY:Professional Day ( student holiday )
END:VEVENT
BEGIN:VEVENT
DTSTAMP:20260423T103433Z
UID:62a4e9b9-cf97-4a88-8c46-e4a0c57f4c28
DTSTART;VALUE=DATE:20270512
DTEND;VALUE=DATE:20270513
DESCRIPTION:
LOCATION:
SUMMARY:Early Release ( PM Professional Day )
END:VEVENT
BEGIN:VEVENT
DTSTAMP:20260423T103433Z
UID:18f47896-f526-4064-8f68-f1cf8d211790
DTSTART;VALUE=DATE:20270531
DTEND;VALUE=DATE:20270601
DESCRIPTION:
LOCATION:
SUMMARY:Memorial Day (schools and offices closed)
END:VEVENT
BEGIN:VEVENT
DTSTAMP:20260423T103433Z
UID:5db8627e-e0cf-430a-b536-8c672f5fecb5
DTSTART;VALUE=DATE:20270604
DTEND;VALUE=DATE:20270605
DESCRIPTION:
LOCATION:
SUMMARY:Last Day of School for students and teachers (early release for stu
 dents) 
END:VEVENT
BEGIN:VEVENT
DTSTAMP:20260423T103433Z
UID:87f90f3b-100c-42ba-ba0a-c9fc83cb2ea5
DTSTART;VALUE=DATE:20270618
DTEND;VALUE=DATE:20270619
DESCRIPTION:
LOCATION:
SUMMARY:Holiday (schools and offices closed ahead of Juneteenth)
END:VEVENT
END:VCALENDAR
