BEGIN:VCALENDAR
VERSION:2.0
PRODID:icalendar-ruby
CALSCALE:GREGORIAN
BEGIN:VTIMEZONE
TZID:America/Chicago
BEGIN:DAYLIGHT
DTSTART:20260308T030000
TZOFFSETFROM:-0600
TZOFFSETTO:-0500
RRULE:FREQ=YEARLY;BYDAY=2SU;BYMONTH=3
TZNAME:CDT
END:DAYLIGHT
BEGIN:STANDARD
DTSTART:20261101T010000
TZOFFSETFROM:-0500
TZOFFSETTO:-0600
RRULE:FREQ=YEARLY;BYDAY=1SU;BYMONTH=11
TZNAME:CST
END:STANDARD
END:VTIMEZONE
BEGIN:VEVENT
DTSTAMP:20260422T034852Z
UID:21cb6236-3720-459f-a0c3-a87384147821
DTSTART;VALUE=DATE:20260422
DTEND;VALUE=DATE:20260423
DESCRIPTION:
LOCATION:
SUMMARY:National Administrative Professionals Day
END:VEVENT
BEGIN:VEVENT
DTSTAMP:20260422T034852Z
UID:84d92d42-fbb9-40c5-9779-5966ba0b536f
DTSTART:20260423T170000
DTEND:20260423T180000
DESCRIPTION:<b>TBA</b>
LOCATION:
SUMMARY:Open House
END:VEVENT
BEGIN:VEVENT
DTSTAMP:20260422T034852Z
UID:65d93b26-0adf-4eaf-97f1-64cad08cfa78
DTSTART;VALUE=DATE:20260428
DTEND;VALUE=DATE:20260429
DESCRIPTION:
LOCATION:
SUMMARY:School Bus Driver Appreciation Day
END:VEVENT
BEGIN:VEVENT
DTSTAMP:20260422T034852Z
UID:5e79e747-5279-4229-ae04-380aa459ed66
DTSTART;VALUE=DATE:20260501
DTEND;VALUE=DATE:20260502
DESCRIPTION:
LOCATION:
SUMMARY: No School: Student Holiday/Teacher Planning Day
END:VEVENT
BEGIN:VEVENT
DTSTAMP:20260422T034852Z
UID:6486cd52-cd7e-4b26-ba3d-df263e2ff50d
DTSTART;VALUE=DATE:20260501
DTEND;VALUE=DATE:20260502
DESCRIPTION:
LOCATION:
SUMMARY:School Lunch Hero Day
END:VEVENT
BEGIN:VEVENT
DTSTAMP:20260422T034852Z
UID:f51ea5df-2730-4926-a248-5e2460bb8316
DTSTART;VALUE=DATE:20260504
DTEND;VALUE=DATE:20260509
DESCRIPTION:
LOCATION:
SUMMARY:Teacher Appreciation Week
END:VEVENT
BEGIN:VEVENT
DTSTAMP:20260422T034852Z
UID:d8f15955-7399-438b-b7f9-47c24784ddaa
DTSTART;VALUE=DATE:20260506
DTEND;VALUE=DATE:20260507
DESCRIPTION:
LOCATION:
SUMMARY:School Nurse Day
END:VEVENT
BEGIN:VEVENT
DTSTAMP:20260422T034852Z
UID:ebc8b3e1-ef7f-4cc9-8b56-d0e85469b4d8
DTSTART;VALUE=DATE:20260513
DTEND;VALUE=DATE:20260514
DESCRIPTION:
LOCATION:
SUMMARY:Texas Public School Paraprofessional Day
END:VEVENT
BEGIN:VEVENT
DTSTAMP:20260422T034852Z
UID:f76e8916-2b6e-4ce0-8b27-09f30a41b45e
DTSTART;VALUE=DATE:20260515
DTEND;VALUE=DATE:20260516
DESCRIPTION:<b>TBA</b>
LOCATION:
SUMMARY:Field Day
END:VEVENT
BEGIN:VEVENT
DTSTAMP:20260422T034852Z
UID:97532a0f-951b-4c7b-96b3-c2e7ad1fead2
DTSTART;VALUE=DATE:20260518
DTEND;VALUE=DATE:20260519
DESCRIPTION:
LOCATION:
SUMMARY:Speech Pathologist Day
END:VEVENT
BEGIN:VEVENT
DTSTAMP:20260422T034852Z
UID:c5790f1e-6f97-49c4-80cc-5afac262a808
DTSTART;VALUE=DATE:20260519
DTEND;VALUE=DATE:20260520
DESCRIPTION:
LOCATION:
SUMMARY:Prek4-Field Trip (Graduation Rehearsal)
END:VEVENT
BEGIN:VEVENT
DTSTAMP:20260422T034852Z
UID:c6df1ddf-a189-4947-96f9-45ee7b6ca0ff
DTSTART;VALUE=DATE:20260521
DTEND;VALUE=DATE:20260522
DESCRIPTION:
LOCATION:
SUMMARY:Prek-4 Graduation Ceremony 
END:VEVENT
BEGIN:VEVENT
DTSTAMP:20260422T034852Z
UID:3d252706-017c-4319-9ff0-ce55a34526c1
DTSTART;VALUE=DATE:20260522
DTEND;VALUE=DATE:20260523
DESCRIPTION:
LOCATION:
SUMMARY:Grading Period Ends (4th Quarter)
END:VEVENT
BEGIN:VEVENT
DTSTAMP:20260422T034852Z
UID:f43ae2bc-0d7c-4fb3-9929-59a9f38831d9
DTSTART;VALUE=DATE:20260522
DTEND;VALUE=DATE:20260523
DESCRIPTION:
LOCATION:
SUMMARY:Last Day of School! Early Release (All Students)
END:VEVENT
BEGIN:VEVENT
DTSTAMP:20260422T034852Z
UID:e05230de-02aa-4485-b6ec-077678edcd6f
DTSTART;VALUE=DATE:20260523
DTEND;VALUE=DATE:20260524
DESCRIPTION:
LOCATION:
SUMMARY:Class of 2026 Graduation Ceremony
END:VEVENT
BEGIN:VEVENT
DTSTAMP:20260422T034852Z
UID:1ff22dc3-2f7c-44e2-8933-adc8171e4d05
DTSTART;VALUE=DATE:20260911
DTEND;VALUE=DATE:20260912
DESCRIPTION:
LOCATION:
SUMMARY:Leopard Friday
END:VEVENT
BEGIN:VEVENT
DTSTAMP:20260422T034852Z
UID:34175904-46f0-4eef-bb0d-616d51495d06
DTSTART;VALUE=DATE:20260930
DTEND;VALUE=DATE:20261001
DESCRIPTION:
LOCATION:
SUMMARY:Homecoming Parade
END:VEVENT
BEGIN:VEVENT
DTSTAMP:20260422T034852Z
UID:a9038f36-d9bb-4e78-a5da-9de11d0091f1
DTSTART:20261002T193000
DTEND:20261002T223000
DESCRIPTION:
LOCATION:
SUMMARY:Homecoming Game
END:VEVENT
END:VCALENDAR
