BEGIN:VCALENDAR
VERSION:2.0
PRODID:icalendar-ruby
CALSCALE:GREGORIAN
BEGIN:VTIMEZONE
TZID:America/Chicago
BEGIN:DAYLIGHT
DTSTART:20260308T030000
TZOFFSETFROM:-0600
TZOFFSETTO:-0500
RRULE:FREQ=YEARLY;BYDAY=2SU;BYMONTH=3
TZNAME:CDT
END:DAYLIGHT
BEGIN:STANDARD
DTSTART:20261101T010000
TZOFFSETFROM:-0500
TZOFFSETTO:-0600
RRULE:FREQ=YEARLY;BYDAY=1SU;BYMONTH=11
TZNAME:CST
END:STANDARD
END:VTIMEZONE
BEGIN:VEVENT
DTSTAMP:20260420T141515Z
UID:963ae3f8-6a03-4cb2-a3a0-f3b4e25bd30d
DTSTART:20260421T180000
DTEND:20260421T183000
DESCRIPTION:
LOCATION:Education Service Center (board room)\, 701 S Main St\, Broken Arr
 ow\, OK 74012\, USA
SUMMARY:Title VI meeting/Elections
END:VEVENT
BEGIN:VEVENT
DTSTAMP:20260420T141515Z
UID:2bfac7fc-17a2-4aae-9dd6-5d3e365d4a9c
DTSTART:20260421T183000
DTEND:20260421T190000
DESCRIPTION:
LOCATION:Education Service Center (board room)\, 701 S Main St\, Broken Arr
 ow\, OK 74012\, USA
SUMMARY:JOM meeting/Elections
END:VEVENT
BEGIN:VEVENT
DTSTAMP:20260420T141515Z
UID:972c46c8-9516-4295-b20f-280ca27168fd
DTSTART:20260421T190000
DTEND:20260421T220000
DESCRIPTION:<p>Broken Arrow Public Schools will honor its Site Teachers of 
 the Year and Support Employees of the Year at the annual Star Awards Gala.
 </p>
LOCATION:Stoney Creek Hotel\, 200 W Albany St\, Broken Arrow\, OK 74012\, U
 SA
SUMMARY:Star Awards Gala
END:VEVENT
BEGIN:VEVENT
DTSTAMP:20260420T141515Z
UID:71330e90-1ca5-46ad-a6a5-6e29b2b4e2b1
DTSTART:20260423T090000
DTEND:20260423T113000
DESCRIPTION:<p>Visit <a target="_blank" rel="noopener noreferrer nofollow" 
 href="https://www.baschools.org/o/baps/page/substitute-teachers">substitut
 e webpage</a> for more information.</p><p><strong>Contact Person:</strong>
 </p><p>Rachel Reece<br>918-259-7744<br><a target="_blank" rel="noopener no
 referrer nofollow" href="mailto:rreece@baschools.org">Email Ms. Reece</a><
 /p>
LOCATION:Education Service Center\, Board Room\, 701 S Main St\, Broken Arr
 ow\, OK 74012\, USA
SUMMARY:Substitute Workshop
END:VEVENT
BEGIN:VEVENT
DTSTAMP:20260420T141515Z
UID:b7405ffa-8dfd-4fa0-bc76-05082390867a
DTSTART:20260423T183000
DTEND:20260423T200000
DESCRIPTION:<p><a target="_blank" rel="noopener noreferrer nofollow" href="
 https://www.baschools.org/article/2827403" relative-link="">View full deta
 ils about the event.</a></p>
LOCATION:Sequoyah Middle School\, 2701 S Elm Pl\, Broken Arrow\, OK 74012\,
  USA
SUMMARY:Parent University: Growing Strong and Resilient Children
END:VEVENT
BEGIN:VEVENT
DTSTAMP:20260420T141515Z
UID:c056f7a4-6d84-4d38-ad11-061d0c88d1f7
DTSTART:20260428T183000
DTEND:20260428T200000
DESCRIPTION:<p><span>Get details: </span><a target="_self" rel="noopener no
 referrer nofollow" href="https://www.baschools.org/article/1593587"><span>
 www.baschools.org/article/1593587</span></a></p>
LOCATION:Central on Main\, 210 N Main St C\, Broken Arrow\, OK 74012\, USA
SUMMARY:'Kindergarten 101' - parent meeting
END:VEVENT
BEGIN:VEVENT
DTSTAMP:20260420T141515Z
UID:f147b1cb-2458-486f-889c-8e90d5ebdb96
DTSTART:20260430T190000
DTEND:20260502T220000
DESCRIPTION:
LOCATION:BA Performing Arts Center\, 701 S Main St\, Broken Arrow\, OK 7401
 2\, USA
SUMMARY:Broken Arrow High School's Musical - "Oklahoma"
END:VEVENT
BEGIN:VEVENT
DTSTAMP:20260420T141515Z
UID:4e523347-f159-4fdc-8974-3a20214eb913
DTSTART:20260503T140000
DTEND:20260503T170000
DESCRIPTION:
LOCATION:BA Performing Arts Center\, 701 S Main St\, Broken Arrow\, OK 7401
 2\, USA
SUMMARY:Broken Arrow High School's Musical - "Oklahoma"
END:VEVENT
BEGIN:VEVENT
DTSTAMP:20260420T141515Z
UID:fdb84fc6-5a6f-4c1b-b685-c47cc52733e9
DTSTART:20260505T110000
DTEND:20260505T123000
DESCRIPTION:
LOCATION:
SUMMARY:Aquatic Center Groundbreaking Ceremony
END:VEVENT
BEGIN:VEVENT
DTSTAMP:20260420T141515Z
UID:f2920525-d46e-477b-bd34-63b8e98f33da
DTSTART:20260511T180000
DTEND:20260511T210000
DESCRIPTION:
LOCATION:Education Service Center - Board Room\, 701 S Main St\, Broken Arr
 ow\, OK 74012\, USA
SUMMARY:Board of Education Meeting
END:VEVENT
BEGIN:VEVENT
DTSTAMP:20260420T141515Z
UID:76064834-8e42-4d57-854c-cd3652c14071
DTSTART:20260514T163000
DTEND:20260514T183000
DESCRIPTION:<p>Broken Arrow Public Schools will host the <strong>Pinnacle A
 wards</strong> to celebrate district retirees and service award recipients
  on<strong> Thursday\, May 14</strong>\, at the Broken Arrow Performing Ar
 ts Center. Light refreshments will be served at <strong>4:30 p.m.</strong>
 \, followed by the ceremony at <strong>5 p.m.</strong> This event is open 
 to the public.<br></p><p>The Pinnacle Awards will recognize retirees and t
 hose receiving service awards for <strong>10 or more years of service</str
 ong>\, honoring their dedication and positive impact on the district.</p>
LOCATION:Broken Arrow Performing Arts Center\, 701 S Main St\, Broken Arrow
 \, OK 74012\, USA
SUMMARY:Pinnacle Awards to Honor Retirees and Service Award Recipients
END:VEVENT
BEGIN:VEVENT
DTSTAMP:20260420T141515Z
UID:385872ff-fa75-4d6f-b30e-f16f7044d780
DTSTART;VALUE=DATE:20260515
DTEND;VALUE=DATE:20260516
DESCRIPTION:<p>This is a designated "snow day". If a snow day is used\, the
 n this day can be treated as a regular school day to make up for the misse
 d time.</p>
LOCATION:
SUMMARY:No school - designated "Snow Day"
END:VEVENT
BEGIN:VEVENT
DTSTAMP:20260420T141515Z
UID:4f2939d2-1e09-4530-a6a8-34f9923a5ff2
DTSTART:20260518T190000
DTEND:20260518T220000
DESCRIPTION:<p>Broken Arrow Public Schools is excited to announce that the 
 Class of 2026 will graduate at&nbsp\;<strong>7 p.m. on Monday\, May 18\, 2
 026</strong>\, at Memorial Stadium located on Broken Arrow High School's c
 ampus.</p><p style="text-align: left">The <strong>makeup dates</strong> ar
 e <strong>May 19 or May 20</strong> if rain is expected in the forecast.<s
 trong> Project Graduation</strong> is planned for <strong>Monday\, May 18<
 /strong>. Rescheduling Project Graduation due to rain will be subject to v
 endor availability.</p><p style="text-align: left">More information will b
 e available in the coming months\, including number of patrons able to att
 end.</p>
LOCATION:Memorial Stadium\, 1901 E Albany St\, Broken Arrow\, OK 74012\, US
 A
SUMMARY:Broken Arrow Class of 2026 graduation
END:VEVENT
BEGIN:VEVENT
DTSTAMP:20260420T141515Z
UID:5c569836-65d4-4b24-b045-11ed8e83a65e
DTSTART;VALUE=DATE:20260521
DTEND;VALUE=DATE:20260522
DESCRIPTION:
LOCATION:
SUMMARY:Last Day of School
END:VEVENT
BEGIN:VEVENT
DTSTAMP:20260420T141515Z
UID:7ffc1f9f-5d5a-4dbe-91eb-1af50cf420c3
DTSTART;VALUE=DATE:20260522
DTEND;VALUE=DATE:20260523
DESCRIPTION:
LOCATION:
SUMMARY:Professional Day
END:VEVENT
BEGIN:VEVENT
DTSTAMP:20260420T141515Z
UID:a72fccec-8a8f-42ae-b8d5-925ce9be5c4a
DTSTART;VALUE=DATE:20260525
DTEND;VALUE=DATE:20260526
DESCRIPTION:
LOCATION:
SUMMARY:Memorial Day - (School Sites & District Offices Closed)
END:VEVENT
BEGIN:VEVENT
DTSTAMP:20260420T141515Z
UID:2a26d1e9-6b28-47da-8049-b2a43d871340
DTSTART:20260601T180000
DTEND:20260601T210000
DESCRIPTION:
LOCATION:Education Service Center - Board Room\, 701 S Main St\, Broken Arr
 ow\, OK 74012\, USA
SUMMARY:Board of Education Meeting
END:VEVENT
BEGIN:VEVENT
DTSTAMP:20260420T141515Z
UID:657d41a3-235a-4f8e-97b7-6da34150551b
DTSTART:20260622T100000
DTEND:20260622T140000
DESCRIPTION:<p>Details: <a target="_blank" rel="noopener noreferrer nofollo
 w" href="https://www.baschools.org/article/1626876">https://www.baschools.
 org/article/1626876</a>.</p>
LOCATION:Broken Arrow Performing Arts Center (lobby)\, 701 S Main St\, Brok
 en Arrow\, OK 74012\, USA
SUMMARY:Support Job Fair
END:VEVENT
BEGIN:VEVENT
DTSTAMP:20260420T141515Z
UID:0b773378-126f-49f1-a447-cf7bc9e9adc4
DTSTART:20260622T180000
DTEND:20260622T210000
DESCRIPTION:
LOCATION:Education Service Center - Board Room\, 701 S Main St\, Broken Arr
 ow\, OK 74012\, USA
SUMMARY:Board of Education Meeting
END:VEVENT
BEGIN:VEVENT
DTSTAMP:20260420T141515Z
UID:f5d276c7-dd97-4198-88c2-9fc4a5b3ac86
DTSTART:20260713T180000
DTEND:20260713T210000
DESCRIPTION:
LOCATION:Education Service Center - Board Room\, 701 S Main St\, Broken Arr
 ow\, OK 74012\, USA
SUMMARY:Board of Education Meeting
END:VEVENT
BEGIN:VEVENT
DTSTAMP:20260420T141515Z
UID:45e6732b-13b8-4711-969d-15b72c994855
DTSTART;VALUE=DATE:20260807
DTEND;VALUE=DATE:20260808
DESCRIPTION:
LOCATION:
SUMMARY:Professional Day\, No School
END:VEVENT
BEGIN:VEVENT
DTSTAMP:20260420T141515Z
UID:3e62d33f-5dca-45a0-9893-21f4044233ca
DTSTART;VALUE=DATE:20260810
DTEND;VALUE=DATE:20260811
DESCRIPTION:
LOCATION:
SUMMARY:Professional Day\, No School
END:VEVENT
BEGIN:VEVENT
DTSTAMP:20260420T141515Z
UID:1c5c50be-ab0e-483a-bab2-446541d31e1f
DTSTART:20260810T180000
DTEND:20260810T210000
DESCRIPTION:
LOCATION:Education Service Center\, 701 S Main St\, Broken Arrow\, OK 74012
 \, USA
SUMMARY:Board of Education Meeting
END:VEVENT
BEGIN:VEVENT
DTSTAMP:20260420T141515Z
UID:142bef7f-d384-483a-9c27-75840b3338d4
DTSTART;VALUE=DATE:20260811
DTEND;VALUE=DATE:20260812
DESCRIPTION:
LOCATION:
SUMMARY:Professional Day\, No School
END:VEVENT
BEGIN:VEVENT
DTSTAMP:20260420T141515Z
UID:b1889094-532d-4737-b629-f5e06f7857ad
DTSTART;VALUE=DATE:20260812
DTEND;VALUE=DATE:20260813
DESCRIPTION:
LOCATION:
SUMMARY:First Day of School - K-12
END:VEVENT
BEGIN:VEVENT
DTSTAMP:20260420T141515Z
UID:7f74fa6b-a580-459f-838d-514065af5aca
DTSTART;VALUE=DATE:20260814
DTEND;VALUE=DATE:20260815
DESCRIPTION:
LOCATION:
SUMMARY:First Day of Pre-K
END:VEVENT
BEGIN:VEVENT
DTSTAMP:20260420T141515Z
UID:50ade807-7c50-42e4-a407-af3242a80ed6
DTSTART;VALUE=DATE:20260907
DTEND;VALUE=DATE:20260908
DESCRIPTION:
LOCATION:
SUMMARY:Labor Day - No School
END:VEVENT
BEGIN:VEVENT
DTSTAMP:20260420T141515Z
UID:38ef6bea-ec4b-492b-8a1e-5bb083b9e4af
DTSTART;VALUE=DATE:20260911
DTEND;VALUE=DATE:20260912
DESCRIPTION:
LOCATION:
SUMMARY:Professional Day\, No School
END:VEVENT
BEGIN:VEVENT
DTSTAMP:20260420T141515Z
UID:7c90fa90-9c3c-4d99-b40b-e894e4f84122
DTSTART:20260914T180000
DTEND:20260914T210000
DESCRIPTION:
LOCATION:Education Service Center - Board Room\, 701 S Main St\, Broken Arr
 ow\, OK 74012\, USA
SUMMARY:Board of Education Meeting
END:VEVENT
BEGIN:VEVENT
DTSTAMP:20260420T141515Z
UID:a20ee6bf-f2a4-40b8-bc91-5979a39e6749
DTSTART:20261012T180000
DTEND:20261012T210000
DESCRIPTION:
LOCATION:Education Service Center - Board Meeting\, 701 S Main St\, Broken 
 Arrow\, OK 74012\, USA
SUMMARY:Board of Education Meeting
END:VEVENT
BEGIN:VEVENT
DTSTAMP:20260420T141515Z
UID:b83804d7-dad1-4689-9a26-8114257f33c8
DTSTART;VALUE=DATE:20261014
DTEND;VALUE=DATE:20261015
DESCRIPTION:
LOCATION:
SUMMARY:Fall Break - No School
END:VEVENT
BEGIN:VEVENT
DTSTAMP:20260420T141515Z
UID:60123f04-2a68-4640-aea7-3609d244293f
DTSTART;VALUE=DATE:20261015
DTEND;VALUE=DATE:20261016
DESCRIPTION:
LOCATION:
SUMMARY:Fall Break - No School
END:VEVENT
BEGIN:VEVENT
DTSTAMP:20260420T141515Z
UID:93225e00-02e2-4fa1-be6e-c40a726d3624
DTSTART;VALUE=DATE:20261016
DTEND;VALUE=DATE:20261017
DESCRIPTION:
LOCATION:
SUMMARY:Fall Break - No School
END:VEVENT
BEGIN:VEVENT
DTSTAMP:20260420T141515Z
UID:e3ae3919-f24c-459b-8040-78d4ca87e57c
DTSTART:20261109T180000
DTEND:20261109T210000
DESCRIPTION:
LOCATION:Education Service Center - Board Room\, 701 S Main St\, Broken Arr
 ow\, OK 74012\, USA
SUMMARY:Board of Education Meeting
END:VEVENT
BEGIN:VEVENT
DTSTAMP:20260420T141515Z
UID:961ffb6d-cf8b-44fa-8b9f-943cf34040b4
DTSTART;VALUE=DATE:20261113
DTEND;VALUE=DATE:20261114
DESCRIPTION:
LOCATION:
SUMMARY:Professional Day\, No School
END:VEVENT
BEGIN:VEVENT
DTSTAMP:20260420T141515Z
UID:80f96b4f-15db-4dca-b905-3237402e389b
DTSTART;VALUE=DATE:20261123
DTEND;VALUE=DATE:20261124
DESCRIPTION:
LOCATION:
SUMMARY:Thanksgiving Break - No School
END:VEVENT
BEGIN:VEVENT
DTSTAMP:20260420T141515Z
UID:54c4d9dd-8eb1-4938-b4a0-758313527cb1
DTSTART;VALUE=DATE:20261124
DTEND;VALUE=DATE:20261125
DESCRIPTION:
LOCATION:
SUMMARY:Thanksgiving Break - No School
END:VEVENT
BEGIN:VEVENT
DTSTAMP:20260420T141515Z
UID:ebe0723c-ce69-408f-8a98-a99185ab791a
DTSTART;VALUE=DATE:20261125
DTEND;VALUE=DATE:20261126
DESCRIPTION:
LOCATION:
SUMMARY:Thanksgiving Break - No School
END:VEVENT
BEGIN:VEVENT
DTSTAMP:20260420T141515Z
UID:95eaa3d4-b8af-44f7-ae8a-83fe4532535f
DTSTART;VALUE=DATE:20261126
DTEND;VALUE=DATE:20261127
DESCRIPTION:
LOCATION:
SUMMARY:Thanksgiving Break - No School
END:VEVENT
BEGIN:VEVENT
DTSTAMP:20260420T141515Z
UID:8d6e0290-eb82-4b02-ab06-2e4a489fa3f1
DTSTART;VALUE=DATE:20261127
DTEND;VALUE=DATE:20261128
DESCRIPTION:
LOCATION:
SUMMARY:Thanksgiving Break - No School
END:VEVENT
BEGIN:VEVENT
DTSTAMP:20260420T141515Z
UID:a39ab6f6-47bf-4cca-aaf0-a8418e47d9e4
DTSTART:20261214T180000
DTEND:20261214T210000
DESCRIPTION:
LOCATION:Education Service Center - Board Room\, 701 S Main St\, Broken Arr
 ow\, OK 74012\, USA
SUMMARY:Board of Education Meeting
END:VEVENT
BEGIN:VEVENT
DTSTAMP:20260420T141515Z
UID:a2bf2eaf-8641-4cef-923e-9346a2e93205
DTSTART;VALUE=DATE:20261221
DTEND;VALUE=DATE:20261222
DESCRIPTION:
LOCATION:
SUMMARY:Winter Break - No School
END:VEVENT
BEGIN:VEVENT
DTSTAMP:20260420T141515Z
UID:31d8dfd2-712b-40ec-b3a3-3b3b4feb0891
DTSTART;VALUE=DATE:20261222
DTEND;VALUE=DATE:20261223
DESCRIPTION:
LOCATION:
SUMMARY:Winter Break - No School
END:VEVENT
BEGIN:VEVENT
DTSTAMP:20260420T141515Z
UID:831c2a3b-cd45-4f34-be1e-f557e16b1543
DTSTART;VALUE=DATE:20261223
DTEND;VALUE=DATE:20261224
DESCRIPTION:
LOCATION:
SUMMARY:Winter Break - No School
END:VEVENT
BEGIN:VEVENT
DTSTAMP:20260420T141515Z
UID:9f355eef-25f4-4957-8b46-ffce82dfe89c
DTSTART;VALUE=DATE:20261224
DTEND;VALUE=DATE:20261225
DESCRIPTION:
LOCATION:
SUMMARY:Winter Break - No School
END:VEVENT
BEGIN:VEVENT
DTSTAMP:20260420T141515Z
UID:4155ff34-4b52-4104-a492-21ac54969c81
DTSTART;VALUE=DATE:20261225
DTEND;VALUE=DATE:20261226
DESCRIPTION:
LOCATION:
SUMMARY:Winter Break - No School
END:VEVENT
BEGIN:VEVENT
DTSTAMP:20260420T141515Z
UID:4ffa2aca-43b0-43b8-8993-8564b7b55a8f
DTSTART;VALUE=DATE:20261228
DTEND;VALUE=DATE:20261229
DESCRIPTION:
LOCATION:
SUMMARY:Winter Break - No School
END:VEVENT
BEGIN:VEVENT
DTSTAMP:20260420T141515Z
UID:f1b5bbec-3a5c-454b-93e0-2b0839dca58a
DTSTART;VALUE=DATE:20261229
DTEND;VALUE=DATE:20261230
DESCRIPTION:
LOCATION:
SUMMARY:Winter Break - No School
END:VEVENT
BEGIN:VEVENT
DTSTAMP:20260420T141515Z
UID:e039ab23-4919-4f11-bdeb-885e7f41e97e
DTSTART;VALUE=DATE:20261230
DTEND;VALUE=DATE:20261231
DESCRIPTION:
LOCATION:
SUMMARY:Winter Break - No School
END:VEVENT
BEGIN:VEVENT
DTSTAMP:20260420T141515Z
UID:bd9b5035-a1d8-48f6-a8ef-75263fef88e0
DTSTART;VALUE=DATE:20261231
DTEND;VALUE=DATE:20270101
DESCRIPTION:
LOCATION:
SUMMARY:Winter Break - No School
END:VEVENT
BEGIN:VEVENT
DTSTAMP:20260420T141515Z
UID:5895a8b1-2f91-4174-9fc5-5f34244dc1d2
DTSTART;VALUE=DATE:20270101
DTEND;VALUE=DATE:20270102
DESCRIPTION:
LOCATION:
SUMMARY:Winter Break - No School
END:VEVENT
BEGIN:VEVENT
DTSTAMP:20260420T141515Z
UID:783514c4-e199-4d23-8eed-3378c676b838
DTSTART;VALUE=DATE:20270104
DTEND;VALUE=DATE:20270105
DESCRIPTION:
LOCATION:
SUMMARY:Professional Day - No School
END:VEVENT
BEGIN:VEVENT
DTSTAMP:20260420T141515Z
UID:54fc8fb3-6c18-4439-9e59-1817334835f2
DTSTART;VALUE=DATE:20270105
DTEND;VALUE=DATE:20270106
DESCRIPTION:
LOCATION:
SUMMARY:Second Semester Begins
END:VEVENT
BEGIN:VEVENT
DTSTAMP:20260420T141515Z
UID:5d69673d-aebf-45b8-9632-deb2b1b94934
DTSTART;VALUE=DATE:20270118
DTEND;VALUE=DATE:20270119
DESCRIPTION:
LOCATION:
SUMMARY:Martin Luther King\, Jr. Day - No School
END:VEVENT
BEGIN:VEVENT
DTSTAMP:20260420T141515Z
UID:a70e8352-960f-4944-92d4-6a6fd2f468d7
DTSTART;VALUE=DATE:20270205
DTEND;VALUE=DATE:20270206
DESCRIPTION:
LOCATION:
SUMMARY:Professional Day\, No School
END:VEVENT
BEGIN:VEVENT
DTSTAMP:20260420T141515Z
UID:5f7d316c-5cf9-4cdc-865e-a7aceec0e26f
DTSTART;VALUE=DATE:20270215
DTEND;VALUE=DATE:20270216
DESCRIPTION:
LOCATION:
SUMMARY:Presidents Day - No School
END:VEVENT
BEGIN:VEVENT
DTSTAMP:20260420T141515Z
UID:ef4532d9-68d6-48a6-929b-ffc92bdedbd0
DTSTART;VALUE=DATE:20270315
DTEND;VALUE=DATE:20270316
DESCRIPTION:
LOCATION:
SUMMARY:Spring Break - No School
END:VEVENT
BEGIN:VEVENT
DTSTAMP:20260420T141515Z
UID:aab6b26d-d7ef-4524-8e2e-846e2a5c576c
DTSTART;VALUE=DATE:20270316
DTEND;VALUE=DATE:20270317
DESCRIPTION:
LOCATION:
SUMMARY:Spring Break - No School
END:VEVENT
BEGIN:VEVENT
DTSTAMP:20260420T141515Z
UID:c04584e1-f543-4281-8093-2687e82b12bf
DTSTART;VALUE=DATE:20270317
DTEND;VALUE=DATE:20270318
DESCRIPTION:
LOCATION:
SUMMARY:Spring Break - No School
END:VEVENT
BEGIN:VEVENT
DTSTAMP:20260420T141515Z
UID:30961ee9-df01-4957-8adf-dbc972335350
DTSTART;VALUE=DATE:20270318
DTEND;VALUE=DATE:20270319
DESCRIPTION:
LOCATION:
SUMMARY:Spring Break - No School
END:VEVENT
BEGIN:VEVENT
DTSTAMP:20260420T141515Z
UID:0f8f733b-d58d-4abb-91fd-3a07227afb50
DTSTART;VALUE=DATE:20270319
DTEND;VALUE=DATE:20270320
DESCRIPTION:
LOCATION:
SUMMARY:Spring Break - No School
END:VEVENT
BEGIN:VEVENT
DTSTAMP:20260420T141515Z
UID:29d10c79-e218-4597-b601-3cd0f8a6b386
DTSTART;VALUE=DATE:20270402
DTEND;VALUE=DATE:20270403
DESCRIPTION:
LOCATION:
SUMMARY:No School
END:VEVENT
BEGIN:VEVENT
DTSTAMP:20260420T141515Z
UID:35caa2d9-79ec-4050-9a89-38e515eda594
DTSTART;VALUE=DATE:20270416
DTEND;VALUE=DATE:20270417
DESCRIPTION:
LOCATION:
SUMMARY:Professional Day\, No School
END:VEVENT
BEGIN:VEVENT
DTSTAMP:20260420T141515Z
UID:32c70b1a-7bd2-4432-9f6f-14cb1c65b5fe
DTSTART;VALUE=DATE:20270423
DTEND;VALUE=DATE:20270424
DESCRIPTION:
LOCATION:
SUMMARY:Snow Day - No School
END:VEVENT
BEGIN:VEVENT
DTSTAMP:20260420T141515Z
UID:1fd7e186-179d-4959-971f-2445cd02d3cc
DTSTART;VALUE=DATE:20270430
DTEND;VALUE=DATE:20270501
DESCRIPTION:
LOCATION:
SUMMARY:Snow Day - No School
END:VEVENT
BEGIN:VEVENT
DTSTAMP:20260420T141515Z
UID:05690631-b739-4fb3-836f-9d65a10dd8b6
DTSTART;VALUE=DATE:20270507
DTEND;VALUE=DATE:20270508
DESCRIPTION:
LOCATION:
SUMMARY:Snow Day - No School
END:VEVENT
BEGIN:VEVENT
DTSTAMP:20260420T141515Z
UID:c4e686d8-928d-46c8-b587-693abe9e8fe2
DTSTART;VALUE=DATE:20270514
DTEND;VALUE=DATE:20270515
DESCRIPTION:
LOCATION:
SUMMARY:Snow Day - No School
END:VEVENT
BEGIN:VEVENT
DTSTAMP:20260420T141515Z
UID:9960ebf7-9be8-4617-a478-37a821130cac
DTSTART;VALUE=DATE:20270521
DTEND;VALUE=DATE:20270522
DESCRIPTION:
LOCATION:
SUMMARY:Snow Day - No School
END:VEVENT
BEGIN:VEVENT
DTSTAMP:20260420T141515Z
UID:51751a5e-eeac-4c70-ad26-64821980365e
DTSTART;VALUE=DATE:20270526
DTEND;VALUE=DATE:20270527
DESCRIPTION:
LOCATION:
SUMMARY:Last Day of School
END:VEVENT
END:VCALENDAR
