BEGIN:VCALENDAR
VERSION:2.0
PRODID:icalendar-ruby
CALSCALE:GREGORIAN
BEGIN:VTIMEZONE
TZID:America/New_York
BEGIN:DAYLIGHT
DTSTART:20260308T030000
TZOFFSETFROM:-0500
TZOFFSETTO:-0400
RRULE:FREQ=YEARLY;BYDAY=2SU;BYMONTH=3
TZNAME:EDT
END:DAYLIGHT
BEGIN:STANDARD
DTSTART:20261101T010000
TZOFFSETFROM:-0400
TZOFFSETTO:-0500
RRULE:FREQ=YEARLY;BYDAY=1SU;BYMONTH=11
TZNAME:EST
END:STANDARD
END:VTIMEZONE
BEGIN:VEVENT
DTSTAMP:20260421T144944Z
UID:3fc95d8b-a170-4464-b941-0f3b4d605202
DTSTART;VALUE=DATE:20260420
DTEND;VALUE=DATE:20260425
DESCRIPTION:
LOCATION:
SUMMARY:PSSA - English Language Arts (Grades 3-8) 
END:VEVENT
BEGIN:VEVENT
DTSTAMP:20260421T144944Z
UID:9167b517-f2d4-49c0-86e6-e53701186db9
DTSTART;VALUE=DATE:20260427
DTEND;VALUE=DATE:20260502
DESCRIPTION:
LOCATION:
SUMMARY:PSSA - Mathematics (Grades 3-8)
END:VEVENT
BEGIN:VEVENT
DTSTAMP:20260421T144944Z
UID:8a0c5327-5b17-48fc-a86e-576a63186b5a
DTSTART:20260427T173000
DTEND:20260427T183000
DESCRIPTION:
LOCATION:31 N Pershing Ave\, York\, PA 17401\, USA
SUMMARY:Faith-Based Meeting
END:VEVENT
BEGIN:VEVENT
DTSTAMP:20260421T144944Z
UID:96f09a2c-ffd7-427a-94ec-485269e9460f
DTSTART:20260428T190000
DTEND:20260428T190000
DESCRIPTION:<html><head><meta http-equiv="Content-Type" content="text/html\
 ; charset=utf-8"></head><body><p>Admission is free. Light refreshments wil
 l be provided. <span>Please RSVP using the following link so we can plan a
 ccordingly:</span><a href="https://bit.ly/WPSpringChoralConcert"><span>htt
 ps://bit.ly/WPSpringChoralConcert</span></a>. Enter through Door 13!</p></
 body></html>
LOCATION:101 W College Ave\, York\, PA 17401\, USA
SUMMARY:WPSHS Spring Choral Concert 
END:VEVENT
BEGIN:VEVENT
DTSTAMP:20260421T144944Z
UID:7f1c4616-b7aa-422a-8919-38bfadf22c2d
DTSTART:20260430T180000
DTEND:20260430T190000
DESCRIPTION:<html><head><meta http-equiv="Content-Type" content="text/html\
 ; charset=utf-8"></head><body><p>Admission is free. Light refreshments wil
 l be provided. Please RSVP using the following link so we can plan accordi
 ngly:<a href="https://bit.ly/WPArtandMusic">https://bit.ly/WPArtandMusic</
 a>. Enter through Door 13!</p></body></html>
LOCATION:101 W College Ave\, York\, PA 17401\, USA
SUMMARY:WPSHS Art Show
END:VEVENT
BEGIN:VEVENT
DTSTAMP:20260421T144944Z
UID:62ddc5cb-b2a6-4a7f-91d4-88bf214e3a02
DTSTART:20260430T190000
DTEND:20260430T190000
DESCRIPTION:<html><head><meta http-equiv="Content-Type" content="text/html\
 ; charset=utf-8"></head><body><p>Admission is free. <span>Light refreshmen
 ts will be provided. Please RSVP using the following link so we can plan a
 ccordingly:</span><a href="https://bit.ly/WPArtandMusic"><span>https://bit
 .ly/WPArtandMusic</span></a>. Enter through Door 13!</p></body></html>
LOCATION:101 W College Ave\, York\, PA 17401\, USA
SUMMARY:WPSHS Band/Orchestra Spring Concert 
END:VEVENT
BEGIN:VEVENT
DTSTAMP:20260421T144944Z
UID:d72df246-85c5-40c5-9d30-92c702429b36
DTSTART;VALUE=DATE:20260504
DTEND;VALUE=DATE:20260509
DESCRIPTION:
LOCATION:
SUMMARY:PSSA - Science (Grades 5 & 8)
END:VEVENT
BEGIN:VEVENT
DTSTAMP:20260421T144944Z
UID:531d2a63-9073-48d9-8031-07f6363af1e9
DTSTART:20260505T113000
DTEND:20260505T133000
DESCRIPTION:
LOCATION:Cherry Ln\, York\, PA 17404\, USA
SUMMARY:Lunch Box Revue/Cherry Lane Performance 
END:VEVENT
BEGIN:VEVENT
DTSTAMP:20260421T144944Z
UID:2a9ff251-1e31-4e3a-9435-b104c041aeb0
DTSTART:20260505T190000
DTEND:20260505T190000
DESCRIPTION:<html><head><meta http-equiv="Content-Type" content="text/html\
 ; charset=utf-8"></head><body><p>Admission is free. Please enter through D
 oor 13!</p></body></html>
LOCATION:101 W College Ave\, York\, PA 17401\, USA
SUMMARY:K-8 Night of the Arts (Middle School)
END:VEVENT
BEGIN:VEVENT
DTSTAMP:20260421T144944Z
UID:abd5f3e1-8b2c-4770-b0bb-4f6a5f39e5ce
DTSTART:20260507T190000
DTEND:20260507T190000
DESCRIPTION:<html><head><meta http-equiv="Content-Type" content="text/html\
 ; charset=utf-8"></head><body><p>Admission is free. Please enter through D
 oor 13!</p></body></html>
LOCATION:101 W College Ave\, York\, PA 17401\, USA
SUMMARY:K-8 Night of the Arts (Elementary School)
END:VEVENT
BEGIN:VEVENT
DTSTAMP:20260421T144944Z
UID:84eb30e7-bcf7-4ca8-8a07-f1e9067e6a4b
DTSTART:20260508T120000
DTEND:20260508T120000
DESCRIPTION:
LOCATION:
SUMMARY:Early Dismissal - Modified Instructional Day
END:VEVENT
BEGIN:VEVENT
DTSTAMP:20260421T144944Z
UID:1a337573-c12a-4ea9-8d75-d9e362beed49
DTSTART;VALUE=DATE:20260511
DTEND;VALUE=DATE:20260523
DESCRIPTION:
LOCATION:
SUMMARY:Spring Keystone Exams 
END:VEVENT
BEGIN:VEVENT
DTSTAMP:20260421T144944Z
UID:83eb8a04-bc16-45bd-bfea-22a481aea5b2
DTSTART:20260511T180000
DTEND:20260511T180000
DESCRIPTION:<html><head><meta http-equiv="Content-Type" content="text/html\
 ; charset=utf-8"></head><body><p>You are invited to watch the live stream 
 of the School District of the City of York's School Board Committee Meetin
 gs. The information and link to access the meetings are below.</p><p>Monda
 y\, May 11\, 2026\, School Board Committee Meetings - 6:00 PM. <a href="ht
 tps://app.agendamanager.com/ycsd/dashboard">Click here to access the agend
 as for the Committee Meetings</a> which will be available at least 24 hour
 s prior to the start of the meetings.</p><p>Click here to access the YouTu
 be Live Direct Link.</p></body></html>
LOCATION:31 N Pershing Ave\, York\, PA 17401\, USA
SUMMARY:School Board Committee Meetings
END:VEVENT
BEGIN:VEVENT
DTSTAMP:20260421T144944Z
UID:071964da-19a6-4c8d-93da-13d42e2d9e4b
DTSTART:20260513T190000
DTEND:20260513T190000
DESCRIPTION:<html><head><meta http-equiv="Content-Type" content="text/html\
 ; charset=utf-8"></head><body><p>Please enter through Door 13! </p></body>
 </html>
LOCATION:101 W College Ave\, York\, PA 17401\, USA
SUMMARY:Annual Music Department Awards 
END:VEVENT
BEGIN:VEVENT
DTSTAMP:20260421T144944Z
UID:2d12ae99-d7cb-4adb-bbbb-72830f309d50
DTSTART:20260514T190000
DTEND:20260514T190000
DESCRIPTION:<html><head><meta http-equiv="Content-Type" content="text/html\
 ; charset=utf-8"></head><body><p>Please enter through Door 13! </p></body>
 </html>
LOCATION:101 W College Ave\, York\, PA 17401\, USA
SUMMARY:50th Annual Piano Lab Recital 
END:VEVENT
BEGIN:VEVENT
DTSTAMP:20260421T144944Z
UID:d5437f3b-cfeb-4707-8e17-aa354892819b
DTSTART;VALUE=DATE:20260519
DTEND;VALUE=DATE:20260520
DESCRIPTION:<html><head><meta http-equiv="Content-Type" content="text/html\
 ; charset=utf-8"></head><body><p>There will be no school for students toda
 y. Students will return to school on Wednesday\, May 20\, 2026.</p></body>
 </html>
LOCATION:
SUMMARY:No School for Students 
END:VEVENT
BEGIN:VEVENT
DTSTAMP:20260421T144944Z
UID:5859b605-4046-4526-89c8-25c0b100078c
DTSTART:20260520T183000
DTEND:20260520T183000
DESCRIPTION:<html><head><meta http-equiv="Content-Type" content="text/html\
 ; charset=utf-8"></head><body><p>School Board Meeting</p><p>School Board M
 eeting May 20\, 2026 - 6:30 PM</p><p>The School District of the City of Yo
 rk Board of School Directors will hold an in-person School Board Regular (
 voting) Meeting at 6:30 PM on Wednesday\, May 20\, 2026.<a href="https://a
 pp.agendamanager.com/ycsd/dashboard">Click here to access the agenda for t
 he Regular Meeting</a> which will be available at least 24 hours prior to 
 the start of the meeting.</p><p>You are invited to watch the live stream o
 f the School District of the City of York's School Board Meeting. The info
 rmation and link to access the meeting are below. In-person comments will 
 also be accepted during the appropriate public comment section\, as outlin
 ed in the Board agenda.</p><p>Wednesday\, May 20\, 2026\, School Board Mee
 ting - 6:30 PM</p><p>Click here to access the YouTube Live Direct Link.</p
 ><p>City of York residents wishing to share comments to be read during the
  Voting Board Meeting may<a href="mailto:ferrelor@ycs.k12.pa.us">email the
  comments to Mrs. Lori Ferrell\, Board Secretary</a>. Emails must be recei
 ved by 5:00 PM on the day of the meeting and must include the name and add
 ress of the City of York resident. In-person comments will also be accepte
 d during the appropriate public comment section\, as outlined in the Board
  agenda.</p></body></html>
LOCATION:31 N Pershing Ave\, York\, PA 17401\, USA
SUMMARY:School Board Meeting
END:VEVENT
BEGIN:VEVENT
DTSTAMP:20260421T144944Z
UID:453f89e8-39a0-45e8-b6c5-d0e14fd8ff6e
DTSTART;VALUE=DATE:20260525
DTEND;VALUE=DATE:20260526
DESCRIPTION:
LOCATION:
SUMMARY:Holiday - Memorial Day - District Closed
END:VEVENT
BEGIN:VEVENT
DTSTAMP:20260421T144944Z
UID:e4a3c1c7-9205-4f3a-b585-4ddc1a2030c4
DTSTART:20260528T180000
DTEND:20260528T180000
DESCRIPTION:
LOCATION:31 Hamilton Ave\, York\, PA 17401\, USA
SUMMARY:WPSHS Graduation Ceremony 
END:VEVENT
BEGIN:VEVENT
DTSTAMP:20260421T144944Z
UID:23650677-cac5-4aae-afb8-f44dd8924a06
DTSTART:20260602T120000
DTEND:20260602T120000
DESCRIPTION:
LOCATION:
SUMMARY:Last Day of School/Early Dismissal
END:VEVENT
BEGIN:VEVENT
DTSTAMP:20260421T144944Z
UID:c2da5f3d-0e28-4a56-81ed-c160a228ece6
DTSTART:20260603T080000
DTEND:20260603T090000
DESCRIPTION:
LOCATION:
SUMMARY:Third Weather Make-up Day
END:VEVENT
BEGIN:VEVENT
DTSTAMP:20260421T144944Z
UID:79c33169-f838-46c0-a622-bbc6d75cd591
DTSTART:20260604T080000
DTEND:20260604T090000
DESCRIPTION:
LOCATION:
SUMMARY:Fourth Weather Make-up Day 
END:VEVENT
BEGIN:VEVENT
DTSTAMP:20260421T144944Z
UID:ffd0b2f5-a6f8-4907-85f4-4f6544739a8c
DTSTART;VALUE=DATE:20260605
DTEND;VALUE=DATE:20260606
DESCRIPTION:
LOCATION:
SUMMARY:Fifth Weather Make-up Day
END:VEVENT
BEGIN:VEVENT
DTSTAMP:20260421T144944Z
UID:b2443b5c-2c26-49bb-9723-129aede40e66
DTSTART;VALUE=DATE:20260608
DTEND;VALUE=DATE:20260609
DESCRIPTION:
LOCATION:
SUMMARY:Sixth Weather Make-up Day
END:VEVENT
BEGIN:VEVENT
DTSTAMP:20260421T144944Z
UID:07d7f04c-5bef-4e92-b8bc-3d1a9b6db3a2
DTSTART:20260608T180000
DTEND:20260608T180000
DESCRIPTION:<html><head><meta http-equiv="Content-Type" content="text/html\
 ; charset=utf-8"></head><body><p>You are invited to watch the live stream 
 of the School District of the City of York's School Board Committee Meetin
 gs. The information and link to access the meetings are below.</p><p>Monda
 y\, June 8\, 2026\, School Board Committee Meetings - 6:00 PM. <a href="ht
 tps://app.agendamanager.com/ycsd/dashboard">Click here to access the agend
 as for the Committee Meetings</a> which will be available at least 24 hour
 s prior to the start of the meetings.</p><p>Click here to access the YouTu
 be Live Direct Link.</p></body></html>
LOCATION:31 N Pershing Ave\, York\, PA 17401\, USA
SUMMARY:School Board Committee Meetings
END:VEVENT
BEGIN:VEVENT
DTSTAMP:20260421T144944Z
UID:02c1fead-2ac9-4436-9c91-61b83ea2e982
DTSTART:20260617T183000
DTEND:20260617T183000
DESCRIPTION:<html><head><meta http-equiv="Content-Type" content="text/html\
 ; charset=utf-8"></head><body><p>School Board Meeting</p><p>School Board M
 eeting June 17\, 2026 - 6:30 PM</p><p>The School District of the City of Y
 ork Board of School Directors will hold an in-person School Board Regular 
 (voting) Meeting at 6:30 PM on Wednesday\, June 17\, 2026.<a href="https:/
 /app.agendamanager.com/ycsd/dashboard">Click here to access the agenda for
  the Regular Meeting</a> which will be available at least 24 hours prior t
 o the start of the meeting.</p><p>You are invited to watch the live stream
  of the School District of the City of York's School Board Meeting. The in
 formation and link to access the meeting are below. In-person comments wil
 l also be accepted during the appropriate public comment section\, as outl
 ined in the Board agenda.</p><p>Wednesday\, June 17\, 2026\, School Board 
 Meeting - 6:30 PM</p><p>Click here to access the YouTube Live Direct Link.
 </p><p>City of York residents wishing to share comments to be read during 
 the Voting Board Meeting may<a href="mailto:ferrelor@ycs.k12.pa.us">email 
 the comments to Mrs. Lori Ferrell\, Board Secretary</a>. Emails must be re
 ceived by 5:00 PM on the day of the meeting and must include the name and 
 address of the City of York resident. In-person comments will also be acce
 pted during the appropriate public comment section\, as outlined in the Bo
 ard agenda.</p></body></html>
LOCATION:31 N Pershing Ave\, York\, PA 17401\, USA
SUMMARY:School Board Meeting
END:VEVENT
BEGIN:VEVENT
DTSTAMP:20260421T144944Z
UID:cd065689-dacb-489d-86fd-46876243819e
DTSTART;VALUE=DATE:20260619
DTEND;VALUE=DATE:20260620
DESCRIPTION:
LOCATION:
SUMMARY:Holiday - Juneteenth - District Closed
END:VEVENT
BEGIN:VEVENT
DTSTAMP:20260421T144944Z
UID:f8c0ac10-8801-47bd-b785-ee6059ae574f
DTSTART;VALUE=DATE:20260626
DTEND;VALUE=DATE:20260627
DESCRIPTION:
LOCATION:
SUMMARY:ESP Picnic - District Closed
END:VEVENT
BEGIN:VEVENT
DTSTAMP:20260421T144944Z
UID:45a50358-c604-4457-9da2-b3c5b82e8e64
DTSTART:20260713T183000
DTEND:20260713T203000
DESCRIPTION:<html><head><meta http-equiv="Content-Type" content="text/html\
 ; charset=utf-8"></head><body><p>School Board Meeting</p><p>School Board M
 eeting July 13\, 2026 - 6:30 PM</p><p>The School District of the City of Y
 ork Board of School Directors will hold an in-person School Board Regular 
 (voting) Meeting at 6:30 PM on Monday\, July 6\, 2026.<a href="https://app
 .agendamanager.com/ycsd/dashboard">Click here to access the agenda for the
  Regular Meeting</a> which will be available at least 24 hours prior to th
 e start of the meeting.</p><p>You are invited to watch the live stream of 
 the School District of the City of York's School Board Meeting. The inform
 ation and link to access the meeting are below. In-person comments will al
 so be accepted during the appropriate public comment section\, as outlined
  in the Board agenda.</p><p>Monday\, July 13\, 2026\, School Board Meeting
  - 6:30 PM</p><p>Click here to access the YouTube Live Direct Link.</p><p>
 City of York residents wishing to share comments to be read during the Vot
 ing Board Meeting may<a href="mailto:ferrelor@ycs.k12.pa.us">email the com
 ments to Mrs. Lori Ferrell\, Board Secretary</a>. Emails must be received 
 by 5:00 PM on the day of the meeting and must include the name and address
  of the City of York resident. In-person comments will also be accepted du
 ring the appropriate public comment section\, as outlined in the Board age
 nda.</p></body></html>
LOCATION:31 N Pershing Ave\, York\, PA 17401\, USA
SUMMARY:School Board Meeting
END:VEVENT
BEGIN:VEVENT
DTSTAMP:20260421T144944Z
UID:2a49f76d-8844-4fc5-bd9a-19bf71b0fd89
DTSTART:20260810T180000
DTEND:20260810T180000
DESCRIPTION:<html><head><meta http-equiv="Content-Type" content="text/html\
 ; charset=utf-8"></head><body><p>You are invited to watch the live stream 
 of the School District of the City of York's School Board Committee Meetin
 gs. The information and link to access the meetings are below.</p><p>Monda
 y\, August 10\, 2026\, School Board Committee Meetings - 6:00 PM. <a href=
 "https://app.agendamanager.com/ycsd/dashboard">Click here to access the ag
 endas for the Committee Meetings</a> which will be available at least 24 h
 ours prior to the start of the meetings.</p><p>Click here to access the Yo
 uTube Live Direct Link.</p></body></html>
LOCATION:31 N Pershing Ave\, York\, PA 17401\, USA
SUMMARY:School Board Committee Meetings
END:VEVENT
BEGIN:VEVENT
DTSTAMP:20260421T144944Z
UID:38ed7f15-2166-4cad-b090-cf1460865911
DTSTART:20260819T183000
DTEND:20260819T183000
DESCRIPTION:<html><head><meta http-equiv="Content-Type" content="text/html\
 ; charset=utf-8"></head><body><p>School Board Meeting</p><p>School Board M
 eeting August 19\, 2026 - 6:30 PM</p><p>The School District of the City of
  York Board of School Directors will hold an in-person School Board Regula
 r (voting) Meeting at 6:30 PM on Wednesday\, August 19\, 2026.<a href="htt
 ps://app.agendamanager.com/ycsd/dashboard">Click here to access the agenda
  for the Regular Meeting</a> which will be available at least 24 hours pri
 or to the start of the meeting.</p><p>You are invited to watch the live st
 ream of the School District of the City of York's School Board Meeting. Th
 e information and link to access the meeting are below. In-person comments
  will also be accepted during the appropriate public comment section\, as 
 outlined in the Board agenda.</p><p>Wednesday\, August 19\, 2026\, School 
 Board Meeting - 6:30 PM</p><p>Click here to access the YouTube Live Direct
  Link.</p><p>City of York residents wishing to share comments to be read d
 uring the Voting Board Meeting may<a href="mailto:ferrelor@ycs.k12.pa.us">
 email the comments to Mrs. Lori Ferrell\, Board Secretary</a>. Emails must
  be received by 5:00 PM on the day of the meeting and must include the nam
 e and address of the City of York resident. In-person comments will also b
 e accepted during the appropriate public comment section\, as outlined in 
 the Board agenda.</p></body></html>
LOCATION:31 N Pershing Ave\, York\, PA 17401\, USA
SUMMARY:School Board Meeting
END:VEVENT
BEGIN:VEVENT
DTSTAMP:20260421T144944Z
UID:45912514-68f7-4603-895a-de80fad318df
DTSTART:20260909T180000
DTEND:20260909T200000
DESCRIPTION:<html><head><meta http-equiv="Content-Type" content="text/html\
 ; charset=utf-8"></head><body><p>You are invited to watch the live stream 
 of the School District of the City of York's School Board Committee Meetin
 gs. The information and link to access the meetings are below.</p><p>Wedne
 sday\, September 14\, 2026\, School Board Committee Meetings - 6:00 PM. <a
  href="https://app.agendamanager.com/ycsd/dashboard">Click here to access 
 the agendas for the Committee Meetings</a> which will be available at leas
 t 24 hours prior to the start of the meetings.</p><p>Click here to access 
 the YouTube Live Direct Link.</p></body></html>
LOCATION:31 N Pershing Ave\, York\, PA 17401\, USA
SUMMARY:School Board Committee Meetings
END:VEVENT
BEGIN:VEVENT
DTSTAMP:20260421T144944Z
UID:91760411-83cf-4a7b-b7f8-9607770304f4
DTSTART:20260923T183000
DTEND:20260923T203000
DESCRIPTION:<html><head><meta http-equiv="Content-Type" content="text/html\
 ; charset=utf-8"></head><body><p>School Board Meeting</p><p>School Board M
 eeting September 23\, 2026 - 6:30 PM</p><p>The School District of the City
  of York Board of School Directors will hold an in-person School Board Reg
 ular (voting) Meeting at 6:30 PM on Wednesday\, September 23\, 2026.<a hre
 f="https://app.agendamanager.com/ycsd/dashboard">Click here to access the 
 agenda for the Regular Meeting</a> which will be available at least 24 hou
 rs prior to the start of the meeting.</p><p>You are invited to watch the l
 ive stream of the School District of the City of York's School Board Meeti
 ng. The information and link to access the meeting are below. In-person co
 mments will also be accepted during the appropriate public comment section
 \, as outlined in the Board agenda.</p><p>Wednesday\, September 23\, 2026\
 , School Board Meeting - 6:30 PM</p><p>Click here to access the YouTube Li
 ve Direct Link.</p><p>City of York residents wishing to share comments to 
 be read during the Voting Board Meeting may<a href="mailto:ferrelor@ycs.k1
 2.pa.us">email the comments to Mrs. Lori Ferrell\, Board Secretary</a>. Em
 ails must be received by 5:00 PM on the day of the meeting and must includ
 e the name and address of the City of York resident. In-person comments wi
 ll also be accepted during the appropriate public comment section\, as out
 lined in the Board agenda.</p></body></html>
LOCATION:31 N Pershing Ave\, York\, PA 17401\, USA
SUMMARY:School Board Meeting
END:VEVENT
BEGIN:VEVENT
DTSTAMP:20260421T144944Z
UID:eff8fa7d-0aff-4b16-a88c-fbaaeee7d3ed
DTSTART:20261012T180000
DTEND:20261012T180000
DESCRIPTION:<html><head><meta http-equiv="Content-Type" content="text/html\
 ; charset=utf-8"></head><body><p>You are invited to watch the live stream 
 of the School District of the City of York's School Board Committee Meetin
 gs. The information and link to access the meetings are below.</p><p>Monda
 y\, October 12\, 2026\, School Board Committee Meetings - 6:00 PM. <a href
 ="https://app.agendamanager.com/ycsd/dashboard">Click here to access the a
 gendas for the Committee Meetings</a> which will be available at least 24 
 hours prior to the start of the meetings.</p><p>Click here to access the Y
 ouTube Live Direct Link.</p></body></html>
LOCATION:31 N Pershing Ave\, York\, PA 17401\, USA
SUMMARY:School Board Committee Meetings
END:VEVENT
BEGIN:VEVENT
DTSTAMP:20260421T144944Z
UID:b509f7dc-da59-44fa-9ef3-136615fe5f93
DTSTART:20261021T183000
DTEND:20261021T183000
DESCRIPTION:<html><head><meta http-equiv="Content-Type" content="text/html\
 ; charset=utf-8"></head><body><p>School Board Meeting</p><p>School Board M
 eeting October 21\, 2026 - 6:30 PM</p><p>The School District of the City o
 f York Board of School Directors will hold an in-person School Board Regul
 ar (voting) Meeting at 6:30 PM on Wednesday\, October 21\, 2026.<a href="h
 ttps://app.agendamanager.com/ycsd/dashboard">Click here to access the agen
 da for the Regular Meeting</a> which will be available at least 24 hours p
 rior to the start of the meeting.</p><p>You are invited to watch the live 
 stream of the School District of the City of York's School Board Meeting. 
 The information and link to access the meeting are below. In-person commen
 ts will also be accepted during the appropriate public comment section\, a
 s outlined in the Board agenda.</p><p>Wednesday\, October 21\, 2026\, Scho
 ol Board Meeting - 6:30 PM</p><p>Click here to access the YouTube Live Dir
 ect Link.</p><p>City of York residents wishing to share comments to be rea
 d during the Voting Board Meeting may<a href="mailto:ferrelor@ycs.k12.pa.u
 s">email the comments to Mrs. Lori Ferrell\, Board Secretary</a>. Emails m
 ust be received by 5:00 PM on the day of the meeting and must include the 
 name and address of the City of York resident. In-person comments will als
 o be accepted during the appropriate public comment section\, as outlined 
 in the Board agenda.</p></body></html>
LOCATION:31 N Pershing Ave\, York\, PA 17401\, USA
SUMMARY:School Board Meeting
END:VEVENT
BEGIN:VEVENT
DTSTAMP:20260421T144944Z
UID:9ec0a65c-cde2-4eba-b8a5-9e6c3c052d7e
DTSTART:20261109T180000
DTEND:20261109T180000
DESCRIPTION:<html><head><meta http-equiv="Content-Type" content="text/html\
 ; charset=utf-8"></head><body><p>You are invited to watch the live stream 
 of the School District of the City of York's School Board Committee Meetin
 gs. The information and link to access the meetings are below.</p><p>Monda
 y\, November 9\, 2026\, School Board Committee Meetings - 6:00 PM. <a href
 ="https://app.agendamanager.com/ycsd/dashboard">Click here to access the a
 gendas for the Committee Meetings</a> which will be available at least 24 
 hours prior to the start of the meetings.</p><p>Click here to access the Y
 ouTube Live Direct Link.</p></body></html>
LOCATION:31 N Pershing Ave\, York\, PA 17401\, USA
SUMMARY:School Board Committee Meetings
END:VEVENT
BEGIN:VEVENT
DTSTAMP:20260421T144944Z
UID:247b1990-76e2-45de-bf9a-238daa8f0196
DTSTART:20261118T183000
DTEND:20261118T183000
DESCRIPTION:<html><head><meta http-equiv="Content-Type" content="text/html\
 ; charset=utf-8"></head><body><p>School Board Meeting</p><p>School Board M
 eeting November 18\, 2026 - 6:30 PM</p><p>The School District of the City 
 of York Board of School Directors will hold an in-person School Board Regu
 lar (voting) Meeting at 6:30 PM on Wednesday\, November 18\, 2026.<a href=
 "https://app.agendamanager.com/ycsd/dashboard">Click here to access the ag
 enda for the Regular Meeting</a> which will be available at least 24 hours
  prior to the start of the meeting.</p><p>You are invited to watch the liv
 e stream of the School District of the City of York's School Board Meeting
 . The information and link to access the meeting are below. In-person comm
 ents will also be accepted during the appropriate public comment section\,
  as outlined in the Board agenda.</p><p>Wednesday\, November 18\, 2026\, S
 chool Board Meeting - 6:30 PM</p><p>Click here to access the YouTube Live 
 Direct Link.</p><p>City of York residents wishing to share comments to be 
 read during the Voting Board Meeting may<a href="mailto:ferrelor@ycs.k12.p
 a.us">email the comments to Mrs. Lori Ferrell\, Board Secretary</a>. Email
 s must be received by 5:00 PM on the day of the meeting and must include t
 he name and address of the City of York resident. In-person comments will 
 also be accepted during the appropriate public comment section\, as outlin
 ed in the Board agenda.</p></body></html>
LOCATION:31 N Pershing Ave\, York\, PA 17401\, USA
SUMMARY:School Board Meeting
END:VEVENT
END:VCALENDAR
