BEGIN:VCALENDAR
VERSION:2.0
PRODID:icalendar-ruby
CALSCALE:GREGORIAN
BEGIN:VTIMEZONE
TZID:America/New_York
BEGIN:DAYLIGHT
DTSTART:20260308T030000
TZOFFSETFROM:-0500
TZOFFSETTO:-0400
RRULE:FREQ=YEARLY;BYDAY=2SU;BYMONTH=3
TZNAME:EDT
END:DAYLIGHT
BEGIN:STANDARD
DTSTART:20261101T010000
TZOFFSETFROM:-0400
TZOFFSETTO:-0500
RRULE:FREQ=YEARLY;BYDAY=1SU;BYMONTH=11
TZNAME:EST
END:STANDARD
END:VTIMEZONE
BEGIN:VEVENT
DTSTAMP:20260424T125826Z
UID:1a5dbad3-f811-4bed-9d70-2ef80221b644
DTSTART;VALUE=DATE:20260424
DTEND;VALUE=DATE:20260425
DESCRIPTION:
LOCATION:
SUMMARY:Nest Spirit Day
END:VEVENT
BEGIN:VEVENT
DTSTAMP:20260424T125826Z
UID:0c8e3e1a-289c-49c0-a4d0-d61fbb42b375
DTSTART:20260424T143000
DTEND:20260424T153000
DESCRIPTION:
LOCATION:
SUMMARY:Let Me Run
END:VEVENT
BEGIN:VEVENT
DTSTAMP:20260424T125826Z
UID:8d1818dc-9f7b-47ae-8a22-7f2cebe0893b
DTSTART:20260428T072500
DTEND:20260428T075500
DESCRIPTION:
LOCATION:
SUMMARY:Chorus
END:VEVENT
BEGIN:VEVENT
DTSTAMP:20260424T125826Z
UID:1ce05cdf-25ee-499f-85f7-acf666fc9485
DTSTART:20260428T143000
DTEND:20260428T153000
DESCRIPTION:
LOCATION:
SUMMARY:Girls on the Run
END:VEVENT
BEGIN:VEVENT
DTSTAMP:20260424T125826Z
UID:f863f51d-7bad-4b72-a3b0-4f63a08c7862
DTSTART:20260430T143000
DTEND:20260430T153000
DESCRIPTION:
LOCATION:
SUMMARY:Girls on the Run
END:VEVENT
BEGIN:VEVENT
DTSTAMP:20260424T125826Z
UID:6ae246b0-a2d3-40b4-96e4-2ff998866cc6
DTSTART:20260430T143000
DTEND:20260430T153000
DESCRIPTION:
LOCATION:
SUMMARY:WheelPower
END:VEVENT
BEGIN:VEVENT
DTSTAMP:20260424T125826Z
UID:59d01ef5-e8d5-4004-926c-a4126a0de910
DTSTART;VALUE=DATE:20260501
DTEND;VALUE=DATE:20260502
DESCRIPTION:
LOCATION:
SUMMARY:Nest Spirit Day
END:VEVENT
BEGIN:VEVENT
DTSTAMP:20260424T125826Z
UID:5d79cd1f-31f5-4a85-8c4d-dddebd67fcd4
DTSTART;VALUE=DATE:20260506
DTEND;VALUE=DATE:20260507
DESCRIPTION:
LOCATION:
SUMMARY:Whitaker Bike Bus
END:VEVENT
BEGIN:VEVENT
DTSTAMP:20260424T125826Z
UID:f69ce79c-9d15-4ac3-a8e9-7975b3594323
DTSTART:20260506T143000
DTEND:20260506T153000
DESCRIPTION:
LOCATION:
SUMMARY:WheelPower
END:VEVENT
BEGIN:VEVENT
DTSTAMP:20260424T125826Z
UID:ad5f3096-1198-4171-aefb-eab97808619a
DTSTART;VALUE=DATE:20260508
DTEND;VALUE=DATE:20260509
DESCRIPTION:
LOCATION:
SUMMARY:Nest Spirit Day
END:VEVENT
BEGIN:VEVENT
DTSTAMP:20260424T125826Z
UID:132dab88-ba98-4527-800b-ec7216c1c292
DTSTART;VALUE=DATE:20260512
DTEND;VALUE=DATE:20260513
DESCRIPTION:
LOCATION:
SUMMARY:ELA EOG - 3rd\, 4th\, 5th grades
END:VEVENT
BEGIN:VEVENT
DTSTAMP:20260424T125826Z
UID:c641f535-5739-4903-bb56-69c2849765f7
DTSTART;VALUE=DATE:20260513
DTEND;VALUE=DATE:20260514
DESCRIPTION:
LOCATION:
SUMMARY:Math EOG - 3rd\, 4th & 5th grades
END:VEVENT
BEGIN:VEVENT
DTSTAMP:20260424T125826Z
UID:21cf59b6-96c3-40ba-8825-4e5c2a54b5a2
DTSTART;VALUE=DATE:20260514
DTEND;VALUE=DATE:20260515
DESCRIPTION:
LOCATION:
SUMMARY:Science EOG - 5th grade
END:VEVENT
BEGIN:VEVENT
DTSTAMP:20260424T125826Z
UID:2ebcecb6-b383-4d6e-b9b7-d7ec4fc6b22b
DTSTART;VALUE=DATE:20260515
DTEND;VALUE=DATE:20260516
DESCRIPTION:
LOCATION:
SUMMARY:EOG Makeup Testing
END:VEVENT
BEGIN:VEVENT
DTSTAMP:20260424T125826Z
UID:1f34b7e0-27c5-43fe-ad97-2c16951b4f39
DTSTART;VALUE=DATE:20260515
DTEND;VALUE=DATE:20260516
DESCRIPTION:
LOCATION:
SUMMARY:Nest Spirit Day
END:VEVENT
BEGIN:VEVENT
DTSTAMP:20260424T125826Z
UID:f091eb75-d865-4a43-9bb3-caf880a1a041
DTSTART:20260522T080000
DTEND:20260522T093000
DESCRIPTION:
LOCATION:
SUMMARY:5th Grade Promotion Program
END:VEVENT
BEGIN:VEVENT
DTSTAMP:20260424T125826Z
UID:f392453f-88d8-4137-bb40-2abc4f17f863
DTSTART;VALUE=DATE:20260525
DTEND;VALUE=DATE:20260526
DESCRIPTION:
LOCATION:
SUMMARY:Memorial Day - No School
END:VEVENT
BEGIN:VEVENT
DTSTAMP:20260424T125826Z
UID:dee7190f-962c-4048-a50b-b7eab7de64de
DTSTART;VALUE=DATE:20260526
DTEND;VALUE=DATE:20260527
DESCRIPTION:
LOCATION:
SUMMARY:Last Day of School for students
END:VEVENT
END:VCALENDAR
