BEGIN:VCALENDAR
VERSION:2.0
PRODID:icalendar-ruby
CALSCALE:GREGORIAN
BEGIN:VTIMEZONE
TZID:America/New_York
BEGIN:DAYLIGHT
DTSTART:20260308T030000
TZOFFSETFROM:-0500
TZOFFSETTO:-0400
RRULE:FREQ=YEARLY;BYDAY=2SU;BYMONTH=3
TZNAME:EDT
END:DAYLIGHT
BEGIN:STANDARD
DTSTART:20261101T010000
TZOFFSETFROM:-0400
TZOFFSETTO:-0500
RRULE:FREQ=YEARLY;BYDAY=1SU;BYMONTH=11
TZNAME:EST
END:STANDARD
END:VTIMEZONE
BEGIN:VEVENT
DTSTAMP:20260425T172028Z
UID:c00260f4-7850-4f63-ba4c-2de378c3b686
DTSTART;VALUE=DATE:20260427
DTEND;VALUE=DATE:20260428
DESCRIPTION:
LOCATION:
SUMMARY:Field Day
END:VEVENT
BEGIN:VEVENT
DTSTAMP:20260425T172028Z
UID:5448a491-4de8-498d-9fa3-1bf2b94fa78f
DTSTART:20260506T143000
DTEND:20260506T213000
DESCRIPTION:<p><span>Staff &amp\; Students-Come on out and enjoy a sub with
  the family! 20% comes back to Union Cross Elementary. 2:30-9:30 PM</span>
 </p>
LOCATION:1511 Union Cross Rd\, Kernersville\, NC 27284\, USA
SUMMARY:Jersey Mikes Spirit Night
END:VEVENT
BEGIN:VEVENT
DTSTAMP:20260425T172028Z
UID:bd0c0987-4131-469b-8e79-0b8bd3924b64
DTSTART;VALUE=DATE:20260507
DTEND;VALUE=DATE:20260508
DESCRIPTION:
LOCATION:
SUMMARY:4th and 5th Grade Musical
END:VEVENT
BEGIN:VEVENT
DTSTAMP:20260425T172028Z
UID:beded412-0787-4ed1-b1dd-498587c6479e
DTSTART;VALUE=DATE:20260512
DTEND;VALUE=DATE:20260513
DESCRIPTION:
LOCATION:
SUMMARY:ELA EOG's Grades 3-5
END:VEVENT
BEGIN:VEVENT
DTSTAMP:20260425T172028Z
UID:5665a77d-985f-4f85-9bf6-70509853652b
DTSTART;VALUE=DATE:20260513
DTEND;VALUE=DATE:20260514
DESCRIPTION:
LOCATION:
SUMMARY:MATH EOG's - Grades 3-5
END:VEVENT
BEGIN:VEVENT
DTSTAMP:20260425T172028Z
UID:af80a8cd-cbcd-4438-9a03-9e923e73448a
DTSTART;VALUE=DATE:20260514
DTEND;VALUE=DATE:20260515
DESCRIPTION:
LOCATION:
SUMMARY:Science EOG - 5th Grade
END:VEVENT
BEGIN:VEVENT
DTSTAMP:20260425T172028Z
UID:98694187-c4c2-4363-9d3f-8c02b64aefd3
DTSTART;VALUE=DATE:20260515
DTEND;VALUE=DATE:20260516
DESCRIPTION:
LOCATION:
SUMMARY:EOG Make-Ups
END:VEVENT
END:VCALENDAR
