BEGIN:VCALENDAR
VERSION:2.0
PRODID:icalendar-ruby
CALSCALE:GREGORIAN
BEGIN:VTIMEZONE
TZID:America/New_York
BEGIN:DAYLIGHT
DTSTART:20260308T030000
TZOFFSETFROM:-0500
TZOFFSETTO:-0400
RRULE:FREQ=YEARLY;BYDAY=2SU;BYMONTH=3
TZNAME:EDT
END:DAYLIGHT
BEGIN:STANDARD
DTSTART:20261101T010000
TZOFFSETFROM:-0400
TZOFFSETTO:-0500
RRULE:FREQ=YEARLY;BYDAY=1SU;BYMONTH=11
TZNAME:EST
END:STANDARD
END:VTIMEZONE
BEGIN:VEVENT
DTSTAMP:20260425T205240Z
UID:c29bc901-a6cb-444b-b2ff-6f8e6eca6245
DTSTART;VALUE=DATE:20260425
DTEND;VALUE=DATE:20260426
DESCRIPTION:Spring Sting Race! Saturday May 2nd at the Speas Track. Race wi
 ll begin at 9am starting with Kindergarten. Then will follow with each gra
 de 1-5\, running its own separate race. Registration is at 8:30am. $10 per
  child. Adults can run free! All proceeds go to the PTA. If you would like
  to register in advance please Venmo @Pamela-Kozadayev. Please put child
 ’s name and grade level in comments of Venmo. Come out for a morning of 
 FUN!
LOCATION:
SUMMARY:Spring Stinger- Saturday
END:VEVENT
BEGIN:VEVENT
DTSTAMP:20260425T205240Z
UID:919021c4-8bfe-46a6-80ac-f685a3eb306d
DTSTART;VALUE=DATE:20260428
DTEND;VALUE=DATE:20260429
DESCRIPTION:Spring Pictures will be taken on Tuesday 04/28. Students are al
 lowed to dress down but are still required to follow the dress code.
LOCATION:
SUMMARY:School Spring Picture Day
END:VEVENT
BEGIN:VEVENT
DTSTAMP:20260425T205240Z
UID:5edc3fa6-aac1-414b-b5e3-15488ad54426
DTSTART;VALUE=DATE:20260430
DTEND;VALUE=DATE:20260501
DESCRIPTION:Field Day for kindergarten\, 1st grade\, and 2nd grade will be 
 on Thursday\, April 30th. Field Day for 3rd grade\, 4th grade\, and 5th gr
 ade will be on Friday\, May 1st. If any changes occur due to weather or ot
 her circumstances I will notify you a.s.a.p. If you have any questions ple
 ase feel free to reach out to Mr. Hardin
LOCATION:
SUMMARY:Field Day K-2
END:VEVENT
BEGIN:VEVENT
DTSTAMP:20260425T205240Z
UID:7e17ec16-a43b-410e-ae48-ca6778009478
DTSTART;VALUE=DATE:20260501
DTEND;VALUE=DATE:20260502
DESCRIPTION:Field Day for kindergarten\, 1st grade\, and 2nd grade will be 
 on Thursday\, April 30th. Field Day for 3rd grade\, 4th grade\, and 5th gr
 ade will be on Friday\, May 1st. If any changes occur due to weather or ot
 her circumstances I will notify you a.s.a.p. If you have any questions ple
 ase feel free to reach out to Mr. Hardin
LOCATION:
SUMMARY:Field Day 3-5
END:VEVENT
BEGIN:VEVENT
DTSTAMP:20260425T205240Z
UID:70118897-420f-446a-8834-c7837ecff212
DTSTART;VALUE=DATE:20260508
DTEND;VALUE=DATE:20260509
DESCRIPTION:
LOCATION:
SUMMARY:Dollar Dress Down
END:VEVENT
BEGIN:VEVENT
DTSTAMP:20260425T205240Z
UID:aa6558d6-438e-40d4-9088-d93f226e29b7
DTSTART;VALUE=DATE:20260511
DTEND;VALUE=DATE:20260523
DESCRIPTION:
LOCATION:
SUMMARY:EOG Window
END:VEVENT
BEGIN:VEVENT
DTSTAMP:20260425T205240Z
UID:6d6d7876-c586-4db4-803a-df796e0e1102
DTSTART:20260521T090000
DTEND:20260521T094500
DESCRIPTION:Families are welcome to come. Contact your classroom teacher fo
 r specific details
LOCATION:
SUMMARY:Kinder Musical and PROMOTION
END:VEVENT
BEGIN:VEVENT
DTSTAMP:20260425T205240Z
UID:aa666e64-bfdb-46ac-b7d1-32b3181eda12
DTSTART;VALUE=DATE:20260522
DTEND;VALUE=DATE:20260523
DESCRIPTION:
LOCATION:
SUMMARY:Last Day of School
END:VEVENT
BEGIN:VEVENT
DTSTAMP:20260425T205240Z
UID:c23dea9c-e0a1-4f8b-81a5-060aa787a820
DTSTART;VALUE=DATE:20260522
DTEND;VALUE=DATE:20260523
DESCRIPTION:
LOCATION:
SUMMARY:Report Cards Home
END:VEVENT
BEGIN:VEVENT
DTSTAMP:20260425T205240Z
UID:1edaff02-1c15-43c8-a326-aae732ab7445
DTSTART:20260522T090000
DTEND:20260522T120000
DESCRIPTION:In the gym at 9:00\nStudents should dress to impress (No Jeans)
 \nAwards and recognitions will be presented\nStudents will sing a memorabl
 e song\nThere will be a guest speaker
LOCATION:
SUMMARY:5th Grade Promotion Celebration
END:VEVENT
END:VCALENDAR
