BEGIN:VCALENDAR
VERSION:2.0
PRODID:icalendar-ruby
CALSCALE:GREGORIAN
BEGIN:VTIMEZONE
TZID:America/New_York
BEGIN:DAYLIGHT
DTSTART:20260308T030000
TZOFFSETFROM:-0500
TZOFFSETTO:-0400
RRULE:FREQ=YEARLY;BYDAY=2SU;BYMONTH=3
TZNAME:EDT
END:DAYLIGHT
BEGIN:STANDARD
DTSTART:20261101T010000
TZOFFSETFROM:-0400
TZOFFSETTO:-0500
RRULE:FREQ=YEARLY;BYDAY=1SU;BYMONTH=11
TZNAME:EST
END:STANDARD
END:VTIMEZONE
BEGIN:VEVENT
DTSTAMP:20260425T205303Z
UID:3519e996-44c7-42d2-985b-2347b5309dbe
DTSTART;VALUE=DATE:20260424
DTEND;VALUE=DATE:20260502
DESCRIPTION:
LOCATION:
SUMMARY:Book Fair 
END:VEVENT
BEGIN:VEVENT
DTSTAMP:20260425T205303Z
UID:6bbf4cf0-3906-44b2-8d4a-dad951d422b7
DTSTART;VALUE=DATE:20260429
DTEND;VALUE=DATE:20260430
DESCRIPTION:
LOCATION:
SUMMARY:Field Day
END:VEVENT
BEGIN:VEVENT
DTSTAMP:20260425T205303Z
UID:ec165e77-58b1-4fbc-85ef-f6937442174d
DTSTART;VALUE=DATE:20260512
DTEND;VALUE=DATE:20260513
DESCRIPTION:
LOCATION:
SUMMARY:3rd Reading EOG
END:VEVENT
BEGIN:VEVENT
DTSTAMP:20260425T205303Z
UID:5ec43d57-2230-441f-a42d-b49bb90039f9
DTSTART;VALUE=DATE:20260513
DTEND;VALUE=DATE:20260514
DESCRIPTION:
LOCATION:
SUMMARY:3rd Math EOG
END:VEVENT
BEGIN:VEVENT
DTSTAMP:20260425T205303Z
UID:0136a31b-b32f-4b71-915e-694c2d4f5f0e
DTSTART;VALUE=DATE:20260514
DTEND;VALUE=DATE:20260515
DESCRIPTION:
LOCATION:
SUMMARY:4th and 5th Reading EOG
END:VEVENT
BEGIN:VEVENT
DTSTAMP:20260425T205303Z
UID:3a801cfa-673e-471a-90c9-86ff62f9690e
DTSTART;VALUE=DATE:20260515
DTEND;VALUE=DATE:20260516
DESCRIPTION:
LOCATION:
SUMMARY:4th and 5th Math EOG
END:VEVENT
BEGIN:VEVENT
DTSTAMP:20260425T205303Z
UID:5edf44f7-3182-4c18-948d-2572b2798b20
DTSTART;VALUE=DATE:20260519
DTEND;VALUE=DATE:20260520
DESCRIPTION:
LOCATION:
SUMMARY:RTA and 5th Science EOG 
END:VEVENT
END:VCALENDAR
