BEGIN:VCALENDAR
VERSION:2.0
PRODID:icalendar-ruby
CALSCALE:GREGORIAN
BEGIN:VTIMEZONE
TZID:America/New_York
BEGIN:DAYLIGHT
DTSTART:20260308T030000
TZOFFSETFROM:-0500
TZOFFSETTO:-0400
RRULE:FREQ=YEARLY;BYDAY=2SU;BYMONTH=3
TZNAME:EDT
END:DAYLIGHT
BEGIN:STANDARD
DTSTART:20261101T010000
TZOFFSETFROM:-0400
TZOFFSETTO:-0500
RRULE:FREQ=YEARLY;BYDAY=1SU;BYMONTH=11
TZNAME:EST
END:STANDARD
END:VTIMEZONE
BEGIN:VEVENT
DTSTAMP:20260425T205420Z
UID:6820408f-2409-4eb1-8866-a9531f93b94a
DTSTART:20260425T193000
DTEND:20260425T220000
DESCRIPTION:
LOCATION:301 N Hawthorne Rd\, Winston-Salem\, NC 27104\, USA
SUMMARY:Reynolds Auditorium presents "The Seven Deadly Sins" w/ Storm Large
END:VEVENT
BEGIN:VEVENT
DTSTAMP:20260425T205420Z
UID:e95a88c4-6f91-4430-b9d3-58ab048dc1bf
DTSTART:20260426T150000
DTEND:20260426T170000
DESCRIPTION:
LOCATION:301 N Hawthorne Rd\, Winston-Salem\, NC 27104\, USA
SUMMARY:Reynolds Auditorium presents: "The Seven Deadly Sins" w/ Storm Larg
 e
END:VEVENT
BEGIN:VEVENT
DTSTAMP:20260425T205420Z
UID:4831d562-0254-43c8-a6fd-24d6f54f94bd
DTSTART:20260509T193000
DTEND:20260509T220000
DESCRIPTION:
LOCATION:301 N Hawthorne Rd\, Winston-Salem\, NC 27104\, USA
SUMMARY:Reynolds Auditorium presents: Defying Gravity
END:VEVENT
BEGIN:VEVENT
DTSTAMP:20260425T205420Z
UID:ade7ced8-d504-45f2-ad0f-ca30ad6b498e
DTSTART:20260530T193000
DTEND:20260530T220000
DESCRIPTION:
LOCATION:301 N Hawthorne Rd\, Winston-Salem\, NC 27104\, USA
SUMMARY:Reynolds Auditorium presents: Copeland's Fanfare w/ Jaki Shelton Gr
 een
END:VEVENT
BEGIN:VEVENT
DTSTAMP:20260425T205420Z
UID:b1586757-2f68-4fb3-b08c-6818794f3455
DTSTART:20260531T150000
DTEND:20260531T170000
DESCRIPTION:
LOCATION:301 N Hawthorne Rd\, Winston-Salem\, NC 27104\, USA
SUMMARY:Reynolds Auditorium presents: Copeland's Fanfare w/ Jaki Shelton Gr
 een
END:VEVENT
END:VCALENDAR
