BEGIN:VCALENDAR
VERSION:2.0
PRODID:icalendar-ruby
CALSCALE:GREGORIAN
BEGIN:VTIMEZONE
TZID:America/New_York
BEGIN:DAYLIGHT
DTSTART:20260308T030000
TZOFFSETFROM:-0500
TZOFFSETTO:-0400
RRULE:FREQ=YEARLY;BYDAY=2SU;BYMONTH=3
TZNAME:EDT
END:DAYLIGHT
BEGIN:STANDARD
DTSTART:20261101T010000
TZOFFSETFROM:-0400
TZOFFSETTO:-0500
RRULE:FREQ=YEARLY;BYDAY=1SU;BYMONTH=11
TZNAME:EST
END:STANDARD
END:VTIMEZONE
BEGIN:VEVENT
DTSTAMP:20260422T212046Z
UID:77a2f341-0af0-43c7-9aaf-2f707fd32d2f
DTSTART:20260423T083000
DTEND:20260423T100000
DESCRIPTION:<p>PreK and Mr. M's Extended Contents class will have Field Day
  on Thursday from 8:30-10:00am.</p>
LOCATION:
SUMMARY:Pre-K/Mr. M Field Day
END:VEVENT
BEGIN:VEVENT
DTSTAMP:20260422T212046Z
UID:9f45b179-9cf2-4ba6-9b59-660eeb8631fd
DTSTART:20260423T103000
DTEND:20260423T120000
DESCRIPTION:
LOCATION:
SUMMARY:Kindergarten Field Day
END:VEVENT
BEGIN:VEVENT
DTSTAMP:20260422T212046Z
UID:01ecb7fc-abbe-4be9-887d-0ea7bd6a7680
DTSTART:20260423T123000
DTEND:20260423T140000
DESCRIPTION:
LOCATION:
SUMMARY:2nd/3rd Grade Field Day
END:VEVENT
BEGIN:VEVENT
DTSTAMP:20260422T212046Z
UID:de78f402-1732-46d0-afab-8f7a189a18e2
DTSTART:20260424T083000
DTEND:20260424T100000
DESCRIPTION:
LOCATION:
SUMMARY:5th Grade Field Day
END:VEVENT
BEGIN:VEVENT
DTSTAMP:20260422T212046Z
UID:57761726-e4c1-48ba-a921-c3a3baaba12f
DTSTART:20260424T103000
DTEND:20260424T120000
DESCRIPTION:
LOCATION:
SUMMARY:1st Grade Field Day
END:VEVENT
BEGIN:VEVENT
DTSTAMP:20260422T212046Z
UID:279b762a-a27b-4692-a837-28b7c3cd1245
DTSTART:20260424T123000
DTEND:20260424T140000
DESCRIPTION:
LOCATION:
SUMMARY:4th Grade Field Day
END:VEVENT
BEGIN:VEVENT
DTSTAMP:20260422T212046Z
UID:dcfe5d80-ef98-44fd-a735-65bfef67fdba
DTSTART;VALUE=DATE:20260427
DTEND;VALUE=DATE:20260502
DESCRIPTION:
LOCATION:
SUMMARY:Teacher Appreciation Week
END:VEVENT
BEGIN:VEVENT
DTSTAMP:20260422T212046Z
UID:c53d783a-d07f-4f9b-a7b8-de93b04d8c2b
DTSTART;VALUE=DATE:20260512
DTEND;VALUE=DATE:20260513
DESCRIPTION:
LOCATION:
SUMMARY:EOG Testing Begins
END:VEVENT
END:VCALENDAR
