BEGIN:VCALENDAR
VERSION:2.0
PRODID:icalendar-ruby
CALSCALE:GREGORIAN
BEGIN:VTIMEZONE
TZID:America/New_York
BEGIN:DAYLIGHT
DTSTART:20260308T030000
TZOFFSETFROM:-0500
TZOFFSETTO:-0400
RRULE:FREQ=YEARLY;BYDAY=2SU;BYMONTH=3
TZNAME:EDT
END:DAYLIGHT
BEGIN:STANDARD
DTSTART:20261101T010000
TZOFFSETFROM:-0400
TZOFFSETTO:-0500
RRULE:FREQ=YEARLY;BYDAY=1SU;BYMONTH=11
TZNAME:EST
END:STANDARD
END:VTIMEZONE
BEGIN:VEVENT
DTSTAMP:20260425T222923Z
UID:5f96a5e8-de93-4844-94c0-8ebe63ea42ab
DTSTART:20260522T080000
DTEND:20260522T170000
DESCRIPTION:Last Day of School: End of 4th Quarter\, 2nd Semester
LOCATION:Winston-Salem/Forsyth County Schools\, NC
SUMMARY:Last Day of School: End of 4th Quarter\, 2nd Semester
END:VEVENT
BEGIN:VEVENT
DTSTAMP:20260425T222923Z
UID:d91dfec4-8a8e-4889-90ee-47afaf95f7eb
DTSTART:20260525T080000
DTEND:20260525T170000
DESCRIPTION:Memorial Day Observed: (H)oliday for All Staff)
LOCATION:Winston-Salem/Forsyth County Schools\, NC
SUMMARY:Memorial Day Observed: (H)oliday for All Staff)
END:VEVENT
BEGIN:VEVENT
DTSTAMP:20260425T222923Z
UID:359fa64e-a4c6-449c-851b-f765146ab8dd
DTSTART:20260526T080000
DTEND:20260526T170000
DESCRIPTION:RS: Reserve for Schools Day
LOCATION:Winston-Salem/Forsyth County Schools\, NC
SUMMARY:RS: Reserve for Schools Day
END:VEVENT
BEGIN:VEVENT
DTSTAMP:20260425T222923Z
UID:71e0168b-adbd-4dcc-8ec1-d557da1f5b59
DTSTART:20260527T080000
DTEND:20260527T170000
DESCRIPTION:RS: Reserve for Schools Day
LOCATION:Winston-Salem/Forsyth County Schools\, NC
SUMMARY:RS: Reserve for Schools Day
END:VEVENT
BEGIN:VEVENT
DTSTAMP:20260425T222923Z
UID:d9aaf0b6-9319-46b9-b477-1dce051a4c2c
DTSTART:20260528T080000
DTEND:20260528T170000
DESCRIPTION:RS: Reserve for Schools Day
LOCATION:Winston-Salem/Forsyth County Schools\, NC
SUMMARY:RS: Reserve for Schools Day
END:VEVENT
BEGIN:VEVENT
DTSTAMP:20260425T222923Z
UID:0e63bbec-4477-4b28-9ec7-ca30f9843c06
DTSTART:20260529T080000
DTEND:20260529T170000
DESCRIPTION:RT: Reserve for Teachers Day
LOCATION:Winston-Salem/Forsyth County Schools\, NC
SUMMARY:RT: Reserve for Teachers Day
END:VEVENT
BEGIN:VEVENT
DTSTAMP:20260425T222923Z
UID:3b5b2e09-d159-41b8-9e5c-ed9a0ad871f5
DTSTART:20260704T080000
DTEND:20260704T170000
DESCRIPTION:Independence Day Observed (H)oliday for Staff
LOCATION:Winston-Salem/Forsyth County Schools\, NC
SUMMARY:Independence Day Observed (H)oliday
END:VEVENT
END:VCALENDAR
