BEGIN:VCALENDAR
VERSION:2.0
PRODID:icalendar-ruby
CALSCALE:GREGORIAN
BEGIN:VTIMEZONE
TZID:America/New_York
BEGIN:DAYLIGHT
DTSTART:20260308T030000
TZOFFSETFROM:-0500
TZOFFSETTO:-0400
RRULE:FREQ=YEARLY;BYDAY=2SU;BYMONTH=3
TZNAME:EDT
END:DAYLIGHT
BEGIN:STANDARD
DTSTART:20261101T010000
TZOFFSETFROM:-0400
TZOFFSETTO:-0500
RRULE:FREQ=YEARLY;BYDAY=1SU;BYMONTH=11
TZNAME:EST
END:STANDARD
END:VTIMEZONE
BEGIN:VEVENT
DTSTAMP:20260425T205527Z
UID:4d5369b6-b621-4d82-9dfa-f43100bed314
DTSTART;VALUE=DATE:20260504
DTEND;VALUE=DATE:20260509
DESCRIPTION:<p>All funds support NHES Core Behavior initiatives that direct
 ly support student success! </p>
LOCATION:340 Alspaugh Dr\, Winston-Salem\, NC 27105\, USA
SUMMARY:$5 No Uniform Week for Students
END:VEVENT
BEGIN:VEVENT
DTSTAMP:20260425T205527Z
UID:3f07319a-f115-499a-8a29-59eda99b2a1c
DTSTART:20260518T090000
DTEND:20260518T120000
DESCRIPTION:
LOCATION:340 Alspaugh Dr\, Winston-Salem\, NC 27105\, USA
SUMMARY:Field Day for PreK - 2nd Grade
END:VEVENT
BEGIN:VEVENT
DTSTAMP:20260425T205527Z
UID:548cc2a4-6f77-4607-8d5d-0afec51506b1
DTSTART:20260519T100000
DTEND:20260519T113000
DESCRIPTION:
LOCATION:340 Alspaugh Dr\, Winston-Salem\, NC 27105\, USA
SUMMARY:Pre-K Celebration
END:VEVENT
BEGIN:VEVENT
DTSTAMP:20260425T205527Z
UID:0e680ef4-d79a-48d3-b993-f6e62f55bae7
DTSTART:20260521T090000
DTEND:20260521T120000
DESCRIPTION:
LOCATION:340 Alspaugh Dr\, Winston-Salem\, NC 27105\, USA
SUMMARY:Field Day for 3rd-5th Grade
END:VEVENT
BEGIN:VEVENT
DTSTAMP:20260425T205527Z
UID:fbc72791-f877-463e-9395-0d8cc008862a
DTSTART;VALUE=DATE:20260522
DTEND;VALUE=DATE:20260523
DESCRIPTION:
LOCATION:
SUMMARY:End of Quarter Four
END:VEVENT
BEGIN:VEVENT
DTSTAMP:20260425T205527Z
UID:dc0e102a-3e04-4338-bdf1-48647c01f763
DTSTART;VALUE=DATE:20260522
DTEND;VALUE=DATE:20260523
DESCRIPTION:
LOCATION:
SUMMARY:Last Day of School
END:VEVENT
BEGIN:VEVENT
DTSTAMP:20260425T205527Z
UID:0c03b518-4eb3-450f-a12e-e4cb6cb39024
DTSTART:20260522T110000
DTEND:20260522T123000
DESCRIPTION:
LOCATION:340 Alspaugh Dr\, Winston-Salem\, NC 27105\, USA
SUMMARY:5th Grade Celebration
END:VEVENT
BEGIN:VEVENT
DTSTAMP:20260425T205527Z
UID:f5de4643-ff9d-46ac-a70e-0c18b51e52c9
DTSTART;VALUE=DATE:20260525
DTEND;VALUE=DATE:20260526
DESCRIPTION:
LOCATION:
SUMMARY:Memorial Day Holiday: No School
END:VEVENT
BEGIN:VEVENT
DTSTAMP:20260425T205527Z
UID:832b4a14-ea48-49ed-a6dc-7ab932ce1bca
DTSTART;VALUE=DATE:20260526
DTEND;VALUE=DATE:20260530
DESCRIPTION:
LOCATION:
SUMMARY:Teacher Workdays
END:VEVENT
END:VCALENDAR
