BEGIN:VCALENDAR
VERSION:2.0
PRODID:icalendar-ruby
CALSCALE:GREGORIAN
BEGIN:VTIMEZONE
TZID:America/New_York
BEGIN:DAYLIGHT
DTSTART:20260308T030000
TZOFFSETFROM:-0500
TZOFFSETTO:-0400
RRULE:FREQ=YEARLY;BYDAY=2SU;BYMONTH=3
TZNAME:EDT
END:DAYLIGHT
BEGIN:STANDARD
DTSTART:20261101T010000
TZOFFSETFROM:-0400
TZOFFSETTO:-0500
RRULE:FREQ=YEARLY;BYDAY=1SU;BYMONTH=11
TZNAME:EST
END:STANDARD
END:VTIMEZONE
BEGIN:VEVENT
DTSTAMP:20260425T221906Z
UID:f95013da-a926-4ba7-af08-e8f8210e3729
DTSTART;VALUE=DATE:20260508
DTEND;VALUE=DATE:20260509
DESCRIPTION:
LOCATION:
SUMMARY:Field Day - Rain Date
END:VEVENT
BEGIN:VEVENT
DTSTAMP:20260425T221906Z
UID:ebe8fcfa-2306-4161-9073-3fdf8008b47c
DTSTART:20260508T180000
DTEND:20260508T200000
DESCRIPTION:
LOCATION:
SUMMARY:Bingo Night
END:VEVENT
BEGIN:VEVENT
DTSTAMP:20260425T221906Z
UID:524eec3b-6f01-4738-a094-fd480ddee02b
DTSTART;VALUE=DATE:20260522
DTEND;VALUE=DATE:20260523
DESCRIPTION:
LOCATION:
SUMMARY:Last Day of School
END:VEVENT
END:VCALENDAR
