BEGIN:VCALENDAR
VERSION:2.0
PRODID:icalendar-ruby
CALSCALE:GREGORIAN
BEGIN:VTIMEZONE
TZID:America/New_York
BEGIN:DAYLIGHT
DTSTART:20260308T030000
TZOFFSETFROM:-0500
TZOFFSETTO:-0400
RRULE:FREQ=YEARLY;BYDAY=2SU;BYMONTH=3
TZNAME:EDT
END:DAYLIGHT
BEGIN:STANDARD
DTSTART:20261101T010000
TZOFFSETFROM:-0400
TZOFFSETTO:-0500
RRULE:FREQ=YEARLY;BYDAY=1SU;BYMONTH=11
TZNAME:EST
END:STANDARD
END:VTIMEZONE
BEGIN:VEVENT
DTSTAMP:20260425T221953Z
UID:8aea0ab8-c438-4a8d-a391-26c649836171
DTSTART;VALUE=DATE:20260505
DTEND;VALUE=DATE:20260506
DESCRIPTION:Observance\nTo hide observances\, go to Google Calendar Setting
 s > Holidays in United States
LOCATION:
SUMMARY:Cinco de Mayo
END:VEVENT
BEGIN:VEVENT
DTSTAMP:20260425T221953Z
UID:3e2a433f-c817-4b0c-a0a2-585add589cc7
DTSTART;VALUE=DATE:20260510
DTEND;VALUE=DATE:20260511
DESCRIPTION:Observance\nTo hide observances\, go to Google Calendar Setting
 s > Holidays in United States
LOCATION:
SUMMARY:Mother's Day
END:VEVENT
BEGIN:VEVENT
DTSTAMP:20260425T221953Z
UID:e786eeb7-c195-4893-9edd-8aea4497c7b1
DTSTART;VALUE=DATE:20260525
DTEND;VALUE=DATE:20260526
DESCRIPTION:Public holiday
LOCATION:
SUMMARY:Memorial Day
END:VEVENT
BEGIN:VEVENT
DTSTAMP:20260425T221953Z
UID:7e5f4887-2ddf-4454-a3e6-51a169930d05
DTSTART;VALUE=DATE:20260614
DTEND;VALUE=DATE:20260615
DESCRIPTION:Observance\nTo hide observances\, go to Google Calendar Setting
 s > Holidays in United States
LOCATION:
SUMMARY:Flag Day
END:VEVENT
BEGIN:VEVENT
DTSTAMP:20260425T221953Z
UID:288f1b2a-1f6b-4b2c-b5d1-8eb06e7df0fd
DTSTART;VALUE=DATE:20260619
DTEND;VALUE=DATE:20260620
DESCRIPTION:Public holiday
LOCATION:
SUMMARY:Juneteenth
END:VEVENT
BEGIN:VEVENT
DTSTAMP:20260425T221953Z
UID:b1410030-5f8b-47f5-9c7f-efb5c080d43d
DTSTART;VALUE=DATE:20260621
DTEND;VALUE=DATE:20260622
DESCRIPTION:Observance\nTo hide observances\, go to Google Calendar Setting
 s > Holidays in United States
LOCATION:
SUMMARY:Father’s Day
END:VEVENT
BEGIN:VEVENT
DTSTAMP:20260425T221953Z
UID:0bf2f49a-d3fa-477c-84be-4edd239e47e7
DTSTART;VALUE=DATE:20260703
DTEND;VALUE=DATE:20260704
DESCRIPTION:Public holiday
LOCATION:
SUMMARY:Independence Day (substitute)
END:VEVENT
BEGIN:VEVENT
DTSTAMP:20260425T221953Z
UID:5beb26e3-b4cd-4a58-9c4f-6596c419e172
DTSTART;VALUE=DATE:20260704
DTEND;VALUE=DATE:20260705
DESCRIPTION:Public holiday
LOCATION:
SUMMARY:Independence Day
END:VEVENT
BEGIN:VEVENT
DTSTAMP:20260425T221953Z
UID:29fb84db-5844-40f6-a710-87a2855e5f45
DTSTART;VALUE=DATE:20261012
DTEND;VALUE=DATE:20261013
DESCRIPTION:Public holiday
LOCATION:
SUMMARY:Columbus Day
END:VEVENT
BEGIN:VEVENT
DTSTAMP:20260425T221953Z
UID:05ad6190-2088-4e53-8f8d-d87e808382b2
DTSTART;VALUE=DATE:20261127
DTEND;VALUE=DATE:20261128
DESCRIPTION:Observance\nTo hide observances\, go to Google Calendar Setting
 s > Holidays in United States
LOCATION:
SUMMARY:Black Friday
END:VEVENT
BEGIN:VEVENT
DTSTAMP:20260425T221953Z
UID:1b31985b-63e3-49d4-97a5-49cf67149427
DTSTART;VALUE=DATE:20270620
DTEND;VALUE=DATE:20270621
DESCRIPTION:Observance\nTo hide observances\, go to Google Calendar Setting
 s > Holidays in United States
LOCATION:
SUMMARY:Father’s Day
END:VEVENT
BEGIN:VEVENT
DTSTAMP:20260425T221953Z
UID:bf41d78e-49ee-41e9-beed-b99317841eaa
DTSTART;VALUE=DATE:20271011
DTEND;VALUE=DATE:20271012
DESCRIPTION:Public holiday
LOCATION:
SUMMARY:Columbus Day
END:VEVENT
BEGIN:VEVENT
DTSTAMP:20260425T221953Z
UID:47cabb10-9167-4ad6-a3ed-00f295a09e29
DTSTART;VALUE=DATE:20271126
DTEND;VALUE=DATE:20271127
DESCRIPTION:Observance\nTo hide observances\, go to Google Calendar Setting
 s > Holidays in United States
LOCATION:
SUMMARY:Black Friday
END:VEVENT
BEGIN:VEVENT
DTSTAMP:20260425T221953Z
UID:bc8302c9-6b51-40bc-9f92-a213c945875a
DTSTART;VALUE=DATE:20280618
DTEND;VALUE=DATE:20280619
DESCRIPTION:Observance\nTo hide observances\, go to Google Calendar Setting
 s > Holidays in United States
LOCATION:
SUMMARY:Father’s Day
END:VEVENT
BEGIN:VEVENT
DTSTAMP:20260425T221953Z
UID:01ec6aec-9bd2-4169-a5a4-61e08574a5fc
DTSTART;VALUE=DATE:20281009
DTEND;VALUE=DATE:20281010
DESCRIPTION:Public holiday
LOCATION:
SUMMARY:Columbus Day
END:VEVENT
BEGIN:VEVENT
DTSTAMP:20260425T221953Z
UID:9adf7b0c-8513-4f40-b300-05be730c5fda
DTSTART;VALUE=DATE:20281124
DTEND;VALUE=DATE:20281125
DESCRIPTION:Observance\nTo hide observances\, go to Google Calendar Setting
 s > Holidays in United States
LOCATION:
SUMMARY:Black Friday
END:VEVENT
BEGIN:VEVENT
DTSTAMP:20260425T221953Z
UID:f3f19ef7-a8c5-42b5-954d-0bf7660349aa
DTSTART;VALUE=DATE:20290617
DTEND;VALUE=DATE:20290618
DESCRIPTION:Observance\nTo hide observances\, go to Google Calendar Setting
 s > Holidays in United States
LOCATION:
SUMMARY:Father’s Day
END:VEVENT
BEGIN:VEVENT
DTSTAMP:20260425T221953Z
UID:73145f8b-c794-4a39-beed-81171f7efeaa
DTSTART;VALUE=DATE:20291008
DTEND;VALUE=DATE:20291009
DESCRIPTION:Public holiday
LOCATION:
SUMMARY:Columbus Day
END:VEVENT
BEGIN:VEVENT
DTSTAMP:20260425T221953Z
UID:e3a39930-08dc-4cd3-b358-3c1399a9857d
DTSTART;VALUE=DATE:20291123
DTEND;VALUE=DATE:20291124
DESCRIPTION:Observance\nTo hide observances\, go to Google Calendar Setting
 s > Holidays in United States
LOCATION:
SUMMARY:Black Friday
END:VEVENT
BEGIN:VEVENT
DTSTAMP:20260425T221953Z
UID:b26e96b8-0b6c-4941-80d2-89b439d7ce52
DTSTART;VALUE=DATE:20300101
DTEND;VALUE=DATE:20300102
DESCRIPTION:Public holiday
LOCATION:
SUMMARY:New Year's Day
END:VEVENT
BEGIN:VEVENT
DTSTAMP:20260425T221953Z
UID:8c0e7b72-e35a-40b6-a4a2-8a5141c043fd
DTSTART;VALUE=DATE:20300121
DTEND;VALUE=DATE:20300122
DESCRIPTION:Public holiday
LOCATION:
SUMMARY:Martin Luther King Jr. Day
END:VEVENT
BEGIN:VEVENT
DTSTAMP:20260425T221953Z
UID:c405bf94-a57c-4fdc-8e72-52b1c2aaefdc
DTSTART;VALUE=DATE:20300214
DTEND;VALUE=DATE:20300215
DESCRIPTION:Observance\nTo hide observances\, go to Google Calendar Setting
 s > Holidays in United States
LOCATION:
SUMMARY:Valentine's Day
END:VEVENT
BEGIN:VEVENT
DTSTAMP:20260425T221953Z
UID:34f657a7-60e5-4983-8b74-30a1649a6ded
DTSTART;VALUE=DATE:20300218
DTEND;VALUE=DATE:20300219
DESCRIPTION:Public holiday
LOCATION:
SUMMARY:Presidents' Day
END:VEVENT
BEGIN:VEVENT
DTSTAMP:20260425T221953Z
UID:ea55df5e-7557-462a-a638-7d3a0a94a376
DTSTART;VALUE=DATE:20300310
DTEND;VALUE=DATE:20300311
DESCRIPTION:Observance\nTo hide observances\, go to Google Calendar Setting
 s > Holidays in United States
LOCATION:
SUMMARY:Daylight Saving Time starts
END:VEVENT
BEGIN:VEVENT
DTSTAMP:20260425T221953Z
UID:7c60e253-a1dc-4bff-be72-9ba78e0fbec8
DTSTART;VALUE=DATE:20300317
DTEND;VALUE=DATE:20300318
DESCRIPTION:Observance\nTo hide observances\, go to Google Calendar Setting
 s > Holidays in United States
LOCATION:
SUMMARY:St. Patrick's Day
END:VEVENT
BEGIN:VEVENT
DTSTAMP:20260425T221953Z
UID:b00fc799-2586-46a7-85b7-12c0173d3db0
DTSTART;VALUE=DATE:20300415
DTEND;VALUE=DATE:20300416
DESCRIPTION:Observance\nTo hide observances\, go to Google Calendar Setting
 s > Holidays in United States
LOCATION:
SUMMARY:Tax Day
END:VEVENT
BEGIN:VEVENT
DTSTAMP:20260425T221953Z
UID:f97e6fbe-9f21-4e33-823c-c1d096a927c2
DTSTART;VALUE=DATE:20300421
DTEND;VALUE=DATE:20300422
DESCRIPTION:Observance\nTo hide observances\, go to Google Calendar Setting
 s > Holidays in United States
LOCATION:
SUMMARY:Easter Sunday
END:VEVENT
BEGIN:VEVENT
DTSTAMP:20260425T221953Z
UID:ae9a16fa-5707-438c-b746-277c0684508b
DTSTART;VALUE=DATE:20300422
DTEND;VALUE=DATE:20300423
DESCRIPTION:Observance\nTo hide observances\, go to Google Calendar Setting
 s > Holidays in United States
LOCATION:
SUMMARY:Easter Monday
END:VEVENT
BEGIN:VEVENT
DTSTAMP:20260425T221953Z
UID:ff4565a8-5838-40ef-8dc0-5024e19213fd
DTSTART;VALUE=DATE:20300505
DTEND;VALUE=DATE:20300506
DESCRIPTION:Observance\nTo hide observances\, go to Google Calendar Setting
 s > Holidays in United States
LOCATION:
SUMMARY:Cinco de Mayo
END:VEVENT
BEGIN:VEVENT
DTSTAMP:20260425T221953Z
UID:5f48c6f6-9dbc-45bd-931f-c152e79d6992
DTSTART;VALUE=DATE:20300512
DTEND;VALUE=DATE:20300513
DESCRIPTION:Observance\nTo hide observances\, go to Google Calendar Setting
 s > Holidays in United States
LOCATION:
SUMMARY:Mother's Day
END:VEVENT
BEGIN:VEVENT
DTSTAMP:20260425T221953Z
UID:117584ed-f5d1-4277-819f-a67840fe448f
DTSTART;VALUE=DATE:20300527
DTEND;VALUE=DATE:20300528
DESCRIPTION:Public holiday
LOCATION:
SUMMARY:Memorial Day
END:VEVENT
BEGIN:VEVENT
DTSTAMP:20260425T221953Z
UID:b908f76c-8db9-4a5c-b8f9-ccd0877c33cf
DTSTART;VALUE=DATE:20300614
DTEND;VALUE=DATE:20300615
DESCRIPTION:Observance\nTo hide observances\, go to Google Calendar Setting
 s > Holidays in United States
LOCATION:
SUMMARY:Flag Day
END:VEVENT
BEGIN:VEVENT
DTSTAMP:20260425T221953Z
UID:b44fc217-1c81-42a4-ab85-4b81b91bf534
DTSTART;VALUE=DATE:20300616
DTEND;VALUE=DATE:20300617
DESCRIPTION:Observance\nTo hide observances\, go to Google Calendar Setting
 s > Holidays in United States
LOCATION:
SUMMARY:Father’s Day
END:VEVENT
BEGIN:VEVENT
DTSTAMP:20260425T221953Z
UID:97f6603d-8b41-40b4-b361-afe0b63a1af4
DTSTART;VALUE=DATE:20300619
DTEND;VALUE=DATE:20300620
DESCRIPTION:Public holiday
LOCATION:
SUMMARY:Juneteenth
END:VEVENT
BEGIN:VEVENT
DTSTAMP:20260425T221953Z
UID:f781c279-4897-4d96-9fc8-eaf8cc30e9c2
DTSTART;VALUE=DATE:20300704
DTEND;VALUE=DATE:20300705
DESCRIPTION:Public holiday
LOCATION:
SUMMARY:Independence Day
END:VEVENT
BEGIN:VEVENT
DTSTAMP:20260425T221953Z
UID:dea9a9b5-50fb-4841-9d95-3187c3bc64e0
DTSTART;VALUE=DATE:20300902
DTEND;VALUE=DATE:20300903
DESCRIPTION:Public holiday
LOCATION:
SUMMARY:Labor Day
END:VEVENT
BEGIN:VEVENT
DTSTAMP:20260425T221953Z
UID:34e27800-a482-4af8-9fe0-91cc3fdbf00a
DTSTART;VALUE=DATE:20301014
DTEND;VALUE=DATE:20301015
DESCRIPTION:Public holiday
LOCATION:
SUMMARY:Columbus Day
END:VEVENT
BEGIN:VEVENT
DTSTAMP:20260425T221953Z
UID:1c937707-1f45-434a-9bd0-bfb380a070ed
DTSTART;VALUE=DATE:20301031
DTEND;VALUE=DATE:20301101
DESCRIPTION:Observance\nTo hide observances\, go to Google Calendar Setting
 s > Holidays in United States
LOCATION:
SUMMARY:Halloween
END:VEVENT
BEGIN:VEVENT
DTSTAMP:20260425T221953Z
UID:a6efe9fd-8c70-4641-94bf-e36ff2d91645
DTSTART;VALUE=DATE:20301103
DTEND;VALUE=DATE:20301104
DESCRIPTION:Observance\nTo hide observances\, go to Google Calendar Setting
 s > Holidays in United States
LOCATION:
SUMMARY:Daylight Saving Time ends
END:VEVENT
BEGIN:VEVENT
DTSTAMP:20260425T221953Z
UID:92087e5e-dff7-4059-9766-15b28086179f
DTSTART;VALUE=DATE:20301105
DTEND;VALUE=DATE:20301106
DESCRIPTION:Observance\nTo hide observances\, go to Google Calendar Setting
 s > Holidays in United States
LOCATION:
SUMMARY:Election Day
END:VEVENT
BEGIN:VEVENT
DTSTAMP:20260425T221953Z
UID:00acb8d4-a3a3-412a-afe9-4a957b0bf575
DTSTART;VALUE=DATE:20301111
DTEND;VALUE=DATE:20301112
DESCRIPTION:Public holiday
LOCATION:
SUMMARY:Veterans Day
END:VEVENT
BEGIN:VEVENT
DTSTAMP:20260425T221953Z
UID:3bc0dece-1656-4f63-aab2-d23ccb9ed180
DTSTART;VALUE=DATE:20301128
DTEND;VALUE=DATE:20301129
DESCRIPTION:Public holiday
LOCATION:
SUMMARY:Thanksgiving Day
END:VEVENT
BEGIN:VEVENT
DTSTAMP:20260425T221953Z
UID:4bd6fec6-3d2c-4b9e-a5da-f98422a489a9
DTSTART;VALUE=DATE:20301129
DTEND;VALUE=DATE:20301130
DESCRIPTION:Observance\nTo hide observances\, go to Google Calendar Setting
 s > Holidays in United States
LOCATION:
SUMMARY:Black Friday
END:VEVENT
BEGIN:VEVENT
DTSTAMP:20260425T221953Z
UID:ca3af5a1-a62b-41fb-8c95-50978294a916
DTSTART;VALUE=DATE:20301224
DTEND;VALUE=DATE:20301225
DESCRIPTION:Observance\nTo hide observances\, go to Google Calendar Setting
 s > Holidays in United States
LOCATION:
SUMMARY:Christmas Eve
END:VEVENT
BEGIN:VEVENT
DTSTAMP:20260425T221953Z
UID:48964afc-b861-476e-a2a5-25cd14f51240
DTSTART;VALUE=DATE:20301225
DTEND;VALUE=DATE:20301226
DESCRIPTION:Public holiday
LOCATION:
SUMMARY:Christmas Day
END:VEVENT
BEGIN:VEVENT
DTSTAMP:20260425T221953Z
UID:e39b37b1-af91-42a2-b0b5-46cfc99e09c4
DTSTART;VALUE=DATE:20301231
DTEND;VALUE=DATE:20310101
DESCRIPTION:Observance\nTo hide observances\, go to Google Calendar Setting
 s > Holidays in United States
LOCATION:
SUMMARY:New Year's Eve
END:VEVENT
END:VCALENDAR
