BEGIN:VCALENDAR
VERSION:2.0
PRODID:icalendar-ruby
CALSCALE:GREGORIAN
BEGIN:VTIMEZONE
TZID:America/New_York
BEGIN:DAYLIGHT
DTSTART:20260308T030000
TZOFFSETFROM:-0500
TZOFFSETTO:-0400
RRULE:FREQ=YEARLY;BYDAY=2SU;BYMONTH=3
TZNAME:EDT
END:DAYLIGHT
BEGIN:STANDARD
DTSTART:20261101T010000
TZOFFSETFROM:-0400
TZOFFSETTO:-0500
RRULE:FREQ=YEARLY;BYDAY=1SU;BYMONTH=11
TZNAME:EST
END:STANDARD
END:VTIMEZONE
BEGIN:VEVENT
DTSTAMP:20260425T222620Z
UID:b9d26161-1078-4fc3-934b-f3bb76675e8c
DTSTART:20260428T151500
DTEND:20260428T161500
DESCRIPTION:
LOCATION:Meadowlark Middle School\, 301 Meadowlark Dr\, Winston-Salem\, NC 
 27106\, USA
SUMMARY:Girl's Soccer @ Meadowlark 
END:VEVENT
BEGIN:VEVENT
DTSTAMP:20260425T222620Z
UID:26ba3740-a366-45e0-814d-f7abadacbb13
DTSTART:20260429T151500
DTEND:20260429T161500
DESCRIPTION:
LOCATION:Mount Tabor High School\, 342 Petree Rd\, Winston-Salem\, NC 27106
 \, USA
SUMMARY:Track & Field - Boys & Girls @ Mt. Tabor
END:VEVENT
BEGIN:VEVENT
DTSTAMP:20260425T222620Z
UID:9543c6ff-fc02-4eb8-be4b-e557ade3ceaa
DTSTART:20260430T151500
DTEND:20260430T161500
DESCRIPTION:
LOCATION:Jefferson Middle School\, 3500 Sally Kirk Rd\, Winston-Salem\, NC 
 27106\, USA
SUMMARY:Girl's Soccer @ Jefferson
END:VEVENT
BEGIN:VEVENT
DTSTAMP:20260425T222620Z
UID:4a4fd3b2-3709-4fd0-9b5b-db78b2c0b58f
DTSTART:20260430T151500
DTEND:20260430T161500
DESCRIPTION:
LOCATION:North Forsyth High School\, 5705 Shattalon Dr\, Winston-Salem\, NC
  27105\, USA
SUMMARY:Tennis - Girls & Boys @ North Forsyth vs. Clemmons
END:VEVENT
BEGIN:VEVENT
DTSTAMP:20260425T222620Z
UID:ac2f4bea-5bc5-4fed-805f-d9a8ca3616bf
DTSTART:20260430T180000
DTEND:20260430T190000
DESCRIPTION:
LOCATION:Lewisville Middle School\, 1115 Lewisville Vienna Rd\, Lewisville\
 , NC 27023\, USA
SUMMARY:Spring Band Concert
END:VEVENT
BEGIN:VEVENT
DTSTAMP:20260425T222620Z
UID:0f90f5b8-5070-408b-bfda-36cde9954195
DTSTART;VALUE=DATE:20260501
DTEND;VALUE=DATE:20260502
DESCRIPTION:
LOCATION:
SUMMARY:All State Band Clinic
END:VEVENT
BEGIN:VEVENT
DTSTAMP:20260425T222620Z
UID:c4d994ec-11ca-401b-9d2a-f1c0924d0f0f
DTSTART;VALUE=DATE:20260501
DTEND;VALUE=DATE:20260502
DESCRIPTION:
LOCATION:
SUMMARY:ROAR store during lunches - last one!
END:VEVENT
BEGIN:VEVENT
DTSTAMP:20260425T222620Z
UID:81514670-2c3c-4a04-a495-d246a2119f1b
DTSTART:20260502T100000
DTEND:20260502T140000
DESCRIPTION:See Ms. LeMay for more information
LOCATION:
SUMMARY:Environmental Club - Community Day Event with the Town of Lewisvill
 e
END:VEVENT
BEGIN:VEVENT
DTSTAMP:20260425T222620Z
UID:49afe2f2-8582-479d-a13a-0d405c6815ba
DTSTART;VALUE=DATE:20260504
DTEND;VALUE=DATE:20260505
DESCRIPTION:
LOCATION:
SUMMARY:Sherwood's PTSA Spirit Night
END:VEVENT
BEGIN:VEVENT
DTSTAMP:20260425T222620Z
UID:d8c3ab0a-3ac2-4e0c-bc21-1563ccdf70c1
DTSTART:20260505T190000
DTEND:20260505T200000
DESCRIPTION:
LOCATION:
SUMMARY:PTSA Board Meeting
END:VEVENT
BEGIN:VEVENT
DTSTAMP:20260425T222620Z
UID:5b48ab1b-dfd7-4f87-8d44-394812c5151e
DTSTART:20260506T140000
DTEND:20260506T150000
DESCRIPTION:For more information contact Ms. Hooke
LOCATION:
SUMMARY:Crochet Club
END:VEVENT
BEGIN:VEVENT
DTSTAMP:20260425T222620Z
UID:61e9966f-0958-4211-ad3d-9dbf327f8295
DTSTART:20260506T190000
DTEND:20260506T193000
DESCRIPTION:
LOCATION:Ronald Wilson Reagan High School\, 3750 Transou Rd\, Pfafftown\, N
 C 27040\, USA
SUMMARY:Spring Orchestra Concert
END:VEVENT
BEGIN:VEVENT
DTSTAMP:20260425T222620Z
UID:4d9389b7-7b1a-45f8-9a94-782235c879f9
DTSTART:20260507T140000
DTEND:20260507T150000
DESCRIPTION:
LOCATION:LMS - room B313 - Mrs. Buckingham
SUMMARY:Literary Club meeting
END:VEVENT
BEGIN:VEVENT
DTSTAMP:20260425T222620Z
UID:b4d6785e-ce1b-42cb-ac05-a1c51cd075e1
DTSTART:20260511T180000
DTEND:20260511T183000
DESCRIPTION:
LOCATION:Ronald Wilson Reagan High School\, 3750 Transou Rd\, Pfafftown\, N
 C 27040\, USA
SUMMARY:Spring Chorus Concert
END:VEVENT
BEGIN:VEVENT
DTSTAMP:20260425T222620Z
UID:026df99e-9d57-487e-b2b5-d9556ad02b52
DTSTART;VALUE=DATE:20260512
DTEND;VALUE=DATE:20260513
DESCRIPTION:
LOCATION:
SUMMARY:EOC Foreign Language 8
END:VEVENT
BEGIN:VEVENT
DTSTAMP:20260425T222620Z
UID:fcc699c4-9710-477c-b083-387de6e9c3f3
DTSTART;VALUE=DATE:20260513
DTEND;VALUE=DATE:20260514
DESCRIPTION:
LOCATION:
SUMMARY:EOG ELA - 7 & 8
END:VEVENT
BEGIN:VEVENT
DTSTAMP:20260425T222620Z
UID:95b22b2f-3101-478d-8736-92a021d7399f
DTSTART:20260513T140000
DTEND:20260513T151500
DESCRIPTION:End of year celebration\nSee Ms. LeMay for more information
LOCATION:
SUMMARY:Environmental Club Meeting
END:VEVENT
BEGIN:VEVENT
DTSTAMP:20260425T222620Z
UID:b87b996a-55db-4eda-a5c5-d021153ef4c3
DTSTART;VALUE=DATE:20260514
DTEND;VALUE=DATE:20260515
DESCRIPTION:
LOCATION:
SUMMARY:EOG Math 7 & 8
END:VEVENT
BEGIN:VEVENT
DTSTAMP:20260425T222620Z
UID:455b1952-27ff-4771-a81b-cee9086efcb3
DTSTART;VALUE=DATE:20260515
DTEND;VALUE=DATE:20260516
DESCRIPTION:
LOCATION:
SUMMARY:EOC Math 1 & EOG Math 6
END:VEVENT
BEGIN:VEVENT
DTSTAMP:20260425T222620Z
UID:56471b0f-5c0e-4bb0-a2c1-7d751cdade49
DTSTART;VALUE=DATE:20260518
DTEND;VALUE=DATE:20260519
DESCRIPTION:
LOCATION:
SUMMARY:EOG Science 8
END:VEVENT
BEGIN:VEVENT
DTSTAMP:20260425T222620Z
UID:fb3cfa04-99bc-46f3-b098-bf5eb512a7a5
DTSTART;VALUE=DATE:20260519
DTEND;VALUE=DATE:20260520
DESCRIPTION:More information coming soon\n*date subject to change if calend
 ar is impacted by weather
LOCATION:
SUMMARY:8th grade recognition ceremony
END:VEVENT
BEGIN:VEVENT
DTSTAMP:20260425T222620Z
UID:1918933a-75a0-47a1-8f73-ab2cb19efa63
DTSTART;VALUE=DATE:20260519
DTEND;VALUE=DATE:20260520
DESCRIPTION:
LOCATION:
SUMMARY:EOG ELA 6
END:VEVENT
BEGIN:VEVENT
DTSTAMP:20260425T222620Z
UID:0232a641-d97f-4cd4-99b7-2f94bfadbf7b
DTSTART;VALUE=DATE:20260520
DTEND;VALUE=DATE:20260521
DESCRIPTION:
LOCATION:
SUMMARY:7th grade picnic
END:VEVENT
BEGIN:VEVENT
DTSTAMP:20260425T222620Z
UID:bf8476d9-5e5e-4e7f-8a66-fef1061a6d72
DTSTART;VALUE=DATE:20260520
DTEND;VALUE=DATE:20260522
DESCRIPTION:
LOCATION:
SUMMARY:EOG Make-up
END:VEVENT
BEGIN:VEVENT
DTSTAMP:20260425T222620Z
UID:8107ce41-c683-40d8-8cf9-4bd570a2beae
DTSTART:20260520T150000
DTEND:20260520T160000
DESCRIPTION:
LOCATION:
SUMMARY:Athletic Banquet
END:VEVENT
BEGIN:VEVENT
DTSTAMP:20260425T222620Z
UID:e55faae7-dd2d-4782-9be4-5ce36a34ef50
DTSTART;VALUE=DATE:20260521
DTEND;VALUE=DATE:20260522
DESCRIPTION:
LOCATION:
SUMMARY:6th grade picnic
END:VEVENT
BEGIN:VEVENT
DTSTAMP:20260425T222620Z
UID:9105fe5d-19f7-46ea-a9dd-44acc7939d83
DTSTART;VALUE=DATE:20260522
DTEND;VALUE=DATE:20260523
DESCRIPTION:
LOCATION:
SUMMARY:EOG Retesting Dates
END:VEVENT
BEGIN:VEVENT
DTSTAMP:20260425T222620Z
UID:178eda93-c05e-4cd8-b094-7a81ca2d3c0b
DTSTART;VALUE=DATE:20260525
DTEND;VALUE=DATE:20260526
DESCRIPTION:
LOCATION:
SUMMARY:No school - Memorial Day
END:VEVENT
BEGIN:VEVENT
DTSTAMP:20260425T222620Z
UID:169563ed-bd1e-43dc-b750-39e5747f9885
DTSTART;VALUE=DATE:20260526
DTEND;VALUE=DATE:20260528
DESCRIPTION:
LOCATION:
SUMMARY:EOG Retesting Dates
END:VEVENT
BEGIN:VEVENT
DTSTAMP:20260425T222620Z
UID:133fdeec-8845-4a8d-bd93-5f5107866fe5
DTSTART;VALUE=DATE:20260527
DTEND;VALUE=DATE:20260528
DESCRIPTION:
LOCATION:
SUMMARY:Last day of school
END:VEVENT
END:VCALENDAR
