BEGIN:VCALENDAR
VERSION:2.0
PRODID:icalendar-ruby
CALSCALE:GREGORIAN
BEGIN:VTIMEZONE
TZID:America/New_York
BEGIN:DAYLIGHT
DTSTART:20260308T030000
TZOFFSETFROM:-0500
TZOFFSETTO:-0400
RRULE:FREQ=YEARLY;BYDAY=2SU;BYMONTH=3
TZNAME:EDT
END:DAYLIGHT
BEGIN:STANDARD
DTSTART:20261101T010000
TZOFFSETFROM:-0400
TZOFFSETTO:-0500
RRULE:FREQ=YEARLY;BYDAY=1SU;BYMONTH=11
TZNAME:EST
END:STANDARD
END:VTIMEZONE
BEGIN:VEVENT
DTSTAMP:20260425T222720Z
UID:d96e9881-59a5-419b-b44b-6cf40d0150a3
DTSTART:20260430T173000
DTEND:20260430T183000
DESCRIPTION:
LOCATION:
SUMMARY:Frog and Toad Musical
END:VEVENT
BEGIN:VEVENT
DTSTAMP:20260425T222720Z
UID:8bac5ea4-e1c5-424e-9918-340ebe48a4cc
DTSTART:20260506T163000
DTEND:20260506T173000
DESCRIPTION:
LOCATION:
SUMMARY:Basketball vs Parent - Staff at FRMS
END:VEVENT
BEGIN:VEVENT
DTSTAMP:20260425T222720Z
UID:b67deda4-691c-43fc-8709-93fbe3cf0025
DTSTART:20260507T080000
DTEND:20260507T143000
DESCRIPTION:
LOCATION:
SUMMARY:PreK-2nd grade Field Day
END:VEVENT
BEGIN:VEVENT
DTSTAMP:20260425T222720Z
UID:67708204-7bed-4737-aaaf-2173e0d4ec88
DTSTART:20260508T080000
DTEND:20260508T143000
DESCRIPTION:
LOCATION:
SUMMARY:3rd-5th grade Field Day
END:VEVENT
BEGIN:VEVENT
DTSTAMP:20260425T222720Z
UID:e4f1e041-2f61-4448-ad46-3ed23f63dd17
DTSTART:20260514T173000
DTEND:20260514T193000
DESCRIPTION:
LOCATION:
SUMMARY:Multi-Cultural Night 
END:VEVENT
BEGIN:VEVENT
DTSTAMP:20260425T222720Z
UID:0879dd29-abb6-4a13-85c5-73583d2dd5bd
DTSTART:20260515T173000
DTEND:20260515T193000
DESCRIPTION:<p> Sneaker Ball vibes only! Kicks all night.. Join us for the 
 Sneaker Ball—a night of music\, dancing\, and unforgettable style.</p>
LOCATION:
SUMMARY:Sneaker Ball Dance
END:VEVENT
END:VCALENDAR
