BEGIN:VCALENDAR
VERSION:2.0
PRODID:icalendar-ruby
CALSCALE:GREGORIAN
BEGIN:VTIMEZONE
TZID:America/New_York
BEGIN:DAYLIGHT
DTSTART:20260308T030000
TZOFFSETFROM:-0500
TZOFFSETTO:-0400
RRULE:FREQ=YEARLY;BYDAY=2SU;BYMONTH=3
TZNAME:EDT
END:DAYLIGHT
BEGIN:STANDARD
DTSTART:20261101T010000
TZOFFSETFROM:-0400
TZOFFSETTO:-0500
RRULE:FREQ=YEARLY;BYDAY=1SU;BYMONTH=11
TZNAME:EST
END:STANDARD
END:VTIMEZONE
BEGIN:VEVENT
DTSTAMP:20260425T172119Z
UID:b8c0ffbb-a95b-4191-91c0-9da696b0b39c
DTSTART:20260425T080000
DTEND:20260425T120000
DESCRIPTION:A great chance for students this Saturday! If you need extra he
 lp or have assignments to complete\, please check in with your teacher abo
 ut joining Saturday Academy. Click <a href="https://u345601.ct.sendgrid.ne
 t/ls/click?upn=u001.1vgusgFlXDIstRlEntBWD9lBRGHCt-2FZoDuHP5poxhWc9XV-2B6py
 fCt0p-2FN29-2FD-2FaXLZHYyIlM5IVR66RFuhOGuV5Szz7dqyrd8Gdcw9mc1rxQUI8qEEAt64
 IUfvLRo3zWj8HDiwMPWO93aGM2-2FWUe3O7O1Xr9PcWoTs0Azb0GpM-2FpHdk-2FrRdivfnufU
 jaEJY-2BBb7P_NnSS992jriXFFoHwhTyZO83eYS9DGUuSmPenxw4mNXTrLujS-2FmmhNwSdojH
 cU-2BJxPxG1kE08vo-2F4RijZtBM2Eus12GCPfKhkahdrzvQdGx8cyBGJxS0pHlzzS2KRtzlSc
 -2F5mJonGjrxIqE0uZkOATcqqAWjJOJ3l8kAcWzoeoHYNYj3ftX4UMt-2BcvwgazrYf8UnniEO
 4-2BaK2QRFoEpoFEXozZqsmQvIz4DkspnSYxCUfm2H6UsqMyULz-2BRcjBlly4OYYw9mzQPTD1
 4Nb2VSerxYAdBz5yvhYAppb9FC9fnM-3D">here</a> for the dates.
LOCATION:
SUMMARY:Saturday Academy
END:VEVENT
BEGIN:VEVENT
DTSTAMP:20260425T172119Z
UID:c9187af6-79a8-4650-8ddf-cfe1c4cd4077
DTSTART:20260425T200000
DTEND:20260426T000000
DESCRIPTION:
LOCATION:Albert H. Anderson Jr. Conference Center\, 1545 Reynolds Park Rd\,
  Winston-Salem\, NC 27110\, USA
SUMMARY:Glenn Prom
END:VEVENT
BEGIN:VEVENT
DTSTAMP:20260425T172119Z
UID:97adc4af-cf86-44cd-827c-b2abf564f520
DTSTART:20260427T130000
DTEND:20260427T130000
DESCRIPTION:Type: Championship  Opponent: Atkins  
LOCATION:Winding Creek Golf Course  
SUMMARY:Golf: Boys Varsity  vs. Atkins (Home)
END:VEVENT
BEGIN:VEVENT
DTSTAMP:20260425T172119Z
UID:9431746c-b536-42e2-ba56-7d91400ca6d6
DTSTART:20260427T180000
DTEND:20260427T180000
DESCRIPTION:Type: Game  Opponent: North Davidson  
LOCATION:GHS Stadium  
SUMMARY:Soccer: Girls Varsity  vs. North Davidson (Home)
END:VEVENT
BEGIN:VEVENT
DTSTAMP:20260425T172119Z
UID:b16d2f02-fea2-4f88-bdbf-08824786ad79
DTSTART:20260427T180000
DTEND:20260427T180000
DESCRIPTION:Type: Tournament Game  Opponent: North Forsyth  
LOCATION:GHS Softball Field  
SUMMARY:Softball: Varsity  vs. North Forsyth (Home)
END:VEVENT
BEGIN:VEVENT
DTSTAMP:20260425T172119Z
UID:c9cb9837-e44a-48ec-99cd-3e25cb2f0353
DTSTART:20260427T190000
DTEND:20260427T190000
DESCRIPTION:Type: Tournament Game  Opponent: Atkins  Comments: PTC 5A/6A Co
 nference Tournament - 1st rd at higher seed
LOCATION:AHS Baseball Field  
SUMMARY:Baseball: Varsity  vs. Atkins (Away)
END:VEVENT
BEGIN:VEVENT
DTSTAMP:20260425T172119Z
UID:3b42fff1-6047-4dd4-8826-dfaef42064bc
DTSTART:20260428T163000
DTEND:20260428T163000
DESCRIPTION:Type: Tournament Game  Opponent:  TBA">Multiple Schools  Commen
 ts: PTC 5A/6A Conference Tournament - Semifinal # 1 (Glenn Host)
LOCATION:GHS Baseball Field  
SUMMARY:Baseball: Varsity  vs.  TBA">Multiple Schools (Away)
END:VEVENT
BEGIN:VEVENT
DTSTAMP:20260425T172119Z
UID:8d4b1300-d884-476b-a74e-e5a5a29d28b8
DTSTART:20260428T170000
DTEND:20260428T170000
DESCRIPTION:Type: Tournament Game  Opponent:  TBA">Multiple Schools  Commen
 ts: PTC 5A/6A Tournament Semi-Final #1 - Glenn Host
LOCATION:GHS Softball Field  
SUMMARY:Softball: Varsity  vs.  TBA">Multiple Schools (Away)
END:VEVENT
BEGIN:VEVENT
DTSTAMP:20260425T172119Z
UID:3d38b2fd-f362-4bd6-8889-5afe005ae09d
DTSTART:20260428T190000
DTEND:20260428T190000
DESCRIPTION:Type: Tournament Game  Opponent:  TBA">Multiple Schools  Commen
 ts: PTC 5A/6A Tournament - Semi-Final #2 - Glenn Host
LOCATION:GHS Softball Field  
SUMMARY:Softball: Varsity  vs.  TBA">Multiple Schools (Away)
END:VEVENT
BEGIN:VEVENT
DTSTAMP:20260425T172119Z
UID:b20426e7-04fe-434e-9ef1-028e7f9cf563
DTSTART:20260428T193000
DTEND:20260428T193000
DESCRIPTION:Type: Tournament Game  Opponent:  TBA">Multiple Schools  Commen
 ts: PTC 5A/6A Conference Tournament - Semifinal # 2 (Glenn Host)
LOCATION:GHS Baseball Field  
SUMMARY:Baseball: Varsity  vs.  TBA">Multiple Schools (Away)
END:VEVENT
BEGIN:VEVENT
DTSTAMP:20260425T172119Z
UID:2e526117-dafc-45d4-aace-dad67a484a7d
DTSTART:20260429T180000
DTEND:20260429T180000
DESCRIPTION:Type: Game  Opponent: North Forsyth  
LOCATION:NFHS Stadium  
SUMMARY:Soccer: Girls Varsity  vs. North Forsyth (Away)
END:VEVENT
BEGIN:VEVENT
DTSTAMP:20260425T172119Z
UID:b52184b2-0306-4433-8212-50910392ee3f
DTSTART:20260430T190000
DTEND:20260430T190000
DESCRIPTION:Type: Tournament Game  Opponent:  TBA">Multiple Schools  Commen
 ts: PTC 5A/6A Conference Tournament - Championship (Glenn Host)
LOCATION:GHS Baseball Field  
SUMMARY:Baseball: Varsity  vs.  TBA">Multiple Schools (Away)
END:VEVENT
BEGIN:VEVENT
DTSTAMP:20260425T172119Z
UID:a4bb888f-e4ed-44b7-b429-2e3ea12a75d3
DTSTART:20260430T190000
DTEND:20260430T190000
DESCRIPTION:Type: Tournament Game  Opponent:  TBA">Multiple Schools  Commen
 ts: PTC 5A/6A Tournament - Championship Game - Glenn Host
LOCATION:GHS Softball Field  
SUMMARY:Softball: Varsity  vs.  TBA">Multiple Schools (Away)
END:VEVENT
BEGIN:VEVENT
DTSTAMP:20260425T172119Z
UID:5f5262ed-6068-4aa8-9641-5d5f8a93f993
DTSTART:20260501T170000
DTEND:20260501T170000
DESCRIPTION:Type: Game  Opponent: Southwest Guilford  
LOCATION:GHS Stadium  
SUMMARY:Soccer: Girls Varsity  vs. Southwest Guilford (Home)
END:VEVENT
BEGIN:VEVENT
DTSTAMP:20260425T172119Z
UID:93c993da-6a50-4f4e-9882-008d71a90f5c
DTSTART:20260501T190000
DTEND:20260501T190000
DESCRIPTION:Type: Game  Opponent: North Davidson  
LOCATION:GHS Stadium  
SUMMARY:Lacrosse: Girls Varsity  vs. North Davidson (Home)
END:VEVENT
BEGIN:VEVENT
DTSTAMP:20260425T172119Z
UID:e205c24a-6437-45cf-aaa0-7d995f4dc96c
DTSTART:20260502T080000
DTEND:20260502T120000
DESCRIPTION:A great chance for students this Saturday! If you need extra he
 lp or have assignments to complete\, please check in with your teacher abo
 ut joining Saturday Academy. Click <a href="https://u345601.ct.sendgrid.ne
 t/ls/click?upn=u001.1vgusgFlXDIstRlEntBWD9lBRGHCt-2FZoDuHP5poxhWc9XV-2B6py
 fCt0p-2FN29-2FD-2FaXLZHYyIlM5IVR66RFuhOGuV5Szz7dqyrd8Gdcw9mc1rxQUI8qEEAt64
 IUfvLRo3zWj8HDiwMPWO93aGM2-2FWUe3O7O1Xr9PcWoTs0Azb0GpM-2FpHdk-2FrRdivfnufU
 jaEJY-2BBb7P_NnSS992jriXFFoHwhTyZO83eYS9DGUuSmPenxw4mNXTrLujS-2FmmhNwSdojH
 cU-2BJxPxG1kE08vo-2F4RijZtBM2Eus12GCPfKhkahdrzvQdGx8cyBGJxS0pHlzzS2KRtzlSc
 -2F5mJonGjrxIqE0uZkOATcqqAWjJOJ3l8kAcWzoeoHYNYj3ftX4UMt-2BcvwgazrYf8UnniEO
 4-2BaK2QRFoEpoFEXozZqsmQvIz4DkspnSYxCUfm2H6UsqMyULz-2BRcjBlly4OYYw9mzQPTD1
 4Nb2VSerxYAdBz5yvhYAppb9FC9fnM-3D">here</a> for the dates.
LOCATION:
SUMMARY:Saturday Academy
END:VEVENT
BEGIN:VEVENT
DTSTAMP:20260425T172119Z
UID:1fd076bf-81d5-45b8-a902-2cf597d2ec11
DTSTART:20260504T080000
DTEND:20260504T120000
DESCRIPTION:
LOCATION:
SUMMARY:AP Biology Exam
END:VEVENT
BEGIN:VEVENT
DTSTAMP:20260425T172119Z
UID:a309c0c4-413b-4022-80c5-221189a7b7f5
DTSTART:20260504T180000
DTEND:20260504T180000
DESCRIPTION:Type: Game  Opponent: Oak Grove  
LOCATION:GHS Stadium  
SUMMARY:Soccer: Girls Varsity  vs. Oak Grove (Home)
END:VEVENT
BEGIN:VEVENT
DTSTAMP:20260425T172119Z
UID:893f5d09-6177-4798-a97b-eb033a6015d9
DTSTART:20260505T080000
DTEND:20260505T120000
DESCRIPTION:
LOCATION:
SUMMARY:AP Chemistry Exam
END:VEVENT
BEGIN:VEVENT
DTSTAMP:20260425T172119Z
UID:6f36142c-faa5-4eb4-9739-19b5e2d6c7d1
DTSTART:20260505T180000
DTEND:20260505T180000
DESCRIPTION:Type: Game  Opponent: Atkins  
LOCATION:GHS Stadium  
SUMMARY:Lacrosse: Girls Varsity  vs. Atkins (Home)
END:VEVENT
BEGIN:VEVENT
DTSTAMP:20260425T172119Z
UID:ecd96931-445e-4881-a3aa-ea8f7c8098f8
DTSTART:20260506T080000
DTEND:20260506T120000
DESCRIPTION:
LOCATION:
SUMMARY:AP ENG Lit and Comp Exams
END:VEVENT
BEGIN:VEVENT
DTSTAMP:20260425T172119Z
UID:77c9a08a-e4e1-44df-b044-ad9bd811ebda
DTSTART:20260506T180000
DTEND:20260506T180000
DESCRIPTION:Type: Game  Opponent: Mount Tabor  
LOCATION:GHS Stadium  
SUMMARY:Soccer: Girls Varsity  vs. Mount Tabor (Home)
END:VEVENT
BEGIN:VEVENT
DTSTAMP:20260425T172119Z
UID:53955624-64af-4c41-bee3-b0af425d5fb6
DTSTART:20260507T080000
DTEND:20260507T120000
DESCRIPTION:
LOCATION:
SUMMARY:AP World History Exam
END:VEVENT
BEGIN:VEVENT
DTSTAMP:20260425T172119Z
UID:e9a8f55a-eff0-40b7-b4db-5740a560e8dd
DTSTART:20260507T120000
DTEND:20260507T160000
DESCRIPTION:
LOCATION:
SUMMARY:AP Statistics Exam
END:VEVENT
BEGIN:VEVENT
DTSTAMP:20260425T172119Z
UID:ea256b7c-6893-4243-82f6-9652a56e84e5
DTSTART:20260508T080000
DTEND:20260508T120000
DESCRIPTION:
LOCATION:
SUMMARY:AP Unites States History Exam
END:VEVENT
BEGIN:VEVENT
DTSTAMP:20260425T172119Z
UID:b0034ec8-0dc9-489d-a7d7-9bdcfc00258f
DTSTART:20260511T080000
DTEND:20260511T120000
DESCRIPTION:
LOCATION:
SUMMARY:AP Calculus Exam
END:VEVENT
BEGIN:VEVENT
DTSTAMP:20260425T172119Z
UID:3cab6daa-d995-4ad4-8de3-d58346b9df49
DTSTART:20260512T080000
DTEND:20260512T120000
DESCRIPTION:
LOCATION:
SUMMARY:AP Precalculus Exam
END:VEVENT
BEGIN:VEVENT
DTSTAMP:20260425T172119Z
UID:5718d25d-318c-4a51-a5f0-87f35f321902
DTSTART:20260512T120000
DTEND:20260512T160000
DESCRIPTION:
LOCATION:
SUMMARY:Ap Psychology Exam
END:VEVENT
BEGIN:VEVENT
DTSTAMP:20260425T172119Z
UID:32904700-0ed0-4afc-9b96-cd56b85ce3ba
DTSTART:20260513T080000
DTEND:20260513T120000
DESCRIPTION:
LOCATION:
SUMMARY:AP English Language Exam
END:VEVENT
BEGIN:VEVENT
DTSTAMP:20260425T172119Z
UID:57ace306-ed32-42f6-87e5-261c16e08bb8
DTSTART:20260514T120000
DTEND:20260514T160000
DESCRIPTION:
LOCATION:
SUMMARY:AP Computer Science Exam
END:VEVENT
BEGIN:VEVENT
DTSTAMP:20260425T172119Z
UID:af349be4-6184-4656-9f46-9515117de1f8
DTSTART:20260515T080000
DTEND:20260515T120000
DESCRIPTION:
LOCATION:
SUMMARY:AP Earth & Environmental Exam
END:VEVENT
END:VCALENDAR
