BEGIN:VCALENDAR
VERSION:2.0
PRODID:icalendar-ruby
CALSCALE:GREGORIAN
BEGIN:VTIMEZONE
TZID:America/New_York
BEGIN:DAYLIGHT
DTSTART:20260308T030000
TZOFFSETFROM:-0500
TZOFFSETTO:-0400
RRULE:FREQ=YEARLY;BYDAY=2SU;BYMONTH=3
TZNAME:EDT
END:DAYLIGHT
BEGIN:STANDARD
DTSTART:20261101T010000
TZOFFSETFROM:-0400
TZOFFSETTO:-0500
RRULE:FREQ=YEARLY;BYDAY=1SU;BYMONTH=11
TZNAME:EST
END:STANDARD
END:VTIMEZONE
BEGIN:VEVENT
DTSTAMP:20260425T222246Z
UID:c54be444-dec8-46c5-a6e0-b4b89a36c86a
DTSTART:20260428T151500
DTEND:20260428T164500
DESCRIPTION:
LOCATION:
SUMMARY:Girl's Soccer @ Konnoak  Middle
END:VEVENT
BEGIN:VEVENT
DTSTAMP:20260425T222246Z
UID:cf9ee0e0-1cb2-4b50-96d1-2f8b28826560
DTSTART:20260429T151500
DTEND:20260429T161500
DESCRIPTION:
LOCATION:
SUMMARY:Track @ Mt. Tabor 
END:VEVENT
BEGIN:VEVENT
DTSTAMP:20260425T222246Z
UID:cf8627e8-9d71-4712-bb22-a8ee26490f57
DTSTART:20260430T151500
DTEND:20260430T161500
DESCRIPTION:
LOCATION:
SUMMARY:Girl's Soccer @Paisley Middle
END:VEVENT
BEGIN:VEVENT
DTSTAMP:20260425T222246Z
UID:0a0f4e1d-6a10-4e0e-b889-3b2a5f39a70c
DTSTART:20260430T180000
DTEND:20260430T183000
DESCRIPTION:
LOCATION:
SUMMARY:FRMS Band/Orchestra 
END:VEVENT
BEGIN:VEVENT
DTSTAMP:20260425T222246Z
UID:d1e93a2b-8d79-4525-aa8a-dbddd366ad1c
DTSTART:20260501T170000
DTEND:20260501T190000
DESCRIPTION:<p>A magical night for 8th Graders only </p><p>Dress to  impres
 s and don't forget your mask!</p><p></p>
LOCATION:
SUMMARY:8th Grade Masquerade Ball
END:VEVENT
BEGIN:VEVENT
DTSTAMP:20260425T222246Z
UID:3fa8ffea-a4b3-4810-88ca-4588607599c4
DTSTART:20260505T163000
DTEND:20260505T173000
DESCRIPTION:
LOCATION:
SUMMARY:Track Championship @ Mt. Tabor 
END:VEVENT
BEGIN:VEVENT
DTSTAMP:20260425T222246Z
UID:d424919b-4abe-41e0-a9a4-f6868e7f4fa6
DTSTART:20260505T180000
DTEND:20260505T183000
DESCRIPTION:
LOCATION:
SUMMARY:FRMS Chorus Concert
END:VEVENT
BEGIN:VEVENT
DTSTAMP:20260425T222246Z
UID:58f33f39-864e-401d-a7cd-0dbbf3786832
DTSTART:20260507T174500
DTEND:20260507T183000
DESCRIPTION:
LOCATION:
SUMMARY:FRMS Athletic Awards
END:VEVENT
END:VCALENDAR
