BEGIN:VCALENDAR
VERSION:2.0
PRODID:icalendar-ruby
CALSCALE:GREGORIAN
BEGIN:VTIMEZONE
TZID:America/New_York
BEGIN:DAYLIGHT
DTSTART:20260308T030000
TZOFFSETFROM:-0500
TZOFFSETTO:-0400
RRULE:FREQ=YEARLY;BYDAY=2SU;BYMONTH=3
TZNAME:EDT
END:DAYLIGHT
BEGIN:STANDARD
DTSTART:20261101T010000
TZOFFSETFROM:-0400
TZOFFSETTO:-0500
RRULE:FREQ=YEARLY;BYDAY=1SU;BYMONTH=11
TZNAME:EST
END:STANDARD
END:VTIMEZONE
BEGIN:VEVENT
DTSTAMP:20260425T140702Z
UID:20a1d336-be56-41b4-85eb-b89240f2a8ad
DTSTART;VALUE=DATE:20260508
DTEND;VALUE=DATE:20260509
DESCRIPTION:
LOCATION:
SUMMARY:Forsyth Tech CC - End of Spring Semester\, B Term
END:VEVENT
BEGIN:VEVENT
DTSTAMP:20260425T140702Z
UID:9fe900d7-7717-44bb-b232-cc589ef0f89c
DTSTART;VALUE=DATE:20260513
DTEND;VALUE=DATE:20260514
DESCRIPTION:
LOCATION:
SUMMARY:Forsyth Tech CC - Commencement
END:VEVENT
BEGIN:VEVENT
DTSTAMP:20260425T140702Z
UID:c89551bf-ddc7-4e8e-8468-ad6c3b264961
DTSTART;VALUE=DATE:20260518
DTEND;VALUE=DATE:20260519
DESCRIPTION:
LOCATION:
SUMMARY:Forsyth Tech CC - First Day of Summer Term
END:VEVENT
BEGIN:VEVENT
DTSTAMP:20260425T140702Z
UID:3615db2e-69c5-47f2-aa91-cd91e7771959
DTSTART;VALUE=DATE:20260522
DTEND;VALUE=DATE:20260523
DESCRIPTION:
LOCATION:
SUMMARY:End of 4th Quarter/2nd Semester
END:VEVENT
BEGIN:VEVENT
DTSTAMP:20260425T140702Z
UID:81e35f64-58a9-42bf-b7d8-9258ef726810
DTSTART;VALUE=DATE:20260525
DTEND;VALUE=DATE:20260526
DESCRIPTION:
LOCATION:
SUMMARY:Memorial Day Holiday
END:VEVENT
BEGIN:VEVENT
DTSTAMP:20260425T140702Z
UID:ecde60ed-86dc-437d-9059-3b9a1b58d7be
DTSTART;VALUE=DATE:20260619
DTEND;VALUE=DATE:20260620
DESCRIPTION:
LOCATION:
SUMMARY:Juneteenth Holiday
END:VEVENT
END:VCALENDAR
