BEGIN:VCALENDAR
VERSION:2.0
PRODID:icalendar-ruby
CALSCALE:GREGORIAN
BEGIN:VTIMEZONE
TZID:America/New_York
BEGIN:DAYLIGHT
DTSTART:20260308T030000
TZOFFSETFROM:-0500
TZOFFSETTO:-0400
RRULE:FREQ=YEARLY;BYDAY=2SU;BYMONTH=3
TZNAME:EDT
END:DAYLIGHT
BEGIN:STANDARD
DTSTART:20261101T010000
TZOFFSETFROM:-0400
TZOFFSETTO:-0500
RRULE:FREQ=YEARLY;BYDAY=1SU;BYMONTH=11
TZNAME:EST
END:STANDARD
END:VTIMEZONE
BEGIN:VEVENT
DTSTAMP:20260425T141216Z
UID:dd7427ac-fe99-4e6d-8acd-47c68de9bfa0
DTSTART:20260429T080000
DTEND:20260429T150000
DESCRIPTION:
LOCATION:
SUMMARY:4th Grade field trip/ NC Zoo
END:VEVENT
BEGIN:VEVENT
DTSTAMP:20260425T141216Z
UID:888008e4-6d6d-49fa-adb0-88711efff5de
DTSTART:20260430T100000
DTEND:20260430T104500
DESCRIPTION:
LOCATION:
SUMMARY:High School Graduation Walk
END:VEVENT
BEGIN:VEVENT
DTSTAMP:20260425T141216Z
UID:4aae859a-470d-480d-846b-30fe664acb23
DTSTART:20260501T080000
DTEND:20260501T090000
DESCRIPTION:
LOCATION:
SUMMARY:1st Grade Field Trip / Kaleideum
END:VEVENT
BEGIN:VEVENT
DTSTAMP:20260425T141216Z
UID:f017db96-0661-4083-aefc-227f40c45116
DTSTART:20260504T080000
DTEND:20260508T090000
DESCRIPTION:
LOCATION:
SUMMARY:TEACHER APPRECIATION WEEK
END:VEVENT
BEGIN:VEVENT
DTSTAMP:20260425T141216Z
UID:d1fa8243-a769-431d-b6fb-0ca27775107b
DTSTART:20260505T170000
DTEND:20260505T180000
DESCRIPTION:
LOCATION:
SUMMARY:2nd & 3rd Grade Concert
END:VEVENT
BEGIN:VEVENT
DTSTAMP:20260425T141216Z
UID:42e7b055-44f1-4f0d-81a7-af62f2886c23
DTSTART:20260506T080000
DTEND:20260506T090000
DESCRIPTION:
LOCATION:
SUMMARY:2nd & 3rd Grade Concert
END:VEVENT
BEGIN:VEVENT
DTSTAMP:20260425T141216Z
UID:a04d9901-5a1f-4344-b9d1-f40b0018fdac
DTSTART:20260511T080000
DTEND:20260511T090000
DESCRIPTION:<p>Grades 3-5</p>
LOCATION:
SUMMARY:Living Rhythms
END:VEVENT
BEGIN:VEVENT
DTSTAMP:20260425T141216Z
UID:847d27cf-ae0a-4176-a066-545dd82f85f0
DTSTART:20260512T080000
DTEND:20260512T090000
DESCRIPTION:<p>Grades: K-2</p>
LOCATION:
SUMMARY:Living Rhythms 
END:VEVENT
BEGIN:VEVENT
DTSTAMP:20260425T141216Z
UID:f8e34ca7-eef5-4d29-9863-fffba84aac7c
DTSTART:20260522T080000
DTEND:20260522T170000
DESCRIPTION:Last Day of School: End of 4th Quarter\, 2nd Semester
LOCATION:Winston-Salem/Forsyth County Schools\, NC
SUMMARY:Last Day of School: End of 4th Quarter\, 2nd Semester
END:VEVENT
BEGIN:VEVENT
DTSTAMP:20260425T141216Z
UID:bce8e5e6-9377-42ac-abf1-2dc6c768ad31
DTSTART:20260525T080000
DTEND:20260525T170000
DESCRIPTION:Memorial Day Observed: (H)oliday for All Staff)
LOCATION:Winston-Salem/Forsyth County Schools\, NC
SUMMARY:Memorial Day Observed: (H)oliday for All Staff)
END:VEVENT
BEGIN:VEVENT
DTSTAMP:20260425T141216Z
UID:3c8e19ed-c5a7-4293-8f6b-4e540c2f8884
DTSTART:20260526T080000
DTEND:20260526T090000
DESCRIPTION:
LOCATION:
SUMMARY:Field Day & Blow-up Race
END:VEVENT
BEGIN:VEVENT
DTSTAMP:20260425T141216Z
UID:e5f316e7-85c1-48f5-9e7e-142283047f84
DTSTART:20260526T080000
DTEND:20260526T144500
DESCRIPTION:
LOCATION:
SUMMARY:Last Day of School -Students
END:VEVENT
BEGIN:VEVENT
DTSTAMP:20260425T141216Z
UID:9848ac95-88a0-4196-a5ec-691096a34ef0
DTSTART:20260526T080000
DTEND:20260526T170000
DESCRIPTION:RS: Reserve for Schools Day
LOCATION:Winston-Salem/Forsyth County Schools\, NC
SUMMARY:RS: Reserve for Schools Day
END:VEVENT
BEGIN:VEVENT
DTSTAMP:20260425T141216Z
UID:abb96149-c17a-4ab0-8c68-464adebbdf10
DTSTART:20260527T080000
DTEND:20260527T170000
DESCRIPTION:RS: Reserve for Schools Day
LOCATION:Winston-Salem/Forsyth County Schools\, NC
SUMMARY:RS: Reserve for Schools Day
END:VEVENT
BEGIN:VEVENT
DTSTAMP:20260425T141216Z
UID:95c88713-aabe-4c63-91cf-96418aeb1d48
DTSTART:20260528T080000
DTEND:20260528T170000
DESCRIPTION:RS: Reserve for Schools Day
LOCATION:Winston-Salem/Forsyth County Schools\, NC
SUMMARY:RS: Reserve for Schools Day
END:VEVENT
BEGIN:VEVENT
DTSTAMP:20260425T141216Z
UID:5aebf2c3-9d19-4e04-8c7d-9616252aae02
DTSTART:20260528T083000
DTEND:20260528T120000
DESCRIPTION:<p><strong>K-2: </strong>8:40-10:10</p><p><strong>3-5: </strong
 >10:20-12:05</p>
LOCATION:
SUMMARY:Field Day
END:VEVENT
BEGIN:VEVENT
DTSTAMP:20260425T141216Z
UID:54d17851-ea88-4c51-8f40-c4e2b292d79a
DTSTART:20260529T080000
DTEND:20260529T170000
DESCRIPTION:RT: Reserve for Teachers Day
LOCATION:Winston-Salem/Forsyth County Schools\, NC
SUMMARY:RT: Reserve for Teachers Day
END:VEVENT
BEGIN:VEVENT
DTSTAMP:20260425T141216Z
UID:681132f7-57e4-4efa-9be1-68d3ca1126ee
DTSTART:20260704T080000
DTEND:20260704T170000
DESCRIPTION:Independence Day Observed (H)oliday for Staff
LOCATION:Winston-Salem/Forsyth County Schools\, NC
SUMMARY:Independence Day Observed (H)oliday
END:VEVENT
END:VCALENDAR
