BEGIN:VCALENDAR
VERSION:2.0
PRODID:icalendar-ruby
CALSCALE:GREGORIAN
BEGIN:VTIMEZONE
TZID:America/New_York
BEGIN:DAYLIGHT
DTSTART:20260308T030000
TZOFFSETFROM:-0500
TZOFFSETTO:-0400
RRULE:FREQ=YEARLY;BYDAY=2SU;BYMONTH=3
TZNAME:EDT
END:DAYLIGHT
BEGIN:STANDARD
DTSTART:20261101T010000
TZOFFSETFROM:-0400
TZOFFSETTO:-0500
RRULE:FREQ=YEARLY;BYDAY=1SU;BYMONTH=11
TZNAME:EST
END:STANDARD
END:VTIMEZONE
BEGIN:VEVENT
DTSTAMP:20260425T183708Z
UID:6dcafd2b-6750-41d3-8bc4-bc749eadc73d
DTSTART:20260502T100000
DTEND:20260502T120000
DESCRIPTION:<p>Behind the School or in the GYM/Cafe</p>
LOCATION:
SUMMARY:PTO Spring Color Fest
END:VEVENT
BEGIN:VEVENT
DTSTAMP:20260425T183708Z
UID:1a0bed98-1874-4d48-906d-1cc592d96f79
DTSTART:20260504T091500
DTEND:20260504T113000
DESCRIPTION:
LOCATION:
SUMMARY:NJSLA Writing 
END:VEVENT
BEGIN:VEVENT
DTSTAMP:20260425T183708Z
UID:3702a9ce-d575-401c-83e6-af07eb9631c0
DTSTART:20260505T091500
DTEND:20260505T113000
DESCRIPTION:
LOCATION:
SUMMARY:NJSLA ELA/Reading
END:VEVENT
BEGIN:VEVENT
DTSTAMP:20260425T183708Z
UID:055c18eb-46cf-4b43-8d2b-8dda432c3d55
DTSTART:20260506T091500
DTEND:20260506T113000
DESCRIPTION:
LOCATION:
SUMMARY:NJSLA Make Up Day
END:VEVENT
BEGIN:VEVENT
DTSTAMP:20260425T183708Z
UID:25235dda-3e16-4590-a245-471f6b6bd922
DTSTART:20260507T091500
DTEND:20260507T160000
DESCRIPTION:<p> <span>Returning after the regular dismissal you must pick u
 p by car.</span></p>
LOCATION:
SUMMARY:Adventure Aquarium Second Grade Trip
END:VEVENT
BEGIN:VEVENT
DTSTAMP:20260425T183708Z
UID:f568977c-6d9f-405b-9088-26e07e39eb5e
DTSTART:20260507T091500
DTEND:20260507T113000
DESCRIPTION:
LOCATION:
SUMMARY:NJSLA Math 
END:VEVENT
BEGIN:VEVENT
DTSTAMP:20260425T183708Z
UID:cfe3ba87-1242-43b7-9a5d-6f9e802efe1b
DTSTART:20260508T091500
DTEND:20260508T113000
DESCRIPTION:
LOCATION:
SUMMARY:NJSLA  Make up
END:VEVENT
BEGIN:VEVENT
DTSTAMP:20260425T183708Z
UID:274f1dcc-c1e3-4ed7-a6c9-ad89d32124d0
DTSTART:20260511T091500
DTEND:20260511T113000
DESCRIPTION:
LOCATION:
SUMMARY:NJSLA Science  Day 1 Grade 5
END:VEVENT
BEGIN:VEVENT
DTSTAMP:20260425T183708Z
UID:9560c7bb-1883-41a6-b846-e18993151a54
DTSTART:20260512T080000
DTEND:20260512T090000
DESCRIPTION:
LOCATION:
SUMMARY:NJSLA Science Day 2 Grade 5 
END:VEVENT
BEGIN:VEVENT
DTSTAMP:20260425T183708Z
UID:11b48d34-ae29-49d5-bf04-474d706fa1c4
DTSTART;VALUE=DATE:20260515
DTEND;VALUE=DATE:20260516
DESCRIPTION:<p><span>Friday\, May 29\, Field Day Rain Date</span></p>
LOCATION:
SUMMARY:WBK Field Day
END:VEVENT
BEGIN:VEVENT
DTSTAMP:20260425T183708Z
UID:c62a5ffc-8dcd-42df-95e7-7e3e93c9741c
DTSTART:20260520T091500
DTEND:20260520T110000
DESCRIPTION:
LOCATION:
SUMMARY:Thomas Jefferson Middle School Orientation for students attending T
 JMS in September
END:VEVENT
BEGIN:VEVENT
DTSTAMP:20260425T183708Z
UID:1d72e810-9d37-4798-8ae3-dcaacc9ea424
DTSTART:20260520T180000
DTEND:20260520T203000
DESCRIPTION:
LOCATION:
SUMMARY:WWMS Parent Orientation (Parents  Only) @WWMS
END:VEVENT
BEGIN:VEVENT
DTSTAMP:20260425T183708Z
UID:3ff9f28c-f869-4318-b3e5-3104ab114951
DTSTART:20260521T091500
DTEND:20260521T110000
DESCRIPTION:
LOCATION:
SUMMARY:Woodrow Wilson Middle School Orientation for students attending WWM
 S in September
END:VEVENT
BEGIN:VEVENT
DTSTAMP:20260425T183708Z
UID:91f17057-6c8b-47c9-b9a9-0b7e47b64174
DTSTART:20260521T101500
DTEND:20260521T111500
DESCRIPTION:
LOCATION:
SUMMARY:Kindergarten Parent's Day Tea
END:VEVENT
BEGIN:VEVENT
DTSTAMP:20260425T183708Z
UID:2829be28-c2ce-4705-9caf-cc7fc1594069
DTSTART:20260521T111500
DTEND:20260521T130000
DESCRIPTION:<p>Kindergarten Family Picnic 11:15 AM</p><p>Family Picnic for 
 First\, Second Grade &amp\;</p><p>Taxeras\, Collins\, DeFeo and Grisley 1:
 10</p>
LOCATION:
SUMMARY:Family Picnic for K & 1:10 lunch
END:VEVENT
BEGIN:VEVENT
DTSTAMP:20260425T183708Z
UID:8cc4b1da-0ac8-41eb-88e2-739763c299ae
DTSTART:20260521T173000
DTEND:20260521T193000
DESCRIPTION:
LOCATION:855 Grove Ave\, Edison\, NJ 08820\, USA
SUMMARY:Woodbrook Spring Concert
END:VEVENT
BEGIN:VEVENT
DTSTAMP:20260425T183708Z
UID:4e533c89-929a-404a-b6b2-49499628d970
DTSTART:20260522T121500
DTEND:20260522T130000
DESCRIPTION:
LOCATION:
SUMMARY:Family Picnic for Grades 3\, 4\, &  Walters\, Stoltz\,Morrissey and
  LaBella
END:VEVENT
BEGIN:VEVENT
DTSTAMP:20260425T183708Z
UID:b2b70fd7-b3ef-465a-8dc1-513ddd8903de
DTSTART;VALUE=DATE:20260525
DTEND;VALUE=DATE:20260526
DESCRIPTION:
LOCATION:
SUMMARY:Memorial Day
END:VEVENT
BEGIN:VEVENT
DTSTAMP:20260425T183708Z
UID:be61aab3-4a8d-4f38-8bb5-b385a5122cf6
DTSTART;VALUE=DATE:20260525
DTEND;VALUE=DATE:20260526
DESCRIPTION:
LOCATION:
SUMMARY:ETPS: Schools Closed - Memorial Day
END:VEVENT
BEGIN:VEVENT
DTSTAMP:20260425T183708Z
UID:93c1f0b4-eea3-4174-92d9-98b18c3e6436
DTSTART:20260528T083000
DTEND:20260528T160000
DESCRIPTION:<p>Parents you must drop off &amp\; pick up by car</p>
LOCATION:
SUMMARY: Fourth Grade Trip to Philadelphia Zoo  (you must drop off & pick u
 p by car)
END:VEVENT
BEGIN:VEVENT
DTSTAMP:20260425T183708Z
UID:d0416a37-2592-4136-a4b2-23cb6c493dec
DTSTART:20260528T091000
DTEND:20260528T160000
DESCRIPTION:<p>Returning after the regular dismissal you must pick up by <s
 pan>car.</span></p>
LOCATION:
SUMMARY:Liberty Science Center Grade 3 Trip
END:VEVENT
BEGIN:VEVENT
DTSTAMP:20260425T183708Z
UID:6120c3eb-342f-4f8c-83db-1b78ba92d358
DTSTART:20260602T100000
DTEND:20260602T140000
DESCRIPTION:
LOCATION:
SUMMARY:Fifth Grade Party
END:VEVENT
BEGIN:VEVENT
DTSTAMP:20260425T183708Z
UID:614176d6-782e-4bbe-bf58-05fbe28783b4
DTSTART:20260604T080000
DTEND:20260604T160000
DESCRIPTION:<p> Parents you must drop off &amp\; pick up by car.</p>
LOCATION:
SUMMARY:Fifth Grade Trip to Franlin Institute
END:VEVENT
BEGIN:VEVENT
DTSTAMP:20260425T183708Z
UID:4d8f940b-3c97-4fc2-bee7-a5b2f0bae074
DTSTART:20260605T093000
DTEND:20260605T103000
DESCRIPTION:<p></p>
LOCATION:
SUMMARY:PBSIS Final Celebration in gym 
END:VEVENT
BEGIN:VEVENT
DTSTAMP:20260425T183708Z
UID:161eff86-0b1c-4b1e-a4bf-ad48d28427eb
DTSTART:20260609T094500
DTEND:20260609T113000
DESCRIPTION:<p>(no school aged children or younger children)</p>
LOCATION:
SUMMARY:Fifth Grade Promotion Ceremony in gym​  
END:VEVENT
BEGIN:VEVENT
DTSTAMP:20260425T183708Z
UID:79f3b470-fc5f-4f3b-b92b-4f801a746c03
DTSTART:20260609T140000
DTEND:20260609T151500
DESCRIPTION:<p> Class parents ​to classrooms at 1:45 </p>
LOCATION:
SUMMARY:End of Year Class Parties K-4 Class parents ​to classrooms at 1:4
 5\, Parties 2-3:15
END:VEVENT
BEGIN:VEVENT
DTSTAMP:20260425T183708Z
UID:5ee7969d-2ecb-47d2-ae5e-1f9184b6f516
DTSTART;VALUE=DATE:20260615
DTEND;VALUE=DATE:20260616
DESCRIPTION:
LOCATION:
SUMMARY:1:30 Closing
END:VEVENT
BEGIN:VEVENT
DTSTAMP:20260425T183708Z
UID:3c202335-633c-4f76-95a3-4ab13a2b36fe
DTSTART;VALUE=DATE:20260615
DTEND;VALUE=DATE:20260619
DESCRIPTION:
LOCATION:
SUMMARY:ETPS: Early Dismissal 
END:VEVENT
BEGIN:VEVENT
DTSTAMP:20260425T183708Z
UID:4e19576a-27cf-4b1b-9b3a-daf965b8d184
DTSTART;VALUE=DATE:20260616
DTEND;VALUE=DATE:20260617
DESCRIPTION:
LOCATION:
SUMMARY:1:30 Closing
END:VEVENT
BEGIN:VEVENT
DTSTAMP:20260425T183708Z
UID:2348e466-d051-49d2-8235-f9723b6112b0
DTSTART;VALUE=DATE:20260617
DTEND;VALUE=DATE:20260618
DESCRIPTION:
LOCATION:
SUMMARY:1:30 Closing
END:VEVENT
BEGIN:VEVENT
DTSTAMP:20260425T183708Z
UID:8ef79e38-7431-4d37-9eb7-48267ea70700
DTSTART;VALUE=DATE:20260618
DTEND;VALUE=DATE:20260619
DESCRIPTION:
LOCATION:
SUMMARY:Last Day of School
END:VEVENT
END:VCALENDAR
