BEGIN:VCALENDAR
VERSION:2.0
PRODID:icalendar-ruby
CALSCALE:GREGORIAN
BEGIN:VTIMEZONE
TZID:America/New_York
BEGIN:DAYLIGHT
DTSTART:20260308T030000
TZOFFSETFROM:-0500
TZOFFSETTO:-0400
RRULE:FREQ=YEARLY;BYDAY=2SU;BYMONTH=3
TZNAME:EDT
END:DAYLIGHT
BEGIN:STANDARD
DTSTART:20261101T010000
TZOFFSETFROM:-0400
TZOFFSETTO:-0500
RRULE:FREQ=YEARLY;BYDAY=1SU;BYMONTH=11
TZNAME:EST
END:STANDARD
END:VTIMEZONE
BEGIN:VEVENT
DTSTAMP:20260425T115558Z
UID:80a7e932-2e63-4a60-ac30-53f1fec05115
DTSTART;VALUE=DATE:20260425
DTEND;VALUE=DATE:20260426
DESCRIPTION:
LOCATION:
SUMMARY:JPS: Jazz Finals 
END:VEVENT
BEGIN:VEVENT
DTSTAMP:20260425T115558Z
UID:5d974aff-c111-4dfb-920f-1c833e00b934
DTSTART:20260430T170000
DTEND:20260430T190000
DESCRIPTION:
LOCATION:
SUMMARY:JPS: Poetry Slam 
END:VEVENT
BEGIN:VEVENT
DTSTAMP:20260425T115558Z
UID:4143e1b7-0c89-49a4-94fc-402ea909915a
DTSTART:20260430T190000
DTEND:20260430T203000
DESCRIPTION:
LOCATION:
SUMMARY:JPS: Orchestra Spring Concert 
END:VEVENT
BEGIN:VEVENT
DTSTAMP:20260425T115558Z
UID:8707ca8c-5ee1-469d-a66a-51d2df1939bd
DTSTART:20260514T190000
DTEND:20260514T210000
DESCRIPTION:
LOCATION:
SUMMARY:JPS: Choir Spring Concert 
END:VEVENT
BEGIN:VEVENT
DTSTAMP:20260425T115558Z
UID:ffc442a3-a1d9-4b33-82c1-3f6545af8c17
DTSTART:20260515T190000
DTEND:20260515T210000
DESCRIPTION:
LOCATION:
SUMMARY:JPS: Junior Cotillion 
END:VEVENT
BEGIN:VEVENT
DTSTAMP:20260425T115558Z
UID:c2d8c3d3-cb43-47c9-ad87-e84aab128bf6
DTSTART:20260520T190000
DTEND:20260520T210000
DESCRIPTION:
LOCATION:
SUMMARY:JPS: Band Spring Concert 
END:VEVENT
BEGIN:VEVENT
DTSTAMP:20260425T115558Z
UID:8204498d-2bc7-4b0a-be42-9bf6ff27d394
DTSTART:20260521T190000
DTEND:20260521T210000
DESCRIPTION:
LOCATION:
SUMMARY:JPS: Choir Spring Concert 
END:VEVENT
BEGIN:VEVENT
DTSTAMP:20260425T115558Z
UID:b06b757d-244c-4805-b9cb-48ccea15ecd9
DTSTART;VALUE=DATE:20260525
DTEND;VALUE=DATE:20260526
DESCRIPTION:
LOCATION:
SUMMARY:ETPS: Schools Closed - Memorial Day
END:VEVENT
BEGIN:VEVENT
DTSTAMP:20260425T115558Z
UID:a23c4adf-1d51-4bf3-acee-2d85bbfbd7b8
DTSTART:20260527T190000
DTEND:20260527T220000
DESCRIPTION:
LOCATION:
SUMMARY:JPS: Edison District Band Concert 
END:VEVENT
BEGIN:VEVENT
DTSTAMP:20260425T115558Z
UID:25ecc5a3-19c9-4651-a044-9804e890fe04
DTSTART:20260529T190000
DTEND:20260529T210000
DESCRIPTION:
LOCATION:
SUMMARY:JPS: Spring Dance Concert 
END:VEVENT
BEGIN:VEVENT
DTSTAMP:20260425T115558Z
UID:4ac52b46-1774-4ff3-91e6-214f6a0adff6
DTSTART:20260603T143000
DTEND:20260603T160000
DESCRIPTION:
LOCATION:
SUMMARY:JPS: JPS Studios Film Festival 
END:VEVENT
BEGIN:VEVENT
DTSTAMP:20260425T115558Z
UID:f10a2f8f-caf0-4eda-a7a9-616f8737d393
DTSTART:20260604T180000
DTEND:20260604T210000
DESCRIPTION:
LOCATION:
SUMMARY:JPS: Senior Scholarship Night 
END:VEVENT
BEGIN:VEVENT
DTSTAMP:20260425T115558Z
UID:ee89e290-2550-4c4d-a603-9d732bb4370e
DTSTART:20260605T143000
DTEND:20260605T170000
DESCRIPTION:
LOCATION:
SUMMARY:JPS: BSU Junteenth Block Party 
END:VEVENT
BEGIN:VEVENT
DTSTAMP:20260425T115558Z
UID:1c08a084-cb32-44f3-bd44-f9f90e74db42
DTSTART:20260605T160000
DTEND:20260605T220000
DESCRIPTION:
LOCATION:
SUMMARY:JPS: Band Rec. Night 
END:VEVENT
BEGIN:VEVENT
DTSTAMP:20260425T115558Z
UID:b0f60db5-1812-474a-ab32-2695d1e9abc9
DTSTART;VALUE=DATE:20260606
DTEND;VALUE=DATE:20260607
DESCRIPTION:
LOCATION:
SUMMARY:JPS: STEM Day 
END:VEVENT
BEGIN:VEVENT
DTSTAMP:20260425T115558Z
UID:7886f348-b3e8-4a65-b201-9c90333b3f32
DTSTART:20260611T160000
DTEND:20260611T210000
DESCRIPTION:
LOCATION:
SUMMARY:JPS: Orchestra Banquet
END:VEVENT
BEGIN:VEVENT
DTSTAMP:20260425T115558Z
UID:34d46bfb-37e6-4c2d-b466-cd5b28ca8562
DTSTART:20260612T160000
DTEND:20260612T210000
DESCRIPTION:
LOCATION:
SUMMARY:JPS: ESPORTS Game Night 
END:VEVENT
BEGIN:VEVENT
DTSTAMP:20260425T115558Z
UID:358dfa04-09f6-4c35-9f59-ee650c3ff308
DTSTART;VALUE=DATE:20260615
DTEND;VALUE=DATE:20260619
DESCRIPTION:
LOCATION:
SUMMARY:ETPS: Early Dismissal 
END:VEVENT
BEGIN:VEVENT
DTSTAMP:20260425T115558Z
UID:cb1028aa-2d43-42da-a591-878bf062f309
DTSTART;VALUE=DATE:20260617
DTEND;VALUE=DATE:20260618
DESCRIPTION:
LOCATION:
SUMMARY:JPS: Class of 2026 Graduation
END:VEVENT
END:VCALENDAR
