BEGIN:VCALENDAR
VERSION:2.0
PRODID:icalendar-ruby
CALSCALE:GREGORIAN
BEGIN:VTIMEZONE
TZID:America/New_York
BEGIN:DAYLIGHT
DTSTART:20260308T030000
TZOFFSETFROM:-0500
TZOFFSETTO:-0400
RRULE:FREQ=YEARLY;BYDAY=2SU;BYMONTH=3
TZNAME:EDT
END:DAYLIGHT
BEGIN:STANDARD
DTSTART:20261101T010000
TZOFFSETFROM:-0400
TZOFFSETTO:-0500
RRULE:FREQ=YEARLY;BYDAY=1SU;BYMONTH=11
TZNAME:EST
END:STANDARD
END:VTIMEZONE
BEGIN:VEVENT
DTSTAMP:20260423T164159Z
UID:f20c0970-67bb-497d-92b1-0a69d4b07c64
DTSTART:20260423T183000
DTEND:20260423T200000
DESCRIPTION:To view meeting agenda or get Zoom link\, visit <a href="https
 ://www.google.com/url?q=https://www.nhsd.org/page/agendas-zoom-links&amp\;
 sa=D&amp\;source=calendar&amp\;ust=1751728866550555&amp\;usg=AOvVaw02iqavA
 zp14bWUJFv9sWvO" target="_blank">https://www.nhsd.org/page/agendas-zoom-li
 nks</a>
LOCATION:New Hope Solebury School District\, 180 W Bridge St\, New Hope\, P
 A 18938\, USA -District Conference Room or ZOOM
SUMMARY:NHSD School Board Meeting
END:VEVENT
BEGIN:VEVENT
DTSTAMP:20260423T164159Z
UID:ec24749f-e2c1-4735-9cb3-faf18186874f
DTSTART:20260429T190000
DTEND:20260429T203000
DESCRIPTION:
LOCATION:High School Theatre
SUMMARY:HS/MS Choir Concert
END:VEVENT
BEGIN:VEVENT
DTSTAMP:20260423T164159Z
UID:bfa96486-a489-45a7-a64b-ed0e4b163e5e
DTSTART:20260501T190000
DTEND:20260501T210000
DESCRIPTION:
LOCATION:Theatre
SUMMARY:HS Spring Cabaret
END:VEVENT
BEGIN:VEVENT
DTSTAMP:20260423T164159Z
UID:fb88240b-9968-4a8a-b17f-ad44330530d5
DTSTART:20260504T170000
DTEND:20260504T203000
DESCRIPTION:<p><b>MAY THE LION FORCE BUILDTHE FUTURE</b></p><p><b>Help Laun
 ch Our New MiddleSchool STEAM Lab!</b></p><p><b> </b></p><p>Join us for a
 nout-of-this-galaxy evening of innovation\, creativity\, and Star Wars fun
  as weraise funds to support the construction of our new Middle School STE
 AM Lab.</p><p> </p><p><b>Join Us for a SpecialScreening of </b> <b>Star 
 Wars: ANew Hope\, </b>plus Galactic STEAM experiences in our High School S
 TEAM Lab’sOpen House\, including: </p><ul> <li>Retro     Acrade Lab</li>
  <li>3-D     Laser Experience</li> <li>Robotics     Challenge</li> <li>And
      more!</li></ul><p> </p><p><b>Monday\, May 4</b></p><p><b>5:00 PM –
  8:30 PM</b></p><p>HS STEAM Lab Open House\,Raffles\, Concession\, Food Tr
 ucks and Movie Showing</p><p><b> </b></p><p><b>Tickets:  $10.00  </b><
 /p><p><b>Purchase Online: </b><a href="https://www.vancoevents.com/us/eve
 nts/landing/63933">https://www.vancoevents.com/us/events/landing/63933</a>
 </p><p><br></p>
LOCATION:
SUMMARY:Launch our MS STEAM Lab-Special Showing of Star Wars: A New Hope
END:VEVENT
BEGIN:VEVENT
DTSTAMP:20260423T164159Z
UID:caf6f62e-4315-4bf9-ae94-40f4067776d1
DTSTART:20260505T190000
DTEND:20260505T210000
DESCRIPTION:
LOCATION:Theatre
SUMMARY:HS Spring Concert
END:VEVENT
BEGIN:VEVENT
DTSTAMP:20260423T164159Z
UID:86d98b47-d299-46b3-bef8-519539ee0d3d
DTSTART:20260507T170000
DTEND:20260507T180000
DESCRIPTION:Meeting will be held in the District Conference Room unless oth
 erwise noted and will also be streamed via ZOOM. For agenda and ZOOM infor
 mation\, visit <a href="https://www.google.com/url?q=https://www.nhsd.org
 /page/agendas-zoom-links&amp\;sa=D&amp\;source=calendar&amp\;ust=175172909
 4313556&amp\;usg=AOvVaw17XC2byTACY6eru2q6z-Va" target="_blank">https://www
 .nhsd.org/page/agendas-zoom-links</a>
LOCATION:New Hope Solebury School District\, 180 W Bridge St\, New Hope\, P
 A 18938\, USA
SUMMARY:Curriculum Advisory Committee
END:VEVENT
BEGIN:VEVENT
DTSTAMP:20260423T164159Z
UID:664c000d-efd7-4c9d-98b4-fa67a0251288
DTSTART:20260507T181500
DTEND:20260507T191500
DESCRIPTION:Meeting will be held in the District Conference Room unless oth
 erwise noted and will also be streamed via ZOOM. For agenda and ZOOM infor
 mation\, visit <a href="https://www.nhsd.org/page/agendas-zoom-links"><u>
 https://www.nhsd.org/page/agendas-zoom-links</u></a>
LOCATION:District Office Conference Room - 180 W. Bridge Street\, New Hope\
 , PA 18938 or Zoom
SUMMARY:RESCHEDULED: Policy Committee Meeting
END:VEVENT
BEGIN:VEVENT
DTSTAMP:20260423T164159Z
UID:2dc5a518-b070-4548-a211-581ba49e1135
DTSTART:20260519T163000
DTEND:20260519T173000
DESCRIPTION:Meeting will be held in the District Conference Room unless oth
 erwise noted and will also be streamed via ZOOM. For agenda and ZOOM infor
 mation\, visit <a href="https://www.nhsd.org/page/agendas-zoom-links"><u>
 https://www.nhsd.org/page/agendas-zoom-links</u></a>
LOCATION:District Office Conference Room- 180 W Bridge Street\, New Hope\, 
 PA 18938 or ZOOM
SUMMARY:Facilities Committee Meeting
END:VEVENT
BEGIN:VEVENT
DTSTAMP:20260423T164159Z
UID:0cee5811-98f9-42dc-bf22-2c41863e9d19
DTSTART:20260519T173000
DTEND:20260519T183000
DESCRIPTION:Meeting will be held in the District Conference Room unless oth
 erwise noted and will also be streamed via ZOOM. For agenda and ZOOM infor
 mation\, visit <a href="https://www.nhsd.org/page/agendas-zoom-links"><u>
 https://www.nhsd.org/page/agendas-zoom-links</u></a>
LOCATION:District Office Conference Room - 180 W. Bridge Street\, New Hope\
 , PA 18938 or ZOOM
SUMMARY:Finance Committee Meeting
END:VEVENT
BEGIN:VEVENT
DTSTAMP:20260423T164159Z
UID:44a8ec46-f339-4b49-b780-7debf0338838
DTSTART:20260521T183000
DTEND:20260521T200000
DESCRIPTION:To view meeting agenda or get Zoom link\, visit <a href="https
 ://www.google.com/url?q=https://www.nhsd.org/page/agendas-zoom-links&amp\;
 sa=D&amp\;source=calendar&amp\;ust=1751728866550555&amp\;usg=AOvVaw02iqavA
 zp14bWUJFv9sWvO" target="_blank">https://www.nhsd.org/page/agendas-zoom-li
 nks</a>
LOCATION:New Hope Solebury School District\, 180 W Bridge St\, New Hope\, P
 A 18938\, USA -District Conference Room or ZOOM
SUMMARY:NHSD School Board Meeting
END:VEVENT
BEGIN:VEVENT
DTSTAMP:20260423T164159Z
UID:63541d96-d48c-4120-8c4e-58eb88c2f719
DTSTART;VALUE=DATE:20260525
DTEND;VALUE=DATE:20260526
DESCRIPTION:
LOCATION:
SUMMARY:Memorial Day-Schools/Offices Closed
END:VEVENT
BEGIN:VEVENT
DTSTAMP:20260423T164159Z
UID:a3961e4a-c3d7-4d46-aaed-cb46e994c3e0
DTSTART:20260528T180000
DTEND:20260528T213000
DESCRIPTION:
LOCATION:The Fuge\, 780 Falcon Cir Suite 200\, Warminster\, PA 18974\, USA
SUMMARY:High School Prom-Lights\, Camera\, Prom!
END:VEVENT
BEGIN:VEVENT
DTSTAMP:20260423T164159Z
UID:d81483e6-a2a9-46e2-bf35-cedcbdf90f77
DTSTART:20260602T170000
DTEND:20260602T190000
DESCRIPTION:
LOCATION:LES Playground 
SUMMARY:LES Roaring Playground Fundraiser
END:VEVENT
BEGIN:VEVENT
DTSTAMP:20260423T164159Z
UID:34b8e8cd-f1b5-40ec-a3e6-05358d6f9c1d
DTSTART:20260603T170000
DTEND:20260603T183000
DESCRIPTION:
LOCATION:Theatre Lobby
SUMMARY:NHSD Hall of Fame Reception
END:VEVENT
BEGIN:VEVENT
DTSTAMP:20260423T164159Z
UID:3bea0607-1844-4470-96b0-15f270cdf0e6
DTSTART:20260603T183000
DTEND:20260603T200000
DESCRIPTION:
LOCATION:
SUMMARY:Senior Awards
END:VEVENT
BEGIN:VEVENT
DTSTAMP:20260423T164159Z
UID:770cea0e-1a97-4d5b-8238-5642acc8296a
DTSTART:20260604T170000
DTEND:20260604T180000
DESCRIPTION:Meeting will be held in the District Conference Room unless oth
 erwise noted and will also be streamed via ZOOM. For agenda and ZOOM infor
 mation\, visit <a href="https://www.google.com/url?q=https://www.nhsd.org
 /page/agendas-zoom-links&amp\;sa=D&amp\;source=calendar&amp\;ust=175172906
 8193727&amp\;usg=AOvVaw2J7YJ45pr2pP4bLuzs6i2b" target="_blank">https://www
 .nhsd.org/page/agendas-zoom-links</a>
LOCATION:New Hope Solebury School District\, 180 W Bridge St\, New Hope\, P
 A 18938\, USA
SUMMARY:Curriculum Advisory Committee
END:VEVENT
BEGIN:VEVENT
DTSTAMP:20260423T164159Z
UID:c3e1839d-a863-4543-8a8a-408fbcec8326
DTSTART:20260604T181500
DTEND:20260604T191500
DESCRIPTION:Meeting will be held in the District Conference Room unless oth
 erwise noted and will also be streamed via ZOOM. For agenda and ZOOM infor
 mation\, visit <a href="https://www.nhsd.org/page/agendas-zoom-links"><u>
 https://www.nhsd.org/page/agendas-zoom-links</u></a>
LOCATION:District Office Conference Room - 180 W. Bridge Street\, New Hope\
 , PA 18938 or Zoom
SUMMARY:Policy Committee Meeting
END:VEVENT
BEGIN:VEVENT
DTSTAMP:20260423T164159Z
UID:f8df9b5f-af74-4ab3-91a7-684bb8da0921
DTSTART:20260609T180000
DTEND:20260609T190000
DESCRIPTION:
LOCATION:Starting by Theatre
SUMMARY:Class of 2026 Car Procession
END:VEVENT
BEGIN:VEVENT
DTSTAMP:20260423T164159Z
UID:fb202eee-6c71-4e84-8581-6d4670b68ed1
DTSTART;VALUE=DATE:20260610
DTEND;VALUE=DATE:20260611
DESCRIPTION:
LOCATION:
SUMMARY:Last Day of School / Early Dismissal GR K-12
END:VEVENT
BEGIN:VEVENT
DTSTAMP:20260423T164159Z
UID:5b58e029-61e0-4a49-becf-0e1afcc3ed9c
DTSTART:20260610T183000
DTEND:20260610T200000
DESCRIPTION:
LOCATION:Asplundh Stadium Field
SUMMARY:Class of 2026 Graduation
END:VEVENT
BEGIN:VEVENT
DTSTAMP:20260423T164159Z
UID:f9a52fc8-0bfb-4cbe-8c8f-eecd9d6cd6cf
DTSTART;VALUE=DATE:20260611
DTEND;VALUE=DATE:20260612
DESCRIPTION:
LOCATION:
SUMMARY:Professional Development
END:VEVENT
BEGIN:VEVENT
DTSTAMP:20260423T164159Z
UID:f9b5a400-8239-4238-99de-863961584a73
DTSTART;VALUE=DATE:20260612
DTEND;VALUE=DATE:20260613
DESCRIPTION:
LOCATION:
SUMMARY:Teacher Close Out Day
END:VEVENT
BEGIN:VEVENT
DTSTAMP:20260423T164159Z
UID:33668340-8224-4eaf-bb03-e1e1fa0f7c75
DTSTART;VALUE=DATE:20260615
DTEND;VALUE=DATE:20260616
DESCRIPTION:
LOCATION:
SUMMARY:Professional Development
END:VEVENT
BEGIN:VEVENT
DTSTAMP:20260423T164159Z
UID:93a864c9-f7ae-4900-8044-607acc866da4
DTSTART:20260616T163000
DTEND:20260616T173000
DESCRIPTION:Meeting will be held in the District Conference Room unless oth
 erwise noted and will also be streamed via ZOOM. For agenda and ZOOM infor
 mation\, visit <a href="https://www.nhsd.org/page/agendas-zoom-links"><u>
 https://www.nhsd.org/page/agendas-zoom-links</u></a>
LOCATION:District Office Conference Room- 180 W Bridge Street\, New Hope\, 
 PA 18938 or ZOOM
SUMMARY:Facilities Committee Meeting
END:VEVENT
BEGIN:VEVENT
DTSTAMP:20260423T164159Z
UID:a79d8a47-9f55-4e63-9b08-31fc6c08041b
DTSTART:20260616T173000
DTEND:20260616T183000
DESCRIPTION:Meeting will be held in the District Conference Room unless oth
 erwise noted and will also be streamed via ZOOM. For agenda and ZOOM infor
 mation\, visit <a href="https://www.nhsd.org/page/agendas-zoom-links"><u>
 https://www.nhsd.org/page/agendas-zoom-links</u></a>
LOCATION:District Office Conference Room - 180 W. Bridge Street\, New Hope\
 , PA 18938 or ZOOM
SUMMARY:Finance Committee Meeting
END:VEVENT
BEGIN:VEVENT
DTSTAMP:20260423T164159Z
UID:79c12063-1210-4191-bf03-215c947b80e5
DTSTART;VALUE=DATE:20260619
DTEND;VALUE=DATE:20260620
DESCRIPTION:
LOCATION:
SUMMARY:Juneteenth--Offices Closed
END:VEVENT
BEGIN:VEVENT
DTSTAMP:20260423T164159Z
UID:f00d07b7-567e-4fa5-9c2e-b6e0bcc11ec3
DTSTART:20260629T183000
DTEND:20260629T200000
DESCRIPTION:To view meeting agenda or get Zoom link\, visit <a href="https
 ://www.google.com/url?q=https://www.nhsd.org/page/agendas-zoom-links&amp\;
 sa=D&amp\;source=calendar&amp\;ust=1751728866550555&amp\;usg=AOvVaw02iqavA
 zp14bWUJFv9sWvO" target="_blank">https://www.nhsd.org/page/agendas-zoom-li
 nks</a>
LOCATION:New Hope Solebury School District\, 180 W Bridge St\, New Hope\, P
 A 18938\, USA -District Conference Room or ZOOM
SUMMARY:UPDATED DATE: NHSD School Board Meeting
END:VEVENT
END:VCALENDAR
