BEGIN:VCALENDAR
VERSION:2.0
PRODID:icalendar-ruby
CALSCALE:GREGORIAN
BEGIN:VTIMEZONE
TZID:America/Chicago
BEGIN:DAYLIGHT
DTSTART:20260308T030000
TZOFFSETFROM:-0600
TZOFFSETTO:-0500
RRULE:FREQ=YEARLY;BYDAY=2SU;BYMONTH=3
TZNAME:CDT
END:DAYLIGHT
BEGIN:STANDARD
DTSTART:20261101T010000
TZOFFSETFROM:-0500
TZOFFSETTO:-0600
RRULE:FREQ=YEARLY;BYDAY=1SU;BYMONTH=11
TZNAME:CST
END:STANDARD
END:VTIMEZONE
BEGIN:VEVENT
DTSTAMP:20260425T102801Z
UID:a563810d-02e2-42ce-8a44-bacf174eacbc
DTSTART;VALUE=DATE:20260427
DTEND;VALUE=DATE:20260428
DESCRIPTION:
LOCATION:
SUMMARY:Golf @ WF
END:VEVENT
BEGIN:VEVENT
DTSTAMP:20260425T102801Z
UID:c78b89a0-4241-41eb-bf18-77ae363ab780
DTSTART:20260427T150000
DTEND:20260427T163000
DESCRIPTION:
LOCATION:
SUMMARY:Track Practice 
END:VEVENT
BEGIN:VEVENT
DTSTAMP:20260425T102801Z
UID:485934cf-9205-4551-9c00-5efc28431824
DTSTART:20260427T190000
DTEND:20260427T200000
DESCRIPTION:
LOCATION:
SUMMARY:Spring Concert @ JCHS
END:VEVENT
BEGIN:VEVENT
DTSTAMP:20260425T102801Z
UID:99802083-d676-4585-a713-15d64d0470fe
DTSTART:20260428T170000
DTEND:20260428T200000
DESCRIPTION:
LOCATION:
SUMMARY:Cheer Camp
END:VEVENT
BEGIN:VEVENT
DTSTAMP:20260425T102801Z
UID:073fb362-e555-4920-b2f7-91401145d00c
DTSTART:20260429T150000
DTEND:20260429T163000
DESCRIPTION:
LOCATION:
SUMMARY:Track Practice
END:VEVENT
BEGIN:VEVENT
DTSTAMP:20260425T102801Z
UID:a6e78a2f-2baa-4dd8-b62c-9e377283635b
DTSTART:20260429T170000
DTEND:20260429T200000
DESCRIPTION:
LOCATION:
SUMMARY:Cheer Camp
END:VEVENT
BEGIN:VEVENT
DTSTAMP:20260425T102801Z
UID:ac19e99e-7b1c-4620-bdc5-543fb0b6be81
DTSTART:20260430T150000
DTEND:20260430T163000
DESCRIPTION:
LOCATION:
SUMMARY:Track Practice
END:VEVENT
BEGIN:VEVENT
DTSTAMP:20260425T102801Z
UID:c76ba7ee-9805-41f3-ab0b-bed6efdd115e
DTSTART:20260430T180000
DTEND:20260430T200000
DESCRIPTION:
LOCATION:
SUMMARY:Cheer Tryouts
END:VEVENT
BEGIN:VEVENT
DTSTAMP:20260425T102801Z
UID:37632768-448e-4ec4-9a51-46bf7cb8da39
DTSTART;VALUE=DATE:20260501
DTEND;VALUE=DATE:20260502
DESCRIPTION:
LOCATION:
SUMMARY:StuCo Trip
END:VEVENT
BEGIN:VEVENT
DTSTAMP:20260425T102801Z
UID:cc712967-d0a9-4808-9317-21961ac2ac82
DTSTART;VALUE=DATE:20260504
DTEND;VALUE=DATE:20260505
DESCRIPTION:
LOCATION:
SUMMARY:Golf Regional @ WF
END:VEVENT
BEGIN:VEVENT
DTSTAMP:20260425T102801Z
UID:887da896-99f0-4d10-85eb-678daf69ce13
DTSTART;VALUE=DATE:20260504
DTEND;VALUE=DATE:20260509
DESCRIPTION:
LOCATION:
SUMMARY:Spring Benchmark Testing
END:VEVENT
BEGIN:VEVENT
DTSTAMP:20260425T102801Z
UID:5cf0d0f0-7a16-4831-93ec-33aec1972310
DTSTART:20260504T150000
DTEND:20260504T163000
DESCRIPTION:
LOCATION:
SUMMARY:Track Practice
END:VEVENT
BEGIN:VEVENT
DTSTAMP:20260425T102801Z
UID:17b47467-8f6a-400c-a0ab-abb1c1890baf
DTSTART;VALUE=DATE:20260505
DTEND;VALUE=DATE:20260506
DESCRIPTION:
LOCATION:
SUMMARY:Coal Belt Track Meet @ Hamilton County - 2:00 PM
END:VEVENT
BEGIN:VEVENT
DTSTAMP:20260425T102801Z
UID:7135edde-28eb-4560-b374-92c42dbe3021
DTSTART;VALUE=DATE:20260507
DTEND;VALUE=DATE:20260508
DESCRIPTION:
LOCATION:
SUMMARY:Sports Physicals @ JCHS
END:VEVENT
BEGIN:VEVENT
DTSTAMP:20260425T102801Z
UID:6ea3833b-033d-459d-b8c1-353b16fe0d46
DTSTART;VALUE=DATE:20260508
DTEND;VALUE=DATE:20260509
DESCRIPTION:
LOCATION:
SUMMARY:6th Grade Trip to Rend Lake Days
END:VEVENT
BEGIN:VEVENT
DTSTAMP:20260425T102801Z
UID:c62bc904-7b07-4369-91db-e3dbb5a5a185
DTSTART:20260512T170000
DTEND:20260512T180000
DESCRIPTION:
LOCATION:
SUMMARY:ALOP Family Night
END:VEVENT
BEGIN:VEVENT
DTSTAMP:20260425T102801Z
UID:14a77eaf-2bf4-492f-a024-e32d8832bfc6
DTSTART;VALUE=DATE:20260513
DTEND;VALUE=DATE:20260521
DESCRIPTION:
LOCATION:
SUMMARY:1:50 Dismissal
END:VEVENT
BEGIN:VEVENT
DTSTAMP:20260425T102801Z
UID:d17a3aad-4de2-46db-af4c-ef75353832a4
DTSTART;VALUE=DATE:20260514
DTEND;VALUE=DATE:20260515
DESCRIPTION:
LOCATION:
SUMMARY:May Attendance Party - Ice Cream Truck
END:VEVENT
BEGIN:VEVENT
DTSTAMP:20260425T102801Z
UID:2bdb66f7-6220-4b37-bdc9-42d2d2dca209
DTSTART;VALUE=DATE:20260515
DTEND;VALUE=DATE:20260516
DESCRIPTION:
LOCATION:
SUMMARY:4th Quarter PBIS Party
END:VEVENT
BEGIN:VEVENT
DTSTAMP:20260425T102801Z
UID:01a68b33-ffff-4515-ba5b-17bc6b3aaceb
DTSTART;VALUE=DATE:20260518
DTEND;VALUE=DATE:20260519
DESCRIPTION:
LOCATION:
SUMMARY:8th Grade Trip
END:VEVENT
BEGIN:VEVENT
DTSTAMP:20260425T102801Z
UID:e375a3bf-6172-435b-810f-bbf3c5231421
DTSTART;VALUE=DATE:20260519
DTEND;VALUE=DATE:20260520
DESCRIPTION:
LOCATION:
SUMMARY:8th Grade Honors
END:VEVENT
BEGIN:VEVENT
DTSTAMP:20260425T102801Z
UID:a5a21b4c-64f3-4da4-9363-36614b195493
DTSTART:20260519T180000
DTEND:20260519T190000
DESCRIPTION:
LOCATION:
SUMMARY:8th Grade Promotion
END:VEVENT
BEGIN:VEVENT
DTSTAMP:20260425T102801Z
UID:f4864e7f-321a-4e1f-a8b7-6e57b6386f5e
DTSTART;VALUE=DATE:20260520
DTEND;VALUE=DATE:20260521
DESCRIPTION:
LOCATION:
SUMMARY:5th - 7th Grade Honors
END:VEVENT
BEGIN:VEVENT
DTSTAMP:20260425T102801Z
UID:eb9ead66-6fff-4e0c-8f78-025ceb90ebf2
DTSTART;VALUE=DATE:20260520
DTEND;VALUE=DATE:20260521
DESCRIPTION:
LOCATION:
SUMMARY:LAST DAY OF STUDENT ATTENDANCE
END:VEVENT
BEGIN:VEVENT
DTSTAMP:20260425T102801Z
UID:f3e50678-0941-4c06-8a14-29179124dd8d
DTSTART;VALUE=DATE:20260521
DTEND;VALUE=DATE:20260522
DESCRIPTION:
LOCATION:
SUMMARY:Teacher Inservice
END:VEVENT
BEGIN:VEVENT
DTSTAMP:20260425T102801Z
UID:6827f1b6-a543-44d2-a7bb-e3ac6f37e8a9
DTSTART;VALUE=DATE:20260525
DTEND;VALUE=DATE:20260526
DESCRIPTION:
LOCATION:
SUMMARY:Memorial Day
END:VEVENT
END:VCALENDAR
