BEGIN:VCALENDAR
VERSION:2.0
PRODID:icalendar-ruby
CALSCALE:GREGORIAN
BEGIN:VTIMEZONE
TZID:America/Chicago
BEGIN:DAYLIGHT
DTSTART:20260308T030000
TZOFFSETFROM:-0600
TZOFFSETTO:-0500
RRULE:FREQ=YEARLY;BYDAY=2SU;BYMONTH=3
TZNAME:CDT
END:DAYLIGHT
BEGIN:STANDARD
DTSTART:20261101T010000
TZOFFSETFROM:-0500
TZOFFSETTO:-0600
RRULE:FREQ=YEARLY;BYDAY=1SU;BYMONTH=11
TZNAME:CST
END:STANDARD
END:VTIMEZONE
BEGIN:VEVENT
DTSTAMP:20260426T024146Z
UID:3e71e2ad-c12a-42f3-828a-bfdc2b0b821e
DTSTART:20260427T180000
DTEND:20260427T190000
DESCRIPTION:
LOCATION:1500 Jefferson Ave\, Johnston City\, IL 62951\, USA
SUMMARY:District Spring Concert
END:VEVENT
BEGIN:VEVENT
DTSTAMP:20260426T024146Z
UID:93d42d19-4ebf-400b-99b7-b7e1b7046c77
DTSTART;VALUE=DATE:20260501
DTEND;VALUE=DATE:20260502
DESCRIPTION:<p>Early Dismissal - 1:50 dismissal for Elementary and Middle S
 chool\, 2:00 dismissal for High School</p>
LOCATION:
SUMMARY:Early Dismissal - 1:50 dismissal for Elementary and Middle School\,
  2:00 dismissal for High School
END:VEVENT
BEGIN:VEVENT
DTSTAMP:20260426T024146Z
UID:c1401f02-4612-4632-b944-6a18136fad71
DTSTART:20260501T170000
DTEND:20260501T190000
DESCRIPTION:
LOCATION:
SUMMARY:Lincoln School Spring Fling Open House
END:VEVENT
BEGIN:VEVENT
DTSTAMP:20260426T024146Z
UID:ab7eaa7a-8b25-4150-8b1f-94ebc35c7747
DTSTART;VALUE=DATE:20260513
DTEND;VALUE=DATE:20260514
DESCRIPTION:
LOCATION:
SUMMARY:1:50/2:00 Dismissal
END:VEVENT
BEGIN:VEVENT
DTSTAMP:20260426T024146Z
UID:37d0924c-90e7-4817-8cd3-ecc96048b5a9
DTSTART;VALUE=DATE:20260514
DTEND;VALUE=DATE:20260515
DESCRIPTION:
LOCATION:
SUMMARY:1:50/2:00 Dismissal
END:VEVENT
BEGIN:VEVENT
DTSTAMP:20260426T024146Z
UID:f1167895-4959-4ce6-8409-30b291428a94
DTSTART;VALUE=DATE:20260515
DTEND;VALUE=DATE:20260516
DESCRIPTION:<p>Early Dismissal</p><p>1:50 dismissal for Elementary and Midd
 le School<br>2:00 dismissal for High School</p>
LOCATION:
SUMMARY:Early Dismissal - 1:50 dismissal for Elementary and Middle School\,
  2:00 dismissal for High School
END:VEVENT
BEGIN:VEVENT
DTSTAMP:20260426T024146Z
UID:86f0decc-7a5b-411a-8469-9dbebd004e97
DTSTART:20260515T190000
DTEND:20260515T200000
DESCRIPTION:
LOCATION:
SUMMARY:High School Graduation
END:VEVENT
BEGIN:VEVENT
DTSTAMP:20260426T024146Z
UID:ffc09f07-80f8-40ad-b6cb-4c1b0f537afd
DTSTART;VALUE=DATE:20260518
DTEND;VALUE=DATE:20260519
DESCRIPTION:
LOCATION:
SUMMARY:1:50/2:00 Dismissal
END:VEVENT
BEGIN:VEVENT
DTSTAMP:20260426T024146Z
UID:9d9dbefc-1c62-4212-99ba-a590af862a88
DTSTART;VALUE=DATE:20260519
DTEND;VALUE=DATE:20260520
DESCRIPTION:
LOCATION:
SUMMARY:1:50/2:00 Dismissal
END:VEVENT
BEGIN:VEVENT
DTSTAMP:20260426T024146Z
UID:c96223a2-6bd0-44d7-b58e-4732241587d3
DTSTART:20260519T180000
DTEND:20260519T190000
DESCRIPTION:
LOCATION:
SUMMARY:8th Grade Promotion
END:VEVENT
BEGIN:VEVENT
DTSTAMP:20260426T024146Z
UID:6ee54e96-1563-4ae4-b01e-41a4ff0d661b
DTSTART;VALUE=DATE:20260520
DTEND;VALUE=DATE:20260521
DESCRIPTION:
LOCATION:
SUMMARY:Last Student Attendance Day 
END:VEVENT
BEGIN:VEVENT
DTSTAMP:20260426T024146Z
UID:6c705989-cb0e-4f9d-a2eb-baf3916f99c7
DTSTART;VALUE=DATE:20260520
DTEND;VALUE=DATE:20260521
DESCRIPTION:
LOCATION:
SUMMARY:1:50/2:00 Dismissal
END:VEVENT
BEGIN:VEVENT
DTSTAMP:20260426T024146Z
UID:65411dde-6c4a-47c4-aebb-d91ab0771d8f
DTSTART;VALUE=DATE:20260521
DTEND;VALUE=DATE:20260522
DESCRIPTION:
LOCATION:
SUMMARY:Teacher Institute Day
END:VEVENT
BEGIN:VEVENT
DTSTAMP:20260426T024146Z
UID:a84fdf6e-97a3-4a15-8674-51fbb777dd77
DTSTART:20260521T180000
DTEND:20260521T190000
DESCRIPTION:
LOCATION:
SUMMARY:Board Meeting
END:VEVENT
BEGIN:VEVENT
DTSTAMP:20260426T024146Z
UID:ea387882-29be-4e5d-a9c9-3d12caa3afa2
DTSTART;VALUE=DATE:20260525
DTEND;VALUE=DATE:20260526
DESCRIPTION:
LOCATION:
SUMMARY:Memorial Day
END:VEVENT
BEGIN:VEVENT
DTSTAMP:20260426T024146Z
UID:fc3e6109-ed0b-497d-959b-77263a45dc36
DTSTART:20260630T180000
DTEND:20260630T190000
DESCRIPTION:
LOCATION:
SUMMARY:Board Meeting
END:VEVENT
BEGIN:VEVENT
DTSTAMP:20260426T024146Z
UID:504a1591-a106-4e36-b198-6ef414f47213
DTSTART:20260723T180000
DTEND:20260723T190000
DESCRIPTION:
LOCATION:
SUMMARY:Board Meeting
END:VEVENT
BEGIN:VEVENT
DTSTAMP:20260426T024146Z
UID:2dd211b4-e581-4670-b508-67d13584d27f
DTSTART;VALUE=DATE:20260806
DTEND;VALUE=DATE:20260807
DESCRIPTION:
LOCATION:
SUMMARY:Teacher Institute Day
END:VEVENT
BEGIN:VEVENT
DTSTAMP:20260426T024146Z
UID:45085986-5808-4b91-9b80-8b10939aa031
DTSTART;VALUE=DATE:20260807
DTEND;VALUE=DATE:20260808
DESCRIPTION:
LOCATION:
SUMMARY:11:30 dismissal - Half Day In-Service
END:VEVENT
BEGIN:VEVENT
DTSTAMP:20260426T024146Z
UID:6c5ed98c-79f5-4451-89a1-85c35241444c
DTSTART:20260807T080000
DTEND:20260807T113000
DESCRIPTION:
LOCATION:
SUMMARY:First Day of Student Attendance
END:VEVENT
BEGIN:VEVENT
DTSTAMP:20260426T024146Z
UID:21b28199-7404-4527-8bd9-8bafd4bfb522
DTSTART:20260820T180000
DTEND:20260820T190000
DESCRIPTION:
LOCATION:
SUMMARY:Board Meeting
END:VEVENT
BEGIN:VEVENT
DTSTAMP:20260426T024146Z
UID:5f7ce591-dcf9-4358-b25f-784ccd5e1cf2
DTSTART;VALUE=DATE:20260904
DTEND;VALUE=DATE:20260905
DESCRIPTION:
LOCATION:
SUMMARY:11:30 Dismissal - Half Day Student Attendance
END:VEVENT
BEGIN:VEVENT
DTSTAMP:20260426T024146Z
UID:3bf9fbf1-3731-459f-a525-7f2d8e3bae31
DTSTART;VALUE=DATE:20260907
DTEND;VALUE=DATE:20260908
DESCRIPTION:
LOCATION:
SUMMARY:No School - Labor Day
END:VEVENT
BEGIN:VEVENT
DTSTAMP:20260426T024146Z
UID:522f84fb-84aa-4f35-a5cc-25c39463c98f
DTSTART:20260924T180000
DTEND:20260924T190000
DESCRIPTION:
LOCATION:
SUMMARY:Board Meeting
END:VEVENT
BEGIN:VEVENT
DTSTAMP:20260426T024146Z
UID:d1430cb3-b45e-4755-bf1b-08454982d7a7
DTSTART;VALUE=DATE:20261002
DTEND;VALUE=DATE:20261003
DESCRIPTION:
LOCATION:
SUMMARY:11:30 Dismissal - Half Day Student Attendance
END:VEVENT
BEGIN:VEVENT
DTSTAMP:20260426T024146Z
UID:363813b8-a4b4-4742-8758-b57554b45f15
DTSTART;VALUE=DATE:20261009
DTEND;VALUE=DATE:20261010
DESCRIPTION:
LOCATION:
SUMMARY:End of 1st Quarter
END:VEVENT
BEGIN:VEVENT
DTSTAMP:20260426T024146Z
UID:28bc1994-6a2f-4b39-942d-b315694f9b82
DTSTART;VALUE=DATE:20261012
DTEND;VALUE=DATE:20261013
DESCRIPTION:
LOCATION:
SUMMARY:No School - Columbus Day
END:VEVENT
BEGIN:VEVENT
DTSTAMP:20260426T024146Z
UID:303456e5-dcbc-41e6-93ca-78cf6f190110
DTSTART;VALUE=DATE:20261013
DTEND;VALUE=DATE:20261017
DESCRIPTION:
LOCATION:
SUMMARY:No School - Fall Break
END:VEVENT
BEGIN:VEVENT
DTSTAMP:20260426T024146Z
UID:f3202c3b-8fe6-4b2f-9b13-804dd17bd033
DTSTART:20261022T180000
DTEND:20261022T190000
DESCRIPTION:
LOCATION:
SUMMARY:Board Meeting
END:VEVENT
BEGIN:VEVENT
DTSTAMP:20260426T024146Z
UID:e75a9652-0566-4b5d-8d73-d372f97cc073
DTSTART:20261026T163000
DTEND:20261026T190000
DESCRIPTION:
LOCATION:
SUMMARY:Parent/Teacher Conferences
END:VEVENT
BEGIN:VEVENT
DTSTAMP:20260426T024146Z
UID:141ce8cf-a5d4-4ef5-b35c-86dab3a60a36
DTSTART;VALUE=DATE:20261030
DTEND;VALUE=DATE:20261031
DESCRIPTION:
LOCATION:
SUMMARY:No School - Teacher Institute Day
END:VEVENT
BEGIN:VEVENT
DTSTAMP:20260426T024146Z
UID:2c0b6817-b44a-4e64-8a25-743ed6dc2671
DTSTART:20261102T163000
DTEND:20261102T190000
DESCRIPTION:
LOCATION:
SUMMARY:Parent/Teacher Conferences
END:VEVENT
BEGIN:VEVENT
DTSTAMP:20260426T024146Z
UID:03fde17f-956a-44de-a1e6-3c959b5070e2
DTSTART;VALUE=DATE:20261111
DTEND;VALUE=DATE:20261112
DESCRIPTION:
LOCATION:
SUMMARY:No School - Veterans Day
END:VEVENT
BEGIN:VEVENT
DTSTAMP:20260426T024146Z
UID:a818b8fa-ccbe-4788-a7bc-01d02df852e7
DTSTART:20261117T180000
DTEND:20261117T190000
DESCRIPTION:
LOCATION:
SUMMARY:Board Meeting
END:VEVENT
BEGIN:VEVENT
DTSTAMP:20260426T024146Z
UID:7711d7ae-8354-4f43-b168-8e6a2c866968
DTSTART;VALUE=DATE:20261118
DTEND;VALUE=DATE:20261123
DESCRIPTION:
LOCATION:
SUMMARY:Triple I Conference
END:VEVENT
BEGIN:VEVENT
DTSTAMP:20260426T024146Z
UID:4c6b71b6-408c-46d2-83d3-d970f5aee363
DTSTART;VALUE=DATE:20261119
DTEND;VALUE=DATE:20261120
DESCRIPTION:
LOCATION:
SUMMARY:ATG Dinner w/BOE
END:VEVENT
BEGIN:VEVENT
DTSTAMP:20260426T024146Z
UID:d010bfa0-05c9-474d-b4f8-0023108affcf
DTSTART;VALUE=DATE:20261124
DTEND;VALUE=DATE:20261125
DESCRIPTION:<p>1:50 dismissal for Elementary and Middle School<br>2:00 dism
 issal for High School</p>
LOCATION:
SUMMARY:Early Dismissal - 1:50 dismissal for Elementary and Middle School\,
  2:00 dismissal for High School
END:VEVENT
BEGIN:VEVENT
DTSTAMP:20260426T024146Z
UID:712e9fe8-c75f-4d59-8617-4ea3523d3922
DTSTART:20261125T080000
DTEND:20261125T090000
DESCRIPTION:
LOCATION:
SUMMARY:No School - Parent Teacher Conference Waiver
END:VEVENT
BEGIN:VEVENT
DTSTAMP:20260426T024146Z
UID:4fbe51a1-23c0-4d82-bc11-1cd48f2e4228
DTSTART;VALUE=DATE:20261126
DTEND;VALUE=DATE:20261127
DESCRIPTION:
LOCATION:
SUMMARY:No School - Thanksgiving Day
END:VEVENT
BEGIN:VEVENT
DTSTAMP:20260426T024146Z
UID:794e46c9-1c52-44ff-83c5-c93c6beccccb
DTSTART;VALUE=DATE:20261127
DTEND;VALUE=DATE:20261128
DESCRIPTION:
LOCATION:
SUMMARY:No School
END:VEVENT
BEGIN:VEVENT
DTSTAMP:20260426T024146Z
UID:9be45123-3a8a-4bc9-8267-09619d4e8621
DTSTART;VALUE=DATE:20261204
DTEND;VALUE=DATE:20261205
DESCRIPTION:
LOCATION:
SUMMARY:11:30 Dismissal - Half Day Student Attendance
END:VEVENT
BEGIN:VEVENT
DTSTAMP:20260426T024146Z
UID:4908599d-ef89-48dc-bd6e-e42b6d4364ba
DTSTART:20261217T180000
DTEND:20261217T190000
DESCRIPTION:
LOCATION:
SUMMARY:Board Meeting
END:VEVENT
BEGIN:VEVENT
DTSTAMP:20260426T024146Z
UID:6e4a90cc-b7d5-41d9-89d0-33cf3ae4355c
DTSTART;VALUE=DATE:20261218
DTEND;VALUE=DATE:20261219
DESCRIPTION:<p>1:50 dismissal for Elementary and Middle School<br>2:00 dism
 issal for High School</p>
LOCATION:
SUMMARY:Early Dismissal - 1:50 dismissal for Elementary and Middle School\,
  2:00 dismissal for High School
END:VEVENT
BEGIN:VEVENT
DTSTAMP:20260426T024146Z
UID:2722d684-cbd8-46c1-b235-3cffc8095bc8
DTSTART;VALUE=DATE:20261218
DTEND;VALUE=DATE:20261219
DESCRIPTION:
LOCATION:
SUMMARY:End of 1st Semester/2nd Quarter
END:VEVENT
BEGIN:VEVENT
DTSTAMP:20260426T024146Z
UID:25ff317d-55b7-4620-8ca8-fa2536354ea9
DTSTART;VALUE=DATE:20261221
DTEND;VALUE=DATE:20261226
DESCRIPTION:
LOCATION:
SUMMARY:No School
END:VEVENT
BEGIN:VEVENT
DTSTAMP:20260426T024146Z
UID:4df29fa3-2c2d-4464-8e1a-3dd1e5f635e5
DTSTART;VALUE=DATE:20261228
DTEND;VALUE=DATE:20270102
DESCRIPTION:
LOCATION:
SUMMARY:No School
END:VEVENT
BEGIN:VEVENT
DTSTAMP:20260426T024146Z
UID:194c7340-1354-484d-aeea-00d9aea9b2f0
DTSTART;VALUE=DATE:20270104
DTEND;VALUE=DATE:20270105
DESCRIPTION:
LOCATION:
SUMMARY:No School - Teacher Institute Day
END:VEVENT
BEGIN:VEVENT
DTSTAMP:20260426T024146Z
UID:5d7783d5-f735-45e8-9e70-1ee2870c18ee
DTSTART;VALUE=DATE:20270118
DTEND;VALUE=DATE:20270119
DESCRIPTION:
LOCATION:
SUMMARY:No School - Martin Luther King Day
END:VEVENT
BEGIN:VEVENT
DTSTAMP:20260426T024146Z
UID:81f75831-f6d5-4c5a-9173-ffde200679c5
DTSTART:20270121T180000
DTEND:20270121T190000
DESCRIPTION:
LOCATION:
SUMMARY:Board Meeting
END:VEVENT
BEGIN:VEVENT
DTSTAMP:20260426T024146Z
UID:b1b1802a-8762-4166-8ef2-8945c8839c76
DTSTART;VALUE=DATE:20270205
DTEND;VALUE=DATE:20270206
DESCRIPTION:
LOCATION:
SUMMARY:11:30 Dismissal - Half Day Student Attendance
END:VEVENT
BEGIN:VEVENT
DTSTAMP:20260426T024146Z
UID:aced4470-a96e-4915-bcb4-938443749c1d
DTSTART:20270205T123000
DTEND:20270205T150000
DESCRIPTION:
LOCATION:
SUMMARY:Parent/Teacher Conferences
END:VEVENT
BEGIN:VEVENT
DTSTAMP:20260426T024146Z
UID:88f37a0d-a761-4b85-8646-bb9ac542d152
DTSTART;VALUE=DATE:20270215
DTEND;VALUE=DATE:20270216
DESCRIPTION:
LOCATION:
SUMMARY:No School - Presidents' Day
END:VEVENT
BEGIN:VEVENT
DTSTAMP:20260426T024146Z
UID:3969c13e-99b1-4dca-b180-09e551ea5697
DTSTART:20270218T180000
DTEND:20270218T190000
DESCRIPTION:
LOCATION:
SUMMARY:Board Meeting
END:VEVENT
BEGIN:VEVENT
DTSTAMP:20260426T024146Z
UID:3ea95eea-7ae0-43df-b690-f375c281cd98
DTSTART;VALUE=DATE:20270305
DTEND;VALUE=DATE:20270306
DESCRIPTION:
LOCATION:
SUMMARY:11:30 Dismissal - Half Day Student Attendance
END:VEVENT
BEGIN:VEVENT
DTSTAMP:20260426T024146Z
UID:8f143aea-a353-4516-82a0-fffe989161d3
DTSTART;VALUE=DATE:20270305
DTEND;VALUE=DATE:20270306
DESCRIPTION:
LOCATION:
SUMMARY:End of 3rd Quarter
END:VEVENT
BEGIN:VEVENT
DTSTAMP:20260426T024146Z
UID:255ba22c-fcdb-4120-8d78-5cd27d541562
DTSTART:20270318T180000
DTEND:20270318T190000
DESCRIPTION:
LOCATION:
SUMMARY:Board Meeting
END:VEVENT
BEGIN:VEVENT
DTSTAMP:20260426T024146Z
UID:94daf7ee-b121-458f-879d-344413c5da27
DTSTART;VALUE=DATE:20270325
DTEND;VALUE=DATE:20270326
DESCRIPTION:<p>1:50 dismissal for Elementary and Middle School<br>2:00 dism
 issal for High School</p>
LOCATION:
SUMMARY:Early Dismissal - 1:50 dismissal for Elementary and Middle School\,
  2:00 dismissal for High School
END:VEVENT
BEGIN:VEVENT
DTSTAMP:20260426T024146Z
UID:6f004675-90da-41d6-a802-d4636ad1a083
DTSTART;VALUE=DATE:20270326
DTEND;VALUE=DATE:20270327
DESCRIPTION:
LOCATION:
SUMMARY:No School
END:VEVENT
BEGIN:VEVENT
DTSTAMP:20260426T024146Z
UID:49e2d904-f44f-4050-bd52-17cfee6bac43
DTSTART;VALUE=DATE:20270329
DTEND;VALUE=DATE:20270403
DESCRIPTION:
LOCATION:
SUMMARY:No School - Spring Break
END:VEVENT
BEGIN:VEVENT
DTSTAMP:20260426T024146Z
UID:928dcaa3-3871-4b94-b8d8-960c0d03d6ed
DTSTART:20270415T180000
DTEND:20270415T190000
DESCRIPTION:
LOCATION:
SUMMARY:Board Meeting
END:VEVENT
BEGIN:VEVENT
DTSTAMP:20260426T024146Z
UID:29c99ca9-04f1-46da-be43-eac8271aad0d
DTSTART;VALUE=DATE:20270507
DTEND;VALUE=DATE:20270508
DESCRIPTION:
LOCATION:
SUMMARY:11:30 Dismissal - Half Day Student Attendance
END:VEVENT
BEGIN:VEVENT
DTSTAMP:20260426T024146Z
UID:7b708401-6a1f-4cae-bd24-a796d3374cc9
DTSTART;VALUE=DATE:20270520
DTEND;VALUE=DATE:20270521
DESCRIPTION:
LOCATION:
SUMMARY:End of 4th Quarter/2nd Semester
END:VEVENT
BEGIN:VEVENT
DTSTAMP:20260426T024146Z
UID:0d2d0d33-f13f-4537-8dc7-29c96d0427ae
DTSTART;VALUE=DATE:20270520
DTEND;VALUE=DATE:20270521
DESCRIPTION:
LOCATION:
SUMMARY:Last Student Attendance Day (Tentative)
END:VEVENT
BEGIN:VEVENT
DTSTAMP:20260426T024146Z
UID:9011e685-a433-4398-9c08-0343618a4e12
DTSTART:20270520T180000
DTEND:20270520T190000
DESCRIPTION:
LOCATION:
SUMMARY:Board Meeting
END:VEVENT
BEGIN:VEVENT
DTSTAMP:20260426T024146Z
UID:5fcbe1de-b7cb-4740-9e24-e31f10d301ce
DTSTART;VALUE=DATE:20270521
DTEND;VALUE=DATE:20270522
DESCRIPTION:
LOCATION:
SUMMARY:No School - Teacher Institute Day
END:VEVENT
BEGIN:VEVENT
DTSTAMP:20260426T024146Z
UID:6a5f0ff3-c609-4180-a959-1ae706311e8e
DTSTART:20270617T180000
DTEND:20270617T190000
DESCRIPTION:
LOCATION:
SUMMARY:Board Meeting
END:VEVENT
BEGIN:VEVENT
DTSTAMP:20260426T024146Z
UID:da66a45c-8cfa-4620-b30e-18727eba2a9c
DTSTART:20270629T180000
DTEND:20270629T190000
DESCRIPTION:
LOCATION:
SUMMARY:Board Meeting
END:VEVENT
BEGIN:VEVENT
DTSTAMP:20260426T024146Z
UID:edcb1b90-bdfd-4f9f-ac1e-cd4ad9c63be6
DTSTART:20270715T180000
DTEND:20270715T190000
DESCRIPTION:
LOCATION:
SUMMARY:Board Meeting
END:VEVENT
BEGIN:VEVENT
DTSTAMP:20260426T024146Z
UID:93aba331-c73d-43b3-a052-68937f648843
DTSTART:20270819T180000
DTEND:20270819T190000
DESCRIPTION:
LOCATION:
SUMMARY:Board Meeting
END:VEVENT
BEGIN:VEVENT
DTSTAMP:20260426T024146Z
UID:eafc4b74-b365-4b91-aaec-4576f7a96cfc
DTSTART:20270916T180000
DTEND:20270916T190000
DESCRIPTION:
LOCATION:
SUMMARY:Board Meeting
END:VEVENT
BEGIN:VEVENT
DTSTAMP:20260426T024146Z
UID:687369c7-eedc-41c9-b64b-d03c45d7f5b6
DTSTART:20271021T180000
DTEND:20271021T190000
DESCRIPTION:
LOCATION:
SUMMARY:Board Meeting
END:VEVENT
BEGIN:VEVENT
DTSTAMP:20260426T024146Z
UID:b82462e8-95c8-42fc-af10-353a6ff8b13f
DTSTART:20271118T180000
DTEND:20271118T190000
DESCRIPTION:
LOCATION:
SUMMARY:Board Meeting
END:VEVENT
BEGIN:VEVENT
DTSTAMP:20260426T024146Z
UID:ecd91a8b-e7e9-45c0-90e8-8de19aa98118
DTSTART:20271216T180000
DTEND:20271216T190000
DESCRIPTION:
LOCATION:
SUMMARY:Board Meeting
END:VEVENT
END:VCALENDAR
