BEGIN:VCALENDAR
VERSION:2.0
PRODID:icalendar-ruby
CALSCALE:GREGORIAN
BEGIN:VTIMEZONE
TZID:America/New_York
BEGIN:DAYLIGHT
DTSTART:20260308T030000
TZOFFSETFROM:-0500
TZOFFSETTO:-0400
RRULE:FREQ=YEARLY;BYDAY=2SU;BYMONTH=3
TZNAME:EDT
END:DAYLIGHT
BEGIN:STANDARD
DTSTART:20261101T010000
TZOFFSETFROM:-0400
TZOFFSETTO:-0500
RRULE:FREQ=YEARLY;BYDAY=1SU;BYMONTH=11
TZNAME:EST
END:STANDARD
END:VTIMEZONE
BEGIN:VEVENT
DTSTAMP:20260424T102303Z
UID:b50694f5-029f-40e0-b379-f96fd8cf33b5
DTSTART:20260424T070000
DTEND:20260424T213000
DESCRIPTION:
LOCATION:
SUMMARY:8th Grade Field Trip to Charleston
END:VEVENT
BEGIN:VEVENT
DTSTAMP:20260424T102303Z
UID:dcc008f7-e585-4e5a-8839-51fcf8fd048a
DTSTART:20260424T080000
DTEND:20260424T081500
DESCRIPTION:
LOCATION:
SUMMARY:Football Interest Meeting for rising 7th graders
END:VEVENT
BEGIN:VEVENT
DTSTAMP:20260424T102303Z
UID:c61c6062-3688-4a39-a52f-cbdde756491f
DTSTART:20260425T070000
DTEND:20260425T213000
DESCRIPTION:
LOCATION:
SUMMARY:Chorus to Carowinds
END:VEVENT
BEGIN:VEVENT
DTSTAMP:20260424T102303Z
UID:1613ac79-a2a5-4ef2-b4ba-93dcccffee9d
DTSTART:20260428T183000
DTEND:20260428T200000
DESCRIPTION:GYM
LOCATION:Abner Creek Middle School\, 221 State Rd S-42-618\, Greer\, SC 296
 51\, USA
SUMMARY:ACM Band Concert
END:VEVENT
BEGIN:VEVENT
DTSTAMP:20260424T102303Z
UID:487a11b0-c68f-4226-b52c-3d48c735d098
DTSTART;VALUE=DATE:20260501
DTEND;VALUE=DATE:20260502
DESCRIPTION:
LOCATION:
SUMMARY:Fundamentals of Computing Exam
END:VEVENT
BEGIN:VEVENT
DTSTAMP:20260424T102303Z
UID:5a1207c7-0eae-4f92-88c3-c50c8682c5e7
DTSTART:20260501T080000
DTEND:20260501T110000
DESCRIPTION:
LOCATION:
SUMMARY:Sports Physicals at ACMS with ReGenesis Health Care
END:VEVENT
BEGIN:VEVENT
DTSTAMP:20260424T102303Z
UID:6b7fcbaa-7139-4561-9b83-26f05452e7fe
DTSTART:20260501T122000
DTEND:20260501T130000
DESCRIPTION:
LOCATION:
SUMMARY:Spanish 1 Final Exam
END:VEVENT
BEGIN:VEVENT
DTSTAMP:20260424T102303Z
UID:84531bf4-04d9-4e82-9ab7-62e5965c349e
DTSTART;VALUE=DATE:20260504
DTEND;VALUE=DATE:20260505
DESCRIPTION:
LOCATION:
SUMMARY:Teacher Appreciation Week!
END:VEVENT
BEGIN:VEVENT
DTSTAMP:20260424T102303Z
UID:8244a970-077d-4d9f-a339-5ddc7ed871f9
DTSTART;VALUE=DATE:20260504
DTEND;VALUE=DATE:20260509
DESCRIPTION:
LOCATION:
SUMMARY:Teacher Appreciation Week!
END:VEVENT
BEGIN:VEVENT
DTSTAMP:20260424T102303Z
UID:d0633759-9c67-418c-9829-b2605118bd79
DTSTART:20260504T160000
DTEND:20260504T183000
DESCRIPTION:
LOCATION:
SUMMARY:Cheer Tryouts
END:VEVENT
BEGIN:VEVENT
DTSTAMP:20260424T102303Z
UID:7f757c56-9e8e-42c1-9fa5-8feeb4a5bc4c
DTSTART:20260504T160000
DTEND:20260504T183000
DESCRIPTION:
LOCATION:James F. Byrnes High School\, 150 E Main St\, Duncan\, SC 29334\, 
 USA
SUMMARY:Cheer Tryouts
END:VEVENT
BEGIN:VEVENT
DTSTAMP:20260424T102303Z
UID:79d55a76-cc8b-446d-8504-26467dbf9c0e
DTSTART:20260504T180000
DTEND:20260504T190000
DESCRIPTION:
LOCATION:Fine Arts Center\, 5 20-06 #024.00\, Duncan\, SC 29334\, USA
SUMMARY:ACM Spring Orchestra Concert 
END:VEVENT
BEGIN:VEVENT
DTSTAMP:20260424T102303Z
UID:9aecaa9a-08f5-428e-85b6-2ed63de03348
DTSTART;VALUE=DATE:20260505
DTEND;VALUE=DATE:20260506
DESCRIPTION:
LOCATION:
SUMMARY:SCReady Testing (Reading)
END:VEVENT
BEGIN:VEVENT
DTSTAMP:20260424T102303Z
UID:c17eeed8-1c10-4956-86b4-e3d7626cdfa5
DTSTART:20260505T160000
DTEND:20260505T183000
DESCRIPTION:
LOCATION:James F. Byrnes High School\, 150 E Main St\, Duncan\, SC 29334\, 
 USA
SUMMARY:Cheer Tryouts
END:VEVENT
BEGIN:VEVENT
DTSTAMP:20260424T102303Z
UID:738d75c0-9854-4fc3-9848-e1fb9f120367
DTSTART;VALUE=DATE:20260506
DTEND;VALUE=DATE:20260507
DESCRIPTION:
LOCATION:
SUMMARY:SCReady Make up Testing
END:VEVENT
BEGIN:VEVENT
DTSTAMP:20260424T102303Z
UID:92595098-c94e-434b-a3e9-f2234c00b2ac
DTSTART:20260506T160000
DTEND:20260506T183000
DESCRIPTION:
LOCATION:James F. Byrnes High School\, 150 E Main St\, Duncan\, SC 29334\, 
 USA
SUMMARY:Cheer Tryouts
END:VEVENT
BEGIN:VEVENT
DTSTAMP:20260424T102303Z
UID:b4a2bf12-fe7d-418d-a3c0-e77968a05163
DTSTART:20260507T160000
DTEND:20260507T183000
DESCRIPTION:
LOCATION:James F. Byrnes High School\, 150 E Main St\, Duncan\, SC 29334\, 
 USA
SUMMARY:Cheer Tryouts
END:VEVENT
BEGIN:VEVENT
DTSTAMP:20260424T102303Z
UID:e582ea63-5a82-43bd-b0b3-fad0cb5a7ebf
DTSTART;VALUE=DATE:20260508
DTEND;VALUE=DATE:20260509
DESCRIPTION:
LOCATION:
SUMMARY:SCReady Testing (ELA Writing)
END:VEVENT
BEGIN:VEVENT
DTSTAMP:20260424T102303Z
UID:d6224bba-e70c-4c05-b128-44084b169b9b
DTSTART:20260508T160000
DTEND:20260508T183000
DESCRIPTION:
LOCATION:James F. Byrnes High School\, 150 E Main St\, Duncan\, SC 29334\, 
 USA
SUMMARY:Cheer Tryouts
END:VEVENT
BEGIN:VEVENT
DTSTAMP:20260424T102303Z
UID:3de825ae-a0c9-4592-8007-163746a1f454
DTSTART:20260509T080000
DTEND:20260509T220000
DESCRIPTION:
LOCATION:Carowinds\, North Carolina\, USA
SUMMARY:7th grade Orchestra to Carowinds
END:VEVENT
BEGIN:VEVENT
DTSTAMP:20260424T102303Z
UID:ab0b7389-32d0-4dbb-a3fd-b0a8525f13f4
DTSTART:20260511T153000
DTEND:20260511T163000
DESCRIPTION:
LOCATION:
SUMMARY:ACM Mascot Try-outs!
END:VEVENT
BEGIN:VEVENT
DTSTAMP:20260424T102303Z
UID:9d3b47dc-355b-4093-910c-eedb8d15b354
DTSTART;VALUE=DATE:20260512
DTEND;VALUE=DATE:20260513
DESCRIPTION:
LOCATION:
SUMMARY:SCReady Testing (Math)
END:VEVENT
BEGIN:VEVENT
DTSTAMP:20260424T102303Z
UID:80e7ccf6-a211-4c29-9407-1bac4a90ff9f
DTSTART:20260512T153000
DTEND:20260512T161500
DESCRIPTION:
LOCATION:
SUMMARY:Student Council Meeting
END:VEVENT
BEGIN:VEVENT
DTSTAMP:20260424T102303Z
UID:4deef0da-d7a0-481d-9244-00c50524c319
DTSTART:20260512T183000
DTEND:20260512T193000
DESCRIPTION:
LOCATION:Fine Arts Center\, 5 20-06 #024.00\, Duncan\, SC 29334\, USA
SUMMARY:ACM Chorus Concert (Time TBC)
END:VEVENT
BEGIN:VEVENT
DTSTAMP:20260424T102303Z
UID:3cc5a0ca-9a2c-4351-a30c-872fcabfad8d
DTSTART;VALUE=DATE:20260513
DTEND;VALUE=DATE:20260514
DESCRIPTION:
LOCATION:
SUMMARY:SCReady Make up Testing
END:VEVENT
BEGIN:VEVENT
DTSTAMP:20260424T102303Z
UID:b749d08d-8e62-41a1-8933-5274c660a9a4
DTSTART;VALUE=DATE:20260514
DTEND;VALUE=DATE:20260515
DESCRIPTION:
LOCATION:
SUMMARY:SCReady Testing (Science 6th grade)
END:VEVENT
BEGIN:VEVENT
DTSTAMP:20260424T102303Z
UID:446f3719-e904-4c40-a256-29244b7a3bc7
DTSTART:20260514T170000
DTEND:20260514T190000
DESCRIPTION:
LOCATION:
SUMMARY:Thespian Society Induction
END:VEVENT
BEGIN:VEVENT
DTSTAMP:20260424T102303Z
UID:8110c276-41c5-4986-a630-c31df15d4215
DTSTART;VALUE=DATE:20260515
DTEND;VALUE=DATE:20260516
DESCRIPTION:
LOCATION:
SUMMARY:SCReady Testing (Science 6th grade makeup)
END:VEVENT
BEGIN:VEVENT
DTSTAMP:20260424T102303Z
UID:e16a75bd-1686-47e8-9c1b-e6a293df6fb0
DTSTART:20260515T110000
DTEND:20260515T132000
DESCRIPTION:
LOCATION:
SUMMARY:AVID End-of-Year Cookout for Students (during grade-level lunch)
END:VEVENT
BEGIN:VEVENT
DTSTAMP:20260424T102303Z
UID:31e8d7e9-d8e0-4520-b4be-1cf6ba728642
DTSTART:20260516T080000
DTEND:20260516T220000
DESCRIPTION:
LOCATION:
SUMMARY:7th grade Band to Carowinds Festival of Music
END:VEVENT
BEGIN:VEVENT
DTSTAMP:20260424T102303Z
UID:115e36f3-fbf5-48db-824a-bd86c230a596
DTSTART;VALUE=DATE:20260518
DTEND;VALUE=DATE:20260519
DESCRIPTION:
LOCATION:
SUMMARY:Laptop Return Day
END:VEVENT
BEGIN:VEVENT
DTSTAMP:20260424T102303Z
UID:da0d0899-6451-4e51-92ab-d89a85e013f7
DTSTART;VALUE=DATE:20260518
DTEND;VALUE=DATE:20260519
DESCRIPTION:
LOCATION:
SUMMARY:SCReady Testing (makeup testing)
END:VEVENT
BEGIN:VEVENT
DTSTAMP:20260424T102303Z
UID:8f2be511-330d-4f26-bfcc-0dc1cf24b36b
DTSTART:20260518T083000
DTEND:20260518T170000
DESCRIPTION:Land activities only. No water.
LOCATION:
SUMMARY:7th grade Field Trip to US National White Water Rafting Center
END:VEVENT
BEGIN:VEVENT
DTSTAMP:20260424T102303Z
UID:9d96625e-5d3f-4247-81a2-d252f87e9c38
DTSTART:20260520T110000
DTEND:20260520T130000
DESCRIPTION:
LOCATION:
SUMMARY:Field Trip for 8th grade Spanish Students
END:VEVENT
BEGIN:VEVENT
DTSTAMP:20260424T102303Z
UID:1ba73c63-23b6-448b-9a16-b1ef4f9c7380
DTSTART;VALUE=DATE:20260521
DTEND;VALUE=DATE:20260522
DESCRIPTION:
LOCATION:
SUMMARY:Student Half Day / Early Dismissal at 12:00
END:VEVENT
BEGIN:VEVENT
DTSTAMP:20260424T102303Z
UID:8610a982-4ef4-4298-b94d-f09b4dd4ccf3
DTSTART:20260521T083000
DTEND:20260521T120000
DESCRIPTION:
LOCATION:
SUMMARY:8th Grade Awards (parents invited)
END:VEVENT
BEGIN:VEVENT
DTSTAMP:20260424T102303Z
UID:3a12e4e7-4c74-4358-b848-b3025c88022a
DTSTART:20260521T114500
DTEND:20260521T121500
DESCRIPTION:
LOCATION:
SUMMARY:Student Half Day / Early Dismissal at 12pm
END:VEVENT
BEGIN:VEVENT
DTSTAMP:20260424T102303Z
UID:9b3ca822-bd42-4663-84d7-e61d59048559
DTSTART;VALUE=DATE:20260522
DTEND;VALUE=DATE:20260523
DESCRIPTION:
LOCATION:
SUMMARY:Final Day of 2025-2026 / Student Half Day / Early Dismissal at 12:0
 0
END:VEVENT
BEGIN:VEVENT
DTSTAMP:20260424T102303Z
UID:df2097b4-6e89-4abd-96e5-960eb98945fe
DTSTART:20260522T114500
DTEND:20260522T121500
DESCRIPTION:
LOCATION:
SUMMARY:Student Half Day / Early Dismissal at 12pm
END:VEVENT
BEGIN:VEVENT
DTSTAMP:20260424T102303Z
UID:4347493a-4a12-45a9-aca3-4b609f49e878
DTSTART;VALUE=DATE:20260525
DTEND;VALUE=DATE:20260526
DESCRIPTION:
LOCATION:
SUMMARY:MEMORIAL DAY
END:VEVENT
BEGIN:VEVENT
DTSTAMP:20260424T102303Z
UID:fae3f28e-39a8-462e-a68c-20e668ef1a5b
DTSTART;VALUE=DATE:20260526
DTEND;VALUE=DATE:20260527
DESCRIPTION:
LOCATION:
SUMMARY:Report Cards
END:VEVENT
BEGIN:VEVENT
DTSTAMP:20260424T102303Z
UID:0f85a0df-0edb-4cec-b7cd-9bce1f540614
DTSTART;VALUE=DATE:20260526
DTEND;VALUE=DATE:20260527
DESCRIPTION:
LOCATION:
SUMMARY:Staff Development Day
END:VEVENT
BEGIN:VEVENT
DTSTAMP:20260424T102303Z
UID:1abd6144-6367-445b-8a71-c7e8b13e5951
DTSTART;VALUE=DATE:20260806
DTEND;VALUE=DATE:20260807
DESCRIPTION:
LOCATION:
SUMMARY:SCHOOL YEAR 2026/2027 STARTS
END:VEVENT
BEGIN:VEVENT
DTSTAMP:20260424T102303Z
UID:ae6ac0e6-b252-48df-8afd-454eeda99d5a
DTSTART:20260923T120000
DTEND:20260923T130000
DESCRIPTION:
LOCATION:
SUMMARY:Early Release Day ( dismissal)
END:VEVENT
BEGIN:VEVENT
DTSTAMP:20260424T102303Z
UID:342f7ff0-9fa3-4688-914c-3a866fa3aefb
DTSTART;VALUE=DATE:20261002
DTEND;VALUE=DATE:20261003
DESCRIPTION:
LOCATION:
SUMMARY:Professional Development Day--No Students
END:VEVENT
BEGIN:VEVENT
DTSTAMP:20260424T102303Z
UID:dd71a5e2-75c9-4209-84e8-c1b571682406
DTSTART;VALUE=DATE:20270503
DTEND;VALUE=DATE:20270518
DESCRIPTION:
LOCATION:
SUMMARY:SCReady Testing Window
END:VEVENT
END:VCALENDAR
