BEGIN:VCALENDAR
VERSION:2.0
PRODID:icalendar-ruby
CALSCALE:GREGORIAN
BEGIN:VTIMEZONE
TZID:America/New_York
BEGIN:DAYLIGHT
DTSTART:20260308T030000
TZOFFSETFROM:-0500
TZOFFSETTO:-0400
RRULE:FREQ=YEARLY;BYDAY=2SU;BYMONTH=3
TZNAME:EDT
END:DAYLIGHT
BEGIN:STANDARD
DTSTART:20261101T010000
TZOFFSETFROM:-0400
TZOFFSETTO:-0500
RRULE:FREQ=YEARLY;BYDAY=1SU;BYMONTH=11
TZNAME:EST
END:STANDARD
END:VTIMEZONE
BEGIN:VEVENT
DTSTAMP:20260423T081849Z
UID:16233f3f-ad7b-41bc-ac22-ecc7303a56fa
DTSTART;VALUE=DATE:20260423
DTEND;VALUE=DATE:20260424
DESCRIPTION:
LOCATION:
SUMMARY:Midterm Reports Sent Home (Grades 2\, 3\, 4\, and 5)
END:VEVENT
BEGIN:VEVENT
DTSTAMP:20260423T081849Z
UID:9731bd4a-e1d7-423c-a70a-a97368a205c6
DTSTART;VALUE=DATE:20260504
DTEND;VALUE=DATE:20260509
DESCRIPTION:
LOCATION:
SUMMARY:Teacher Appreciation Week
END:VEVENT
BEGIN:VEVENT
DTSTAMP:20260423T081849Z
UID:f2b8e338-50ed-4725-a076-61e24893b5bd
DTSTART;VALUE=DATE:20260505
DTEND;VALUE=DATE:20260506
DESCRIPTION:
LOCATION:
SUMMARY:SCReady Reading Part A (Grades 3\, 4\, and 5)
END:VEVENT
BEGIN:VEVENT
DTSTAMP:20260423T081849Z
UID:a18ee3d1-7d60-4425-87cf-d0e0fdbd45c0
DTSTART;VALUE=DATE:20260506
DTEND;VALUE=DATE:20260507
DESCRIPTION:
LOCATION:
SUMMARY:SCReady Reading Part B (Grades 3\, 4\, and 5)
END:VEVENT
BEGIN:VEVENT
DTSTAMP:20260423T081849Z
UID:e7308bdc-5eb4-46d8-886b-ee1bd902ea68
DTSTART;VALUE=DATE:20260508
DTEND;VALUE=DATE:20260509
DESCRIPTION:
LOCATION:
SUMMARY:Last Day to Check Out Library Books
END:VEVENT
BEGIN:VEVENT
DTSTAMP:20260423T081849Z
UID:c2d6c744-df96-4e20-aeba-84e83fdfe194
DTSTART;VALUE=DATE:20260508
DTEND;VALUE=DATE:20260509
DESCRIPTION:
LOCATION:
SUMMARY:SCReady Writing (Grades 3\, 4\, and 5)
END:VEVENT
BEGIN:VEVENT
DTSTAMP:20260423T081849Z
UID:c9b763c1-2cd3-474c-a3d8-c695bd206f51
DTSTART;VALUE=DATE:20260512
DTEND;VALUE=DATE:20260513
DESCRIPTION:
LOCATION:
SUMMARY:SCReady Math Part A (Grades 3\, 4\, and 5)
END:VEVENT
BEGIN:VEVENT
DTSTAMP:20260423T081849Z
UID:bbe03adb-071a-4807-9f90-756ead034ce1
DTSTART;VALUE=DATE:20260513
DTEND;VALUE=DATE:20260514
DESCRIPTION:
LOCATION:
SUMMARY:SCReady Math Part B (Grades 3\, 4\, and 5)
END:VEVENT
BEGIN:VEVENT
DTSTAMP:20260423T081849Z
UID:bbe008be-09e3-43ce-8eba-8370a1027b00
DTSTART:20260513T074500
DTEND:20260513T084500
DESCRIPTION:
LOCATION:
SUMMARY:K5 Awards Day
END:VEVENT
BEGIN:VEVENT
DTSTAMP:20260423T081849Z
UID:16ab83e8-74ef-4c29-ab75-6300903bf666
DTSTART;VALUE=DATE:20260514
DTEND;VALUE=DATE:20260515
DESCRIPTION:
LOCATION:
SUMMARY:SCReady Science (Grade 4)
END:VEVENT
BEGIN:VEVENT
DTSTAMP:20260423T081849Z
UID:3466aa71-a703-448a-a56e-70a44a5d130f
DTSTART;VALUE=DATE:20260515
DTEND;VALUE=DATE:20260516
DESCRIPTION:
LOCATION:
SUMMARY:Field Day
END:VEVENT
BEGIN:VEVENT
DTSTAMP:20260423T081849Z
UID:81952316-1d54-40b7-91c5-112f84ad588d
DTSTART;VALUE=DATE:20260515
DTEND;VALUE=DATE:20260516
DESCRIPTION:
LOCATION:
SUMMARY:Library Books Due
END:VEVENT
BEGIN:VEVENT
DTSTAMP:20260423T081849Z
UID:a3948f24-47e1-45cd-bcb6-63e467c0c0b3
DTSTART:20260518T074500
DTEND:20260518T084500
DESCRIPTION:
LOCATION:
SUMMARY:1st Grade Awards Day
END:VEVENT
BEGIN:VEVENT
DTSTAMP:20260423T081849Z
UID:dd7420f1-5099-4676-80e9-1fe616c68c01
DTSTART:20260518T091500
DTEND:20260518T101500
DESCRIPTION:
LOCATION:
SUMMARY:2nd Grade Awards Day
END:VEVENT
BEGIN:VEVENT
DTSTAMP:20260423T081849Z
UID:b90a9a2d-66c1-4b6c-b754-089fd1f151af
DTSTART:20260519T074500
DTEND:20260519T084500
DESCRIPTION:
LOCATION:
SUMMARY:3rd Grade Awards Day
END:VEVENT
BEGIN:VEVENT
DTSTAMP:20260423T081849Z
UID:9d9c54bb-c8d8-4fb9-ba37-09fa35d07dcc
DTSTART:20260519T091500
DTEND:20260519T101500
DESCRIPTION:
LOCATION:
SUMMARY:4th Grade Awards Day
END:VEVENT
BEGIN:VEVENT
DTSTAMP:20260423T081849Z
UID:dbc2bb41-73ef-49bd-9c43-d4b2feef7b8b
DTSTART:20260520T074500
DTEND:20260520T084500
DESCRIPTION:
LOCATION:
SUMMARY:5th Grade Awards Day
END:VEVENT
BEGIN:VEVENT
DTSTAMP:20260423T081849Z
UID:82d499f1-2b7c-45e1-8ea3-b2dccd23ba85
DTSTART;VALUE=DATE:20260521
DTEND;VALUE=DATE:20260522
DESCRIPTION:
LOCATION:
SUMMARY:Half Day for Students (Dismiss at 11:30am)
END:VEVENT
BEGIN:VEVENT
DTSTAMP:20260423T081849Z
UID:7119e394-d87b-4983-82f9-ea7e72a1b3db
DTSTART;VALUE=DATE:20260522
DTEND;VALUE=DATE:20260523
DESCRIPTION:
LOCATION:
SUMMARY:Last Day for Students (Dismiss at 11:30am)
END:VEVENT
BEGIN:VEVENT
DTSTAMP:20260423T081849Z
UID:90b7e1eb-42c7-41f7-9f83-fc87b1085a68
DTSTART;VALUE=DATE:20260525
DTEND;VALUE=DATE:20260526
DESCRIPTION:
LOCATION:
SUMMARY:No School - Memorial Day Holiday
END:VEVENT
BEGIN:VEVENT
DTSTAMP:20260423T081849Z
UID:7594d4a0-0a58-4329-8b14-4cffd1b0e440
DTSTART;VALUE=DATE:20260806
DTEND;VALUE=DATE:20260807
DESCRIPTION:
LOCATION:
SUMMARY:First Day of School Year
END:VEVENT
BEGIN:VEVENT
DTSTAMP:20260423T081849Z
UID:0d751ee2-29c2-4969-94f6-af511e787e54
DTSTART;VALUE=DATE:20260907
DTEND;VALUE=DATE:20260908
DESCRIPTION:
LOCATION:
SUMMARY:Labor Day Holiday - No School for Students
END:VEVENT
BEGIN:VEVENT
DTSTAMP:20260423T081849Z
UID:d58cad84-82bd-493b-a84c-deb05943776e
DTSTART;VALUE=DATE:20260923
DTEND;VALUE=DATE:20260924
DESCRIPTION:
LOCATION:
SUMMARY:Early Release Day
END:VEVENT
BEGIN:VEVENT
DTSTAMP:20260423T081849Z
UID:ea124182-883f-450f-973e-0de45a02ad52
DTSTART;VALUE=DATE:20261002
DTEND;VALUE=DATE:20261003
DESCRIPTION:
LOCATION:
SUMMARY:Staff Development/Make-Up Day
END:VEVENT
BEGIN:VEVENT
DTSTAMP:20260423T081849Z
UID:eb5c78dd-4518-4868-b369-ec53ce88518e
DTSTART;VALUE=DATE:20261015
DTEND;VALUE=DATE:20261017
DESCRIPTION:
LOCATION:
SUMMARY:Fall Break
END:VEVENT
BEGIN:VEVENT
DTSTAMP:20260423T081849Z
UID:f54142ce-5d3d-4ca3-867f-fad98e7f2227
DTSTART;VALUE=DATE:20261102
DTEND;VALUE=DATE:20261103
DESCRIPTION:
LOCATION:
SUMMARY:Staff Development/Make-Up Day
END:VEVENT
BEGIN:VEVENT
DTSTAMP:20260423T081849Z
UID:894cd863-3f9b-4245-b1f1-9ecd20b64cad
DTSTART;VALUE=DATE:20261103
DTEND;VALUE=DATE:20261104
DESCRIPTION:
LOCATION:
SUMMARY:Election Day Holiday - No School for Students
END:VEVENT
BEGIN:VEVENT
DTSTAMP:20260423T081849Z
UID:f86da919-7e72-40ef-9f6f-f14e44e2b62c
DTSTART;VALUE=DATE:20261125
DTEND;VALUE=DATE:20261128
DESCRIPTION:
LOCATION:
SUMMARY:Thanksgiving Holidays - No School for Students
END:VEVENT
BEGIN:VEVENT
DTSTAMP:20260423T081849Z
UID:10e2c624-2a6b-4d07-aae4-36bab2d7c1c4
DTSTART;VALUE=DATE:20261221
DTEND;VALUE=DATE:20270102
DESCRIPTION:
LOCATION:
SUMMARY:Winter Holidays - No School for Students
END:VEVENT
BEGIN:VEVENT
DTSTAMP:20260423T081849Z
UID:9c8394ad-ce24-46ff-8c48-37ded68241fa
DTSTART;VALUE=DATE:20270104
DTEND;VALUE=DATE:20270105
DESCRIPTION:
LOCATION:
SUMMARY:Staff Development Day/Make-Up Day
END:VEVENT
BEGIN:VEVENT
DTSTAMP:20260423T081849Z
UID:e8ba930f-b211-4d20-9c15-3cadeca80956
DTSTART;VALUE=DATE:20270106
DTEND;VALUE=DATE:20270107
DESCRIPTION:
LOCATION:
SUMMARY:90th Day of School
END:VEVENT
BEGIN:VEVENT
DTSTAMP:20260423T081849Z
UID:08d9f83e-c74e-4085-9eff-65c2a847b068
DTSTART;VALUE=DATE:20270107
DTEND;VALUE=DATE:20270108
DESCRIPTION:
LOCATION:
SUMMARY:Report Cards
END:VEVENT
BEGIN:VEVENT
DTSTAMP:20260423T081849Z
UID:b6918123-17a7-4568-a684-dc27d6b8a5e1
DTSTART;VALUE=DATE:20270118
DTEND;VALUE=DATE:20270119
DESCRIPTION:
LOCATION:
SUMMARY:MLK Day Holiday - No School for Students
END:VEVENT
BEGIN:VEVENT
DTSTAMP:20260423T081849Z
UID:a6941280-19a2-4231-b210-33ccfb031289
DTSTART;VALUE=DATE:20270203
DTEND;VALUE=DATE:20270204
DESCRIPTION:
LOCATION:
SUMMARY:Early Release Day
END:VEVENT
BEGIN:VEVENT
DTSTAMP:20260423T081849Z
UID:10280ac9-d909-4661-a03d-525a7d73863a
DTSTART;VALUE=DATE:20270209
DTEND;VALUE=DATE:20270210
DESCRIPTION:
LOCATION:
SUMMARY:Interim Reports
END:VEVENT
BEGIN:VEVENT
DTSTAMP:20260423T081849Z
UID:45850c53-35cb-4e80-860e-d5383a87eb10
DTSTART;VALUE=DATE:20270215
DTEND;VALUE=DATE:20270220
DESCRIPTION:
LOCATION:
SUMMARY:Midwinter Break - No School for Students
END:VEVENT
BEGIN:VEVENT
DTSTAMP:20260423T081849Z
UID:73e1516d-1c7c-4f54-8203-ef9f5f6525f0
DTSTART;VALUE=DATE:20270315
DTEND;VALUE=DATE:20270316
DESCRIPTION:
LOCATION:
SUMMARY:Staff Development/Make-Up Day
END:VEVENT
BEGIN:VEVENT
DTSTAMP:20260423T081849Z
UID:ae169d19-17c0-45aa-b073-8cda18149602
DTSTART;VALUE=DATE:20270319
DTEND;VALUE=DATE:20270320
DESCRIPTION:
LOCATION:
SUMMARY:135 Day of School
END:VEVENT
BEGIN:VEVENT
DTSTAMP:20260423T081849Z
UID:12782535-4a3a-4f83-b93f-5e29111c115b
DTSTART;VALUE=DATE:20270324
DTEND;VALUE=DATE:20270325
DESCRIPTION:
LOCATION:
SUMMARY:Report Cards
END:VEVENT
BEGIN:VEVENT
DTSTAMP:20260423T081849Z
UID:7dd92233-a954-4eca-b617-531ba09c6da3
DTSTART;VALUE=DATE:20270405
DTEND;VALUE=DATE:20270410
DESCRIPTION:
LOCATION:
SUMMARY:Spring Break Holiday - No School for Students
END:VEVENT
BEGIN:VEVENT
DTSTAMP:20260423T081849Z
UID:eff9f302-f8a5-4dfc-8cbe-c31354ca545d
DTSTART;VALUE=DATE:20270527
DTEND;VALUE=DATE:20270528
DESCRIPTION:
LOCATION:
SUMMARY:Half Day for Students
END:VEVENT
BEGIN:VEVENT
DTSTAMP:20260423T081849Z
UID:92c3c4c7-8158-431a-baa4-712288288c93
DTSTART;VALUE=DATE:20270528
DTEND;VALUE=DATE:20270529
DESCRIPTION:
LOCATION:
SUMMARY:Last Day for Students/Half Day
END:VEVENT
END:VCALENDAR
