BEGIN:VCALENDAR
VERSION:2.0
PRODID:icalendar-ruby
CALSCALE:GREGORIAN
BEGIN:VTIMEZONE
TZID:America/Phoenix
BEGIN:STANDARD
DTSTART:19671029T010000
TZOFFSETFROM:-0600
TZOFFSETTO:-0700
TZNAME:MST
END:STANDARD
END:VTIMEZONE
BEGIN:VEVENT
DTSTAMP:20260419T171725Z
UID:e82c6a88-5855-4a5e-bba6-c4cb8c2341fe
DTSTART;VALUE=DATE:20260422
DTEND;VALUE=DATE:20260423
DESCRIPTION:
LOCATION:
SUMMARY:Administrative Professionals Day
END:VEVENT
BEGIN:VEVENT
DTSTAMP:20260419T171725Z
UID:7f5af453-ebe9-401a-8cf8-878615e27d27
DTSTART;VALUE=DATE:20260423
DTEND;VALUE=DATE:20260424
DESCRIPTION:
LOCATION:
SUMMARY:7th Grade to Manzanita Outreach
END:VEVENT
BEGIN:VEVENT
DTSTAMP:20260419T171725Z
UID:7147ff83-cc9b-4eed-8d47-cc2f1337f928
DTSTART;VALUE=DATE:20260428
DTEND;VALUE=DATE:20260429
DESCRIPTION:
LOCATION:
SUMMARY:Bus Driver Appreciation Day
END:VEVENT
BEGIN:VEVENT
DTSTAMP:20260419T171725Z
UID:51b00152-dec3-45f8-9ac3-b0bf28080f8c
DTSTART;VALUE=DATE:20260430
DTEND;VALUE=DATE:20260501
DESCRIPTION:
LOCATION:
SUMMARY:7th Grade to Manzanita Outreach
END:VEVENT
BEGIN:VEVENT
DTSTAMP:20260419T171725Z
UID:15bd95c5-d242-42a7-af4a-84b1be2b9ad6
DTSTART;VALUE=DATE:20260501
DTEND;VALUE=DATE:20260502
DESCRIPTION:
LOCATION:
SUMMARY:Fair Day No School
END:VEVENT
BEGIN:VEVENT
DTSTAMP:20260419T171725Z
UID:f19ebc40-6d69-43cf-9c25-950420806bff
DTSTART;VALUE=DATE:20260501
DTEND;VALUE=DATE:20260502
DESCRIPTION:
LOCATION:
SUMMARY:Principal's Day
END:VEVENT
BEGIN:VEVENT
DTSTAMP:20260419T171725Z
UID:89174473-fc9a-4c92-a89f-a680b1cf2bd6
DTSTART;VALUE=DATE:20260504
DTEND;VALUE=DATE:20260509
DESCRIPTION:
LOCATION:
SUMMARY:Teacher Appreciation Week
END:VEVENT
BEGIN:VEVENT
DTSTAMP:20260419T171725Z
UID:1001c9a0-1415-4e11-aab6-619ce3fce30d
DTSTART;VALUE=DATE:20260506
DTEND;VALUE=DATE:20260507
DESCRIPTION:
LOCATION:
SUMMARY:School Nurse Day
END:VEVENT
BEGIN:VEVENT
DTSTAMP:20260419T171725Z
UID:1864dd6d-fd70-4c71-a1a2-4a3313208325
DTSTART;VALUE=DATE:20260507
DTEND;VALUE=DATE:20260508
DESCRIPTION:
LOCATION:
SUMMARY:7th Grade to Manzanita Outreach
END:VEVENT
BEGIN:VEVENT
DTSTAMP:20260419T171725Z
UID:c5e4c822-edf0-4390-b12f-0040bc643cbc
DTSTART:20260507T110000
DTEND:20260507T133000
DESCRIPTION:
LOCATION:1 N Willard St\, Cottonwood\, AZ 86326\, USA
SUMMARY:3rd Grade Field Trip @ District Office 
END:VEVENT
BEGIN:VEVENT
DTSTAMP:20260419T171725Z
UID:f25e9f35-68ef-4e1e-846b-c52b15da1101
DTSTART;VALUE=DATE:20260514
DTEND;VALUE=DATE:20260515
DESCRIPTION:
LOCATION:
SUMMARY:7th Grade to Manzanita Outreach
END:VEVENT
BEGIN:VEVENT
DTSTAMP:20260419T171725Z
UID:766d0107-8b9c-427b-82a5-64ba406b3b38
DTSTART;VALUE=DATE:20260518
DTEND;VALUE=DATE:20260519
DESCRIPTION:
LOCATION:
SUMMARY:Speech Pathologist Day
END:VEVENT
BEGIN:VEVENT
DTSTAMP:20260419T171725Z
UID:a36c185f-fee9-46ef-abdd-0d63326d3960
DTSTART:20260518T090000
DTEND:20260518T100000
DESCRIPTION:
LOCATION:
SUMMARY:Kindergarten Promotion
END:VEVENT
BEGIN:VEVENT
DTSTAMP:20260419T171725Z
UID:86e089a1-65ca-499d-96fb-3436a89a22ee
DTSTART:20260518T180000
DTEND:20260518T190000
DESCRIPTION:
LOCATION:
SUMMARY:CCS Promotion
END:VEVENT
BEGIN:VEVENT
DTSTAMP:20260419T171725Z
UID:ae11f8cb-b972-4de5-b16d-d24040ccc133
DTSTART;VALUE=DATE:20260519
DTEND;VALUE=DATE:20260520
DESCRIPTION:
LOCATION:
SUMMARY:Field Day
END:VEVENT
BEGIN:VEVENT
DTSTAMP:20260419T171725Z
UID:6ff7638d-683c-43b0-8953-f5c7f9ed2f1d
DTSTART;VALUE=DATE:20260521
DTEND;VALUE=DATE:20260522
DESCRIPTION:
LOCATION:
SUMMARY:Last Day of School 1/2 Day Early Release
END:VEVENT
END:VCALENDAR
