BEGIN:VCALENDAR
VERSION:2.0
PRODID:icalendar-ruby
CALSCALE:GREGORIAN
BEGIN:VTIMEZONE
TZID:America/Chicago
BEGIN:DAYLIGHT
DTSTART:20260308T030000
TZOFFSETFROM:-0600
TZOFFSETTO:-0500
RRULE:FREQ=YEARLY;BYDAY=2SU;BYMONTH=3
TZNAME:CDT
END:DAYLIGHT
BEGIN:STANDARD
DTSTART:20261101T010000
TZOFFSETFROM:-0500
TZOFFSETTO:-0600
RRULE:FREQ=YEARLY;BYDAY=1SU;BYMONTH=11
TZNAME:CST
END:STANDARD
END:VTIMEZONE
BEGIN:VEVENT
DTSTAMP:20260423T085531Z
UID:f207a09e-ff40-4398-96fa-f0f514817ecd
DTSTART;VALUE=DATE:20260419
DTEND;VALUE=DATE:20260426
DESCRIPTION:
LOCATION:
SUMMARY:Volunteer Recognition Week
END:VEVENT
BEGIN:VEVENT
DTSTAMP:20260423T085531Z
UID:f8f30c40-8dbc-4c12-93b5-a0014d1160cc
DTSTART;VALUE=DATE:20260424
DTEND;VALUE=DATE:20260425
DESCRIPTION:
LOCATION:
SUMMARY:26/27 PK Screening
END:VEVENT
BEGIN:VEVENT
DTSTAMP:20260423T085531Z
UID:6d7254b0-1454-444c-b1e6-3f45b613643e
DTSTART;VALUE=DATE:20260424
DTEND;VALUE=DATE:20260425
DESCRIPTION:
LOCATION:
SUMMARY:N.E. Pre-K Spring Screening
END:VEVENT
BEGIN:VEVENT
DTSTAMP:20260423T085531Z
UID:964c49c6-7f1b-4929-902e-3dbcfc075652
DTSTART;VALUE=DATE:20260426
DTEND;VALUE=DATE:20260427
DESCRIPTION:
LOCATION:
SUMMARY:STAR Testing Week
END:VEVENT
BEGIN:VEVENT
DTSTAMP:20260423T085531Z
UID:3f8dbc90-34ef-4423-9e50-caa0977a8a1e
DTSTART;VALUE=DATE:20260427
DTEND;VALUE=DATE:20260428
DESCRIPTION:
LOCATION:
SUMMARY:STAR Testing
END:VEVENT
BEGIN:VEVENT
DTSTAMP:20260423T085531Z
UID:80593cfd-8242-452a-9488-a9394d38cc92
DTSTART;VALUE=DATE:20260429
DTEND;VALUE=DATE:20260430
DESCRIPTION:
LOCATION:
SUMMARY:Math & Science Night
END:VEVENT
BEGIN:VEVENT
DTSTAMP:20260423T085531Z
UID:a6e1dd38-ac5d-4bd9-bf88-76a7b2813d31
DTSTART:20260429T173000
DTEND:20260429T183000
DESCRIPTION:
LOCATION:
SUMMARY:NE Math and Science Night
END:VEVENT
BEGIN:VEVENT
DTSTAMP:20260423T085531Z
UID:7ee42b22-7102-4489-9743-54e7274f2fba
DTSTART;VALUE=DATE:20260430
DTEND;VALUE=DATE:20260501
DESCRIPTION:
LOCATION:
SUMMARY:Courageous Smiles Track Meet
END:VEVENT
BEGIN:VEVENT
DTSTAMP:20260423T085531Z
UID:9ed954b5-db8a-42c8-8b75-f8b8b27e4dc3
DTSTART;VALUE=DATE:20260430
DTEND;VALUE=DATE:20260501
DESCRIPTION:
LOCATION:
SUMMARY:Courageous Smiles Track Meet
END:VEVENT
BEGIN:VEVENT
DTSTAMP:20260423T085531Z
UID:58c8662a-0482-4a56-bf37-c4577c1842ca
DTSTART;VALUE=DATE:20260501
DTEND;VALUE=DATE:20260502
DESCRIPTION:
LOCATION:
SUMMARY:School Principals Day
END:VEVENT
BEGIN:VEVENT
DTSTAMP:20260423T085531Z
UID:6d9ad0be-4ba3-4b86-b94e-f9b0ea392d02
DTSTART;VALUE=DATE:20260502
DTEND;VALUE=DATE:20260503
DESCRIPTION:
LOCATION:
SUMMARY:School Lunch Heroes Day
END:VEVENT
BEGIN:VEVENT
DTSTAMP:20260423T085531Z
UID:b84ffcb1-282f-4911-9e08-374876a669d2
DTSTART;VALUE=DATE:20260504
DTEND;VALUE=DATE:20260509
DESCRIPTION:
LOCATION:
SUMMARY:Teacher Appreciation Week
END:VEVENT
BEGIN:VEVENT
DTSTAMP:20260423T085531Z
UID:a1c00dc8-b05f-4374-b47e-2beb2f79994a
DTSTART;VALUE=DATE:20260506
DTEND;VALUE=DATE:20260507
DESCRIPTION:
LOCATION:
SUMMARY:Fine Arts Night
END:VEVENT
BEGIN:VEVENT
DTSTAMP:20260423T085531Z
UID:ccd8da82-703c-4362-a7da-676b5f2afc79
DTSTART;VALUE=DATE:20260506
DTEND;VALUE=DATE:20260507
DESCRIPTION:
LOCATION:
SUMMARY:N.E. Spring Fine Arts Night
END:VEVENT
BEGIN:VEVENT
DTSTAMP:20260423T085531Z
UID:45c32c68-2b60-4726-9f6d-93ca1c3ad41d
DTSTART;VALUE=DATE:20260506
DTEND;VALUE=DATE:20260507
DESCRIPTION:
LOCATION:
SUMMARY:School Nurse Day
END:VEVENT
BEGIN:VEVENT
DTSTAMP:20260423T085531Z
UID:0b39ebc4-b89e-4aee-9403-a2e1d2d6e2db
DTSTART;VALUE=DATE:20260507
DTEND;VALUE=DATE:20260508
DESCRIPTION:
LOCATION:
SUMMARY:Jr/Sr Spring Concert-7 pm
END:VEVENT
BEGIN:VEVENT
DTSTAMP:20260423T085531Z
UID:97d78532-330d-497f-96f4-08d0deda212f
DTSTART;VALUE=DATE:20260512
DTEND;VALUE=DATE:20260513
DESCRIPTION:
LOCATION:
SUMMARY:PK Promotion
END:VEVENT
BEGIN:VEVENT
DTSTAMP:20260423T085531Z
UID:9de255d0-2698-44c5-8be1-c6fb915167d6
DTSTART:20260512T160000
DTEND:20260512T180000
DESCRIPTION:
LOCATION:
SUMMARY:SE Spring Fine Arts Night K-3 6:00 pm\, 7:00 pm
END:VEVENT
BEGIN:VEVENT
DTSTAMP:20260423T085531Z
UID:976cf2c3-e954-4f3e-a758-7229d8d2494d
DTSTART;VALUE=DATE:20260514
DTEND;VALUE=DATE:20260515
DESCRIPTION:
LOCATION:
SUMMARY:S.E. ARC Showcase K-6
END:VEVENT
BEGIN:VEVENT
DTSTAMP:20260423T085531Z
UID:d5e861c8-3073-4858-be1e-ca6e06318a34
DTSTART;VALUE=DATE:20260515
DTEND;VALUE=DATE:20260516
DESCRIPTION:
LOCATION:
SUMMARY:S.E. 6th Grade Science Fair
END:VEVENT
BEGIN:VEVENT
DTSTAMP:20260423T085531Z
UID:3fee3a79-80c0-4898-85c1-e027c5dae2c8
DTSTART:20260515T080000
DTEND:20260515T123000
DESCRIPTION:
LOCATION:
SUMMARY:SIP (early dismissal) 12:30pm
END:VEVENT
BEGIN:VEVENT
DTSTAMP:20260423T085531Z
UID:e310d699-5eab-4951-8932-fa2bc28d093d
DTSTART:20260515T123000
DTEND:20260515T133000
DESCRIPTION:
LOCATION:
SUMMARY:SIP Day\, Early Dismissal
END:VEVENT
BEGIN:VEVENT
DTSTAMP:20260423T085531Z
UID:73494c72-32ec-4b0d-bc94-277478f7e22a
DTSTART;VALUE=DATE:20260518
DTEND;VALUE=DATE:20260519
DESCRIPTION:
LOCATION:
SUMMARY:Speech Language Pathologist Day
END:VEVENT
BEGIN:VEVENT
DTSTAMP:20260423T085531Z
UID:c3e6e062-36b1-43c5-92d4-b15454388000
DTSTART;VALUE=DATE:20260519
DTEND;VALUE=DATE:20260522
DESCRIPTION:
LOCATION:
SUMMARY:HS 2nd Semester Final Exams
END:VEVENT
BEGIN:VEVENT
DTSTAMP:20260423T085531Z
UID:eff98106-39a9-4e9a-b937-aaee81e32f9a
DTSTART:20260521T080000
DTEND:20260521T151000
DESCRIPTION:
LOCATION:
SUMMARY:Last Students Attendance Day (if NO emergency days)
END:VEVENT
BEGIN:VEVENT
DTSTAMP:20260423T085531Z
UID:a8a24b7e-4820-4ad1-b462-8fb643bd97d8
DTSTART;VALUE=DATE:20260525
DTEND;VALUE=DATE:20260526
DESCRIPTION:
LOCATION:
SUMMARY:No School (Memorial Day)
END:VEVENT
BEGIN:VEVENT
DTSTAMP:20260423T085531Z
UID:4a3addcd-c27b-45aa-b189-951692ed04e5
DTSTART:20260528T080000
DTEND:20260528T151000
DESCRIPTION:
LOCATION:
SUMMARY:Last Students Attendance Day (ALL emergency days)
END:VEVENT
END:VCALENDAR
