BEGIN:VCALENDAR
VERSION:2.0
PRODID:icalendar-ruby
CALSCALE:GREGORIAN
BEGIN:VTIMEZONE
TZID:America/Juneau
BEGIN:DAYLIGHT
DTSTART:20260308T030000
TZOFFSETFROM:-0900
TZOFFSETTO:-0800
RRULE:FREQ=YEARLY;BYDAY=2SU;BYMONTH=3
TZNAME:AKDT
END:DAYLIGHT
BEGIN:STANDARD
DTSTART:20261101T010000
TZOFFSETFROM:-0800
TZOFFSETTO:-0900
RRULE:FREQ=YEARLY;BYDAY=1SU;BYMONTH=11
TZNAME:AKST
END:STANDARD
END:VTIMEZONE
BEGIN:VEVENT
DTSTAMP:20260421T042756Z
UID:564c4276-a3db-4ce4-b0f5-bec3326ce995
DTSTART:20260420T151500
DTEND:20260420T171500
DESCRIPTION:
LOCATION:
SUMMARY:Track Practice HS Gym
END:VEVENT
BEGIN:VEVENT
DTSTAMP:20260421T042756Z
UID:8a06a4ab-cf7c-472a-bc5c-48762cf4928e
DTSTART:20260421T073000
DTEND:20260421T083000
DESCRIPTION:<strong>Dillingham High School – Front Office Area</strong> 
 <br><br>Start your morning with coffee\, snacks\, and good conversation wi
 th students\, staff\, and community members. All are welcome! Sponsored by
  SAFE\, DCSD\, and local partners.
LOCATION:
SUMMARY:MUG - UP
END:VEVENT
BEGIN:VEVENT
DTSTAMP:20260421T042756Z
UID:6ed95379-1906-4b97-a642-13623317fd12
DTSTART:20260421T083000
DTEND:20260421T163000
DESCRIPTION:
LOCATION:HS Gym
SUMMARY:Bristol Bay Community Resource Forum
END:VEVENT
BEGIN:VEVENT
DTSTAMP:20260421T042756Z
UID:518a992c-cf72-481d-a4c5-97928d68a679
DTSTART:20260421T151500
DTEND:20260421T171500
DESCRIPTION:
LOCATION:
SUMMARY:Track Practice HS Gym
END:VEVENT
BEGIN:VEVENT
DTSTAMP:20260421T042756Z
UID:c1923ba5-c2fc-4371-b950-e3b4d22a247d
DTSTART:20260422T163000
DTEND:20260422T203000
DESCRIPTION:
LOCATION:Wolverine Den
SUMMARY:Pee Wee Wrestling Finals 
END:VEVENT
BEGIN:VEVENT
DTSTAMP:20260421T042756Z
UID:efe4c82f-ebe5-4313-b69f-86c853bc754f
DTSTART;VALUE=DATE:20260423
DTEND;VALUE=DATE:20260424
DESCRIPTION:Wear your Qaspeq to school every Thursday!  Showcase the skill
  of sewers from across Bristol Bay and beyond.  Celebrate our culture and
  community together!
LOCATION:
SUMMARY:Qaspeq Thursdays!
END:VEVENT
BEGIN:VEVENT
DTSTAMP:20260421T042756Z
UID:928bcb7f-9d22-4524-8088-9ae97b5a3b9b
DTSTART;VALUE=DATE:20260423
DTEND;VALUE=DATE:20260426
DESCRIPTION:
LOCATION:Juneau\, AK\nUnited States
SUMMARY:Spring AASG
END:VEVENT
BEGIN:VEVENT
DTSTAMP:20260421T042756Z
UID:b950e0da-17c6-47f4-bdd7-049e10915735
DTSTART:20260423T151500
DTEND:20260423T171500
DESCRIPTION:
LOCATION:
SUMMARY:Track Practice HS Gym
END:VEVENT
BEGIN:VEVENT
DTSTAMP:20260421T042756Z
UID:ce546208-94ed-478f-92d2-f52a8c8daa56
DTSTART:20260423T173000
DTEND:20260423T180000
DESCRIPTION:<p dir="auto">Join us for a community-wide read sponsored by Fe
 deral Programs!</p><p><br></p><p>We’re reading:</p><p>• The Anxious Ge
 neration</p><p>• The Amazing Generation</p><p><br></p><p>These books exp
 lore how phones and technology impact our brains—especially for youth.</
 p><p><br></p><p>📖 Books available at:</p><p>• DCSD District Office 
 – Federal Programs</p><p>• Dillingham Public Library</p><p><br></p><p>
 📅 Book Talk: April 23\, 2026 at 5:30 PM</p><p>📍 District Office (l
 ight refreshments provided)</p><p><br></p><p dir="auto">For Kindle/audio c
 opies: <a href="mailto:rchaney@dlgdsd.org" target="_blank">rchaney@dlgdsd
 .org</a></p><p>Come read with us and be part of the conversation!<br></p>
LOCATION:
SUMMARY:📚 Community Read & Book Talk
END:VEVENT
BEGIN:VEVENT
DTSTAMP:20260421T042756Z
UID:1a4b5ed1-99c4-4359-8cec-0eb46ef7b986
DTSTART:20260424T141500
DTEND:20260424T161500
DESCRIPTION:
LOCATION:
SUMMARY:Track Practice MS Gym
END:VEVENT
BEGIN:VEVENT
DTSTAMP:20260421T042756Z
UID:10019ae3-1051-41df-afc6-76f8fa71719d
DTSTART:20260425T090000
DTEND:20260425T110000
DESCRIPTION:
LOCATION:
SUMMARY:Track Practice HS Gym
END:VEVENT
BEGIN:VEVENT
DTSTAMP:20260421T042756Z
UID:e9871244-ca3c-4f5c-9bbc-1a6f888704f0
DTSTART:20260425T110000
DTEND:20260425T130000
DESCRIPTION:<strong>Saturday\, April 25 • 11:00 AM–12:00 PM</strong> <
 strong>DCSD District Office</strong> <br>Bring your coolest local rock fi
 nds\, create a display\, identify and label specimens\, and chat with a lo
 cal geologist. Materials provided.
LOCATION:
SUMMARY:Rock & Gem Show
END:VEVENT
BEGIN:VEVENT
DTSTAMP:20260421T042756Z
UID:21e1e98b-df37-47ac-ac5e-a9bebc33cb4b
DTSTART:20260427T151500
DTEND:20260427T171500
DESCRIPTION:
LOCATION:
SUMMARY:Track Practice HS Gym
END:VEVENT
BEGIN:VEVENT
DTSTAMP:20260421T042756Z
UID:0199cb2a-cfd8-408a-9cb2-6b7f39cfbe1b
DTSTART:20260427T180000
DTEND:20260427T190000
DESCRIPTION:
LOCATION:
SUMMARY:School Board Meeting
END:VEVENT
BEGIN:VEVENT
DTSTAMP:20260421T042756Z
UID:00f1d016-19c4-40e2-9ad5-eb5258847581
DTSTART:20260428T151500
DTEND:20260428T171500
DESCRIPTION:
LOCATION:
SUMMARY:Track Practice HS Gym
END:VEVENT
BEGIN:VEVENT
DTSTAMP:20260421T042756Z
UID:4374acb7-52c3-493c-aa61-e8c34687fed6
DTSTART;VALUE=DATE:20260430
DTEND;VALUE=DATE:20260501
DESCRIPTION:Wear your Qaspeq to school every Thursday!  Showcase the skill
  of sewers from across Bristol Bay and beyond.  Celebrate our culture and
  community together!
LOCATION:
SUMMARY:Qaspeq Thursdays!
END:VEVENT
BEGIN:VEVENT
DTSTAMP:20260421T042756Z
UID:6427edec-80f7-426c-916d-706a75a41b14
DTSTART:20260430T151500
DTEND:20260430T171500
DESCRIPTION:
LOCATION:
SUMMARY:Track Practice HS Gym
END:VEVENT
BEGIN:VEVENT
DTSTAMP:20260421T042756Z
UID:cc5a9d59-948e-4774-93d6-fd0c57118c74
DTSTART:20260501T141500
DTEND:20260501T161500
DESCRIPTION:
LOCATION:
SUMMARY:Track Practice HS Gym
END:VEVENT
BEGIN:VEVENT
DTSTAMP:20260421T042756Z
UID:d5d0510e-e809-42ab-9cf9-3ade29332a39
DTSTART:20260502T090000
DTEND:20260502T140000
DESCRIPTION:
LOCATION:
SUMMARY:Mothers Day Bazaar
END:VEVENT
BEGIN:VEVENT
DTSTAMP:20260421T042756Z
UID:97338ee2-d067-461b-b087-8a70b4277020
DTSTART:20260502T090000
DTEND:20260502T110000
DESCRIPTION:
LOCATION:
SUMMARY:Track Practice HS Gym
END:VEVENT
BEGIN:VEVENT
DTSTAMP:20260421T042756Z
UID:8efe0ad1-bc93-4d62-a937-d8321ba47a21
DTSTART:20260504T150000
DTEND:20260504T183000
DESCRIPTION:
LOCATION:
SUMMARY:After School Program End of Year Learning Celebration
END:VEVENT
BEGIN:VEVENT
DTSTAMP:20260421T042756Z
UID:11fcd999-6537-47fd-9e4b-caeb5d011e05
DTSTART:20260504T151500
DTEND:20260504T171500
DESCRIPTION:
LOCATION:
SUMMARY:Track Practice HS Gym
END:VEVENT
BEGIN:VEVENT
DTSTAMP:20260421T042756Z
UID:328182b7-fe49-4156-8755-afe647046da2
DTSTART:20260504T183000
DTEND:20260504T203000
DESCRIPTION:
LOCATION:
SUMMARY:BBRCTE Intensive Week  MS Gym
END:VEVENT
BEGIN:VEVENT
DTSTAMP:20260421T042756Z
UID:239063b0-0eb1-4392-8964-7ee4f7b1eae5
DTSTART:20260505T151500
DTEND:20260505T171500
DESCRIPTION:
LOCATION:
SUMMARY:Track Practice HS Gym
END:VEVENT
BEGIN:VEVENT
DTSTAMP:20260421T042756Z
UID:ff5e303b-4734-4d8e-bcac-1a4f629ffb32
DTSTART:20260506T180000
DTEND:20260506T193000
DESCRIPTION:
LOCATION:Wolverine Den
SUMMARY:Spring Concert
END:VEVENT
BEGIN:VEVENT
DTSTAMP:20260421T042756Z
UID:9987f8fa-896a-4542-9efb-7c44bad3626f
DTSTART;VALUE=DATE:20260507
DTEND;VALUE=DATE:20260508
DESCRIPTION:Wear your Qaspeq to school every Thursday!  Showcase the skill
  of sewers from across Bristol Bay and beyond.  Celebrate our culture and
  community together!
LOCATION:
SUMMARY:Qaspeq Thursdays!
END:VEVENT
BEGIN:VEVENT
DTSTAMP:20260421T042756Z
UID:e3847da8-af51-4bc1-bbfa-30206fee05bf
DTSTART:20260507T151500
DTEND:20260507T171500
DESCRIPTION:
LOCATION:
SUMMARY:Track Practice HS Gym
END:VEVENT
BEGIN:VEVENT
DTSTAMP:20260421T042756Z
UID:12a19137-776e-49b4-8fbc-6344fcefbf0c
DTSTART:20260508T141500
DTEND:20260508T161500
DESCRIPTION:
LOCATION:
SUMMARY:Track Practice HS Gym
END:VEVENT
BEGIN:VEVENT
DTSTAMP:20260421T042756Z
UID:6673bccd-1cd1-45ae-b668-1b15195932a7
DTSTART:20260509T090000
DTEND:20260509T110000
DESCRIPTION:
LOCATION:
SUMMARY:Track Practice HS Gym
END:VEVENT
BEGIN:VEVENT
DTSTAMP:20260421T042756Z
UID:eecbc41b-0702-43e3-a4aa-87bbbdd8b992
DTSTART:20260509T200000
DTEND:20260509T220000
DESCRIPTION:
LOCATION:
SUMMARY:Prom
END:VEVENT
BEGIN:VEVENT
DTSTAMP:20260421T042756Z
UID:82b9462c-0dab-4128-8eb1-c0ea30d6d466
DTSTART:20260511T151500
DTEND:20260511T171500
DESCRIPTION:
LOCATION:
SUMMARY:Track Practice HS Gym
END:VEVENT
BEGIN:VEVENT
DTSTAMP:20260421T042756Z
UID:bd877f3d-05ed-4bd6-9f70-d0bdb1b3ba90
DTSTART:20260511T180000
DTEND:20260511T190000
DESCRIPTION:
LOCATION:
SUMMARY:School Board Meeting
END:VEVENT
BEGIN:VEVENT
DTSTAMP:20260421T042756Z
UID:5f47e9eb-116f-43a8-b53c-7b5801414e19
DTSTART:20260512T151500
DTEND:20260512T171500
DESCRIPTION:
LOCATION:
SUMMARY:Track Practice HS Gym
END:VEVENT
BEGIN:VEVENT
DTSTAMP:20260421T042756Z
UID:23d3dae8-20fa-4cdf-bb03-b605350a13e4
DTSTART:20260512T173000
DTEND:20260512T190000
DESCRIPTION:
LOCATION:
SUMMARY:DPAC Annual Meeting
END:VEVENT
BEGIN:VEVENT
DTSTAMP:20260421T042756Z
UID:d9a6ee85-236d-4c6c-bea4-809879a16082
DTSTART:20260513T140000
DTEND:20260513T150000
DESCRIPTION:
LOCATION:HS Gym
SUMMARY:HS Academic Awards
END:VEVENT
BEGIN:VEVENT
DTSTAMP:20260421T042756Z
UID:50d6c58c-13c3-4b83-ab71-fad690614a83
DTSTART;VALUE=DATE:20260514
DTEND;VALUE=DATE:20260515
DESCRIPTION:Wear your Qaspeq to school every Thursday!  Showcase the skill
  of sewers from across Bristol Bay and beyond.  Celebrate our culture and
  community together!
LOCATION:
SUMMARY:Qaspeq Thursdays!
END:VEVENT
BEGIN:VEVENT
DTSTAMP:20260421T042756Z
UID:e6b3aa05-fbaa-49f9-bb97-1202378399f7
DTSTART:20260514T151500
DTEND:20260514T171500
DESCRIPTION:
LOCATION:
SUMMARY:Track Practice HS Gym
END:VEVENT
BEGIN:VEVENT
DTSTAMP:20260421T042756Z
UID:de8d6ae4-a750-4993-ae3d-19cb2dd44f92
DTSTART:20260515T151500
DTEND:20260515T171500
DESCRIPTION:
LOCATION:
SUMMARY:Track Practice HS Gym
END:VEVENT
BEGIN:VEVENT
DTSTAMP:20260421T042756Z
UID:9e8038b2-40d7-4bea-a038-e07e3c95eb7d
DTSTART:20260515T183000
DTEND:20260515T200000
DESCRIPTION:
LOCATION:
SUMMARY:Graduation
END:VEVENT
BEGIN:VEVENT
DTSTAMP:20260421T042756Z
UID:a43a2844-6d0c-4b2e-ab14-eb3e2bf7d585
DTSTART:20260516T090000
DTEND:20260516T110000
DESCRIPTION:
LOCATION:
SUMMARY:Track Practice HS Gym
END:VEVENT
BEGIN:VEVENT
DTSTAMP:20260421T042756Z
UID:7d36b15c-337f-4d75-8b7e-022573b48165
DTSTART:20260518T151500
DTEND:20260518T171500
DESCRIPTION:
LOCATION:
SUMMARY:Track Practice HS Gym
END:VEVENT
BEGIN:VEVENT
DTSTAMP:20260421T042756Z
UID:1f9b9429-d7f4-4985-8e23-be19be3a08d3
DTSTART:20260519T151500
DTEND:20260519T171500
DESCRIPTION:
LOCATION:
SUMMARY:Track Practice HS Gym
END:VEVENT
BEGIN:VEVENT
DTSTAMP:20260421T042756Z
UID:0982595a-59a8-4559-9a0c-cdc6882150bc
DTSTART:20260519T180000
DTEND:20260519T190000
DESCRIPTION:
LOCATION:DMS Gym
SUMMARY:HS Activities Banquet
END:VEVENT
BEGIN:VEVENT
DTSTAMP:20260421T042756Z
UID:57e84b7e-2b2f-4718-ac3d-ab9d06bf662a
DTSTART:20260520T140000
DTEND:20260520T150000
DESCRIPTION:
LOCATION:HS Gym
SUMMARY:MS Academic/Activities Awards
END:VEVENT
BEGIN:VEVENT
DTSTAMP:20260421T042756Z
UID:09fcc22e-0582-4fd3-b85e-4cc535df75ec
DTSTART:20260520T180000
DTEND:20260520T200000
DESCRIPTION:
LOCATION:Middle Schol Gym
SUMMARY:8th Grade Promotion
END:VEVENT
BEGIN:VEVENT
DTSTAMP:20260421T042756Z
UID:27f52448-b957-4900-b86e-e0d3096de469
DTSTART;VALUE=DATE:20260521
DTEND;VALUE=DATE:20260522
DESCRIPTION:Wear your Qaspeq to school every Thursday!  Showcase the skill
  of sewers from across Bristol Bay and beyond.  Celebrate our culture and
  community together!
LOCATION:
SUMMARY:Qaspeq Thursdays!
END:VEVENT
BEGIN:VEVENT
DTSTAMP:20260421T042756Z
UID:8146ee5a-0dc6-429d-b2a6-d5f2a8299b42
DTSTART;VALUE=DATE:20260522
DTEND;VALUE=DATE:20260524
DESCRIPTION:
LOCATION:Fairbanks\, AK\nUnited States
SUMMARY:Track & Field Regional Meet
END:VEVENT
BEGIN:VEVENT
DTSTAMP:20260421T042756Z
UID:2b2b7e1f-36de-4398-a953-50ed1a449523
DTSTART:20260525T151500
DTEND:20260525T171500
DESCRIPTION:
LOCATION:
SUMMARY:Track Practice HS Gym
END:VEVENT
BEGIN:VEVENT
DTSTAMP:20260421T042756Z
UID:3a1f9da6-3f4c-42b0-ab5c-a30b628a8180
DTSTART:20260526T151500
DTEND:20260526T171500
DESCRIPTION:
LOCATION:
SUMMARY:Track Practice HS Gym
END:VEVENT
BEGIN:VEVENT
DTSTAMP:20260421T042756Z
UID:e553723e-a264-4317-811c-e8acb5091257
DTSTART:20260528T151500
DTEND:20260528T171500
DESCRIPTION:
LOCATION:
SUMMARY:Track Practice HS Gym
END:VEVENT
BEGIN:VEVENT
DTSTAMP:20260421T042756Z
UID:aea868f8-a353-4433-8c98-c1c33bb0d338
DTSTART:20260529T151500
DTEND:20260529T171500
DESCRIPTION:
LOCATION:
SUMMARY:Track Practice HS Gym
END:VEVENT
BEGIN:VEVENT
DTSTAMP:20260421T042756Z
UID:8c8685d4-f458-4d93-ae48-ff1997df0d34
DTSTART:20260530T090000
DTEND:20260530T110000
DESCRIPTION:
LOCATION:
SUMMARY:Track Practice HS Gym
END:VEVENT
BEGIN:VEVENT
DTSTAMP:20260421T042756Z
UID:8a735812-166b-4433-9f07-98b71d90073d
DTSTART;VALUE=DATE:20260926
DTEND;VALUE=DATE:20260927
DESCRIPTION:
LOCATION:Manokotak\, AK\nUnited States
SUMMARY:Cross Country Regionals 
END:VEVENT
BEGIN:VEVENT
DTSTAMP:20260421T042756Z
UID:fa8a57e5-1183-48b7-9912-3ea1a3f19b76
DTSTART;VALUE=DATE:20261003
DTEND;VALUE=DATE:20261004
DESCRIPTION:
LOCATION:TBD
SUMMARY:State Cross Country
END:VEVENT
BEGIN:VEVENT
DTSTAMP:20260421T042756Z
UID:61aaa332-74f3-4a11-8003-144465793d6c
DTSTART;VALUE=DATE:20261119
DTEND;VALUE=DATE:20261122
DESCRIPTION:
LOCATION:Wolverine Den
SUMMARY:Southwest Volleyball Regionals in Dillingham
END:VEVENT
BEGIN:VEVENT
DTSTAMP:20260421T042756Z
UID:5420c593-4f7b-43c6-8824-42655258e078
DTSTART;VALUE=DATE:20261212
DTEND;VALUE=DATE:20261213
DESCRIPTION:
LOCATION:Wolverine Den
SUMMARY:Sockeye Wrestling Regionals in Dillingham
END:VEVENT
BEGIN:VEVENT
DTSTAMP:20260421T042756Z
UID:365e14fd-addd-402f-a2d9-cf684f79b783
DTSTART;VALUE=DATE:20270304
DTEND;VALUE=DATE:20270307
DESCRIPTION:
LOCATION:Dimond High School\n2909 W 88th Ave\, Anchorage\, AK  99502\, Unit
 ed States
SUMMARY:2A Basketball Regionals
END:VEVENT
BEGIN:VEVENT
DTSTAMP:20260421T042756Z
UID:2f0a5208-ceec-47f8-9eeb-1d65e2aeab13
DTSTART;VALUE=DATE:20270422
DTEND;VALUE=DATE:20270425
DESCRIPTION:
LOCATION:Alaska Airlines Center\n3550 Providence Dr\, Anchorage\, AK 99508\
 , United States
SUMMARY:State NYO
END:VEVENT
END:VCALENDAR
