BEGIN:VCALENDAR
VERSION:2.0
PRODID:icalendar-ruby
CALSCALE:GREGORIAN
BEGIN:VTIMEZONE
TZID:America/New_York
BEGIN:DAYLIGHT
DTSTART:20260308T030000
TZOFFSETFROM:-0500
TZOFFSETTO:-0400
RRULE:FREQ=YEARLY;BYDAY=2SU;BYMONTH=3
TZNAME:EDT
END:DAYLIGHT
BEGIN:STANDARD
DTSTART:20261101T010000
TZOFFSETFROM:-0400
TZOFFSETTO:-0500
RRULE:FREQ=YEARLY;BYDAY=1SU;BYMONTH=11
TZNAME:EST
END:STANDARD
END:VTIMEZONE
BEGIN:VEVENT
DTSTAMP:20260423T165756Z
UID:c7678013-f801-44ba-b037-4cdcd66f0842
DTSTART;VALUE=DATE:20260401
DTEND;VALUE=DATE:20260501
DESCRIPTION:
LOCATION:
SUMMARY:Check In Window
END:VEVENT
BEGIN:VEVENT
DTSTAMP:20260423T165756Z
UID:5fc37def-e2e0-4460-aad2-eb9439d239c1
DTSTART;VALUE=DATE:20260423
DTEND;VALUE=DATE:20260424
DESCRIPTION:
LOCATION:
SUMMARY:Baseball/Softball at Mt Airy
END:VEVENT
BEGIN:VEVENT
DTSTAMP:20260423T165756Z
UID:aabe35be-74f2-4be8-a491-3c348fc53577
DTSTART;VALUE=DATE:20260423
DTEND;VALUE=DATE:20260424
DESCRIPTION:
LOCATION:
SUMMARY:Check-Ins 8th Science
END:VEVENT
BEGIN:VEVENT
DTSTAMP:20260423T165756Z
UID:bb1f13df-2e57-4671-b1e7-b6c2f1d3e8fb
DTSTART;VALUE=DATE:20260501
DTEND;VALUE=DATE:20260502
DESCRIPTION:
LOCATION:
SUMMARY:Special Olympics
END:VEVENT
BEGIN:VEVENT
DTSTAMP:20260423T165756Z
UID:64fdbcfc-b454-46c2-b4a0-6aece3d064a9
DTSTART;VALUE=DATE:20260501
DTEND;VALUE=DATE:20260502
DESCRIPTION:
LOCATION:
SUMMARY:Freaky Friday
END:VEVENT
BEGIN:VEVENT
DTSTAMP:20260423T165756Z
UID:6dcca300-bc93-40a6-8205-c42368309ea3
DTSTART;VALUE=DATE:20260504
DTEND;VALUE=DATE:20260509
DESCRIPTION:
LOCATION:
SUMMARY:Staff Appreciation Week
END:VEVENT
BEGIN:VEVENT
DTSTAMP:20260423T165756Z
UID:dfb47233-167f-4a94-b8d3-9cacb7c45f6f
DTSTART;VALUE=DATE:20260508
DTEND;VALUE=DATE:20260509
DESCRIPTION:
LOCATION:
SUMMARY:8th Grade Formal
END:VEVENT
BEGIN:VEVENT
DTSTAMP:20260423T165756Z
UID:0abae87d-b8c1-4ba7-bd88-e8a346bfd111
DTSTART;VALUE=DATE:20260511
DTEND;VALUE=DATE:20260512
DESCRIPTION:
LOCATION:
SUMMARY:SIT Meeting (Media Center)
END:VEVENT
BEGIN:VEVENT
DTSTAMP:20260423T165756Z
UID:b1ec13b5-6b60-42a4-9c7c-205014be5fb0
DTSTART:20260514T190000
DTEND:20260514T200000
DESCRIPTION:
LOCATION:
SUMMARY:Spring Band Concert
END:VEVENT
BEGIN:VEVENT
DTSTAMP:20260423T165756Z
UID:a7f7b5a6-3a79-4d28-8932-71505bfc324d
DTSTART;VALUE=DATE:20260515
DTEND;VALUE=DATE:20260530
DESCRIPTION:
LOCATION:
SUMMARY:EOG Testing Window
END:VEVENT
BEGIN:VEVENT
DTSTAMP:20260423T165756Z
UID:f51c3b66-5670-4835-b0bb-329b8036b894
DTSTART:20260520T123000
DTEND:20260520T133000
DESCRIPTION:
LOCATION:
SUMMARY:Sports Physical Day
END:VEVENT
BEGIN:VEVENT
DTSTAMP:20260423T165756Z
UID:b5d2ef71-c3f6-4c1e-b201-ab5025e18754
DTSTART;VALUE=DATE:20260522
DTEND;VALUE=DATE:20260523
DESCRIPTION:
LOCATION:
SUMMARY:Field Day
END:VEVENT
BEGIN:VEVENT
DTSTAMP:20260423T165756Z
UID:abba549b-5668-4549-8147-4467677cb123
DTSTART;VALUE=DATE:20260525
DTEND;VALUE=DATE:20260526
DESCRIPTION:
LOCATION:
SUMMARY:Memorial Day Holiday
END:VEVENT
BEGIN:VEVENT
DTSTAMP:20260423T165756Z
UID:cce0eefc-a80f-420e-b176-0acaf5872eab
DTSTART:20260526T180000
DTEND:20260526T190000
DESCRIPTION:
LOCATION:
SUMMARY:SSMS Athletic Awards
END:VEVENT
BEGIN:VEVENT
DTSTAMP:20260423T165756Z
UID:5e078110-2025-4116-869a-01c1112c970e
DTSTART;VALUE=DATE:20260528
DTEND;VALUE=DATE:20260529
DESCRIPTION:
LOCATION:
SUMMARY:Awards Day at SSMS
END:VEVENT
BEGIN:VEVENT
DTSTAMP:20260423T165756Z
UID:4daf7896-b58a-48a5-bdf9-4502b1499081
DTSTART;VALUE=DATE:20260528
DTEND;VALUE=DATE:20260529
DESCRIPTION:
LOCATION:
SUMMARY:Q4 Report Cards
END:VEVENT
BEGIN:VEVENT
DTSTAMP:20260423T165756Z
UID:4e0740c6-81da-4ee8-be04-bb2827e36ff1
DTSTART;VALUE=DATE:20260529
DTEND;VALUE=DATE:20260530
DESCRIPTION:
LOCATION:
SUMMARY:Early Dismissal (12:10)
END:VEVENT
BEGIN:VEVENT
DTSTAMP:20260423T165756Z
UID:82ceb391-5c9c-4e8c-b5e1-088e8b635a00
DTSTART;VALUE=DATE:20260529
DTEND;VALUE=DATE:20260530
DESCRIPTION:
LOCATION:
SUMMARY:End of Q4
END:VEVENT
BEGIN:VEVENT
DTSTAMP:20260423T165756Z
UID:c6807469-38c1-4f55-9cc5-10c9549e6793
DTSTART;VALUE=DATE:20260529
DTEND;VALUE=DATE:20260530
DESCRIPTION:
LOCATION:
SUMMARY:Last Student Day
END:VEVENT
BEGIN:VEVENT
DTSTAMP:20260423T165756Z
UID:69b413f4-cadb-4628-97a5-8037a8f199a9
DTSTART;VALUE=DATE:20260722
DTEND;VALUE=DATE:20260724
DESCRIPTION:
LOCATION:
SUMMARY:Camp Middle School
END:VEVENT
END:VCALENDAR
