BEGIN:VCALENDAR
VERSION:2.0
PRODID:icalendar-ruby
CALSCALE:GREGORIAN
BEGIN:VTIMEZONE
TZID:America/New_York
BEGIN:DAYLIGHT
DTSTART:20260308T030000
TZOFFSETFROM:-0500
TZOFFSETTO:-0400
RRULE:FREQ=YEARLY;BYDAY=2SU;BYMONTH=3
TZNAME:EDT
END:DAYLIGHT
BEGIN:STANDARD
DTSTART:20261101T010000
TZOFFSETFROM:-0400
TZOFFSETTO:-0500
RRULE:FREQ=YEARLY;BYDAY=1SU;BYMONTH=11
TZNAME:EST
END:STANDARD
END:VTIMEZONE
BEGIN:VEVENT
DTSTAMP:20260420T201055Z
UID:aed5f64e-5653-401e-9974-dde5da001e43
DTSTART:20260420T173000
DTEND:20260420T183000
DESCRIPTION:
LOCATION:
SUMMARY:Soccer vs Surry Central
END:VEVENT
BEGIN:VEVENT
DTSTAMP:20260420T201055Z
UID:0d1bcd79-f57f-48d7-8ba4-3e017201c643
DTSTART:20260420T180000
DTEND:20260420T190000
DESCRIPTION:
LOCATION:
SUMMARY:Baseball vs Elkin
END:VEVENT
BEGIN:VEVENT
DTSTAMP:20260420T201055Z
UID:8ac468fc-d9fa-4151-82d1-0c657e525202
DTSTART:20260421T160000
DTEND:20260421T170000
DESCRIPTION:
LOCATION:
SUMMARY:Softball @ Chatham Central
END:VEVENT
BEGIN:VEVENT
DTSTAMP:20260420T201055Z
UID:2a03aa35-d9d1-481c-8907-143f7b544f6f
DTSTART:20260421T180000
DTEND:20260421T190000
DESCRIPTION:
LOCATION:
SUMMARY:Soccer vs South Davidson
END:VEVENT
BEGIN:VEVENT
DTSTAMP:20260420T201055Z
UID:c6e940e0-17d6-44c2-9245-02d24dd7e9e3
DTSTART;VALUE=DATE:20260422
DTEND;VALUE=DATE:20260423
DESCRIPTION:Periods: 1st\, 3rd\, &amp\; 4th
LOCATION:
SUMMARY:NC Check-Ins: Math I 
END:VEVENT
BEGIN:VEVENT
DTSTAMP:20260420T201055Z
UID:d612672d-b0c9-45bb-8d63-403d337976b6
DTSTART:20260422T160000
DTEND:20260422T200000
DESCRIPTION:Bishop McGuinness\nSouth Stokes\nWS Prep\nCornerstone\nMillenni
 um
LOCATION:
SUMMARY:North Stokes Home Track Meet #2
END:VEVENT
BEGIN:VEVENT
DTSTAMP:20260420T201055Z
UID:684319db-e6d0-4a00-85e6-88bffd186853
DTSTART:20260422T180000
DTEND:20260422T190000
DESCRIPTION:
LOCATION:
SUMMARY:Baseball @ East Wilkes
END:VEVENT
BEGIN:VEVENT
DTSTAMP:20260420T201055Z
UID:1aaecb11-72fc-49e1-8f4a-d68ccf5921e1
DTSTART;VALUE=DATE:20260423
DTEND;VALUE=DATE:20260424
DESCRIPTION:
LOCATION:
SUMMARY:Fire Tech Field Trip 
END:VEVENT
BEGIN:VEVENT
DTSTAMP:20260420T201055Z
UID:65d80d8f-2b59-46bf-9444-2f0d20289011
DTSTART:20260423T170000
DTEND:20260423T180000
DESCRIPTION:
LOCATION:
SUMMARY:Soccer @ South Davidson
END:VEVENT
BEGIN:VEVENT
DTSTAMP:20260420T201055Z
UID:c3432f77-ac05-4466-92b9-c6017fe5388b
DTSTART:20260423T180000
DTEND:20260423T190000
DESCRIPTION:
LOCATION:
SUMMARY:Softball vs Phoenix Academy 
END:VEVENT
BEGIN:VEVENT
DTSTAMP:20260420T201055Z
UID:0551dd67-17c9-4380-8e58-0839c4f0c22c
DTSTART:20260424T160000
DTEND:20260424T200000
DESCRIPTION:
LOCATION:
SUMMARY:Central Carolina MS Track Championships
END:VEVENT
BEGIN:VEVENT
DTSTAMP:20260420T201055Z
UID:df1bcf96-b391-4d71-995a-62b656eb5a8b
DTSTART:20260424T160000
DTEND:20260424T170000
DESCRIPTION:
LOCATION:
SUMMARY:Softball @ South Davidson
END:VEVENT
BEGIN:VEVENT
DTSTAMP:20260420T201055Z
UID:0801a9e3-a544-4f0f-a98a-4896f9d0541b
DTSTART:20260424T190000
DTEND:20260424T200000
DESCRIPTION:
LOCATION:
SUMMARY:Baseball @ Chatham Central
END:VEVENT
BEGIN:VEVENT
DTSTAMP:20260420T201055Z
UID:7d459158-2302-4686-8a2a-067b58b56347
DTSTART;VALUE=DATE:20260427
DTEND;VALUE=DATE:20260501
DESCRIPTION:
LOCATION:
SUMMARY:Softball & Baseball Conference Tournament Week 
END:VEVENT
BEGIN:VEVENT
DTSTAMP:20260420T201055Z
UID:55b5a3e1-a607-416d-b1e0-d130c6dfdd68
DTSTART:20260427T150000
DTEND:20260427T200000
DESCRIPTION:
LOCATION:
SUMMARY:Triad Carolina MS Track Championships
END:VEVENT
BEGIN:VEVENT
DTSTAMP:20260420T201055Z
UID:6e408ac8-3807-4642-b331-a73434dda3d7
DTSTART:20260427T180000
DTEND:20260427T190000
DESCRIPTION:
LOCATION:
SUMMARY:Soccer @ North Surry
END:VEVENT
BEGIN:VEVENT
DTSTAMP:20260420T201055Z
UID:a15622ea-7185-4aa0-aaa4-def3f9a545a2
DTSTART;VALUE=DATE:20260428
DTEND;VALUE=DATE:20260429
DESCRIPTION:
LOCATION:
SUMMARY:Progress Reports Go Home 
END:VEVENT
BEGIN:VEVENT
DTSTAMP:20260420T201055Z
UID:3b6a1bb2-df16-4380-8c5d-8871a5574a25
DTSTART:20260430T120000
DTEND:20260430T190000
DESCRIPTION:Greater Triad 1A/2A & Northwest Piedmont 1A/2A
LOCATION:North Stokes High School\, 1350 N Stokes School Rd\, Danbury\, NC 
 27016\, USA
SUMMARY:Conference Track Championships
END:VEVENT
BEGIN:VEVENT
DTSTAMP:20260420T201055Z
UID:deb16aba-e3bf-45a9-a039-eaf19d8c214e
DTSTART:20260430T180000
DTEND:20260430T190000
DESCRIPTION:
LOCATION:
SUMMARY:Soccer @ Bishop
END:VEVENT
BEGIN:VEVENT
DTSTAMP:20260420T201055Z
UID:3626b5d0-2f2d-4a7a-b3d5-55a5a7991b7b
DTSTART;VALUE=DATE:20260504
DTEND;VALUE=DATE:20260505
DESCRIPTION:
LOCATION:
SUMMARY:Sball&Bball State Playoff Seeding
END:VEVENT
BEGIN:VEVENT
DTSTAMP:20260420T201055Z
UID:7c333897-b190-4152-a69a-fe761f253459
DTSTART;VALUE=DATE:20260505
DTEND;VALUE=DATE:20260506
DESCRIPTION:
LOCATION:
SUMMARY:Sball & Bball 1st Rd Playoffs
END:VEVENT
BEGIN:VEVENT
DTSTAMP:20260420T201055Z
UID:3046f084-27ce-4626-bf49-7f7cb5a16a3c
DTSTART:20260506T084500
DTEND:20260506T124500
DESCRIPTION:
LOCATION:
SUMMARY:AP 4 English Exam - Room D6
END:VEVENT
BEGIN:VEVENT
DTSTAMP:20260420T201055Z
UID:376c5458-f55e-4822-bdd5-1efbf0ea6fc1
DTSTART:20260507T180000
DTEND:20260507T190000
DESCRIPTION:
LOCATION:
SUMMARY:Soccer vs West Stokes
END:VEVENT
BEGIN:VEVENT
DTSTAMP:20260420T201055Z
UID:e17f45c6-8215-462b-ad01-3311065d0fbb
DTSTART;VALUE=DATE:20260508
DTEND;VALUE=DATE:20260509
DESCRIPTION:
LOCATION:
SUMMARY:Sball & Bball 2nd Rd Playoffs
END:VEVENT
BEGIN:VEVENT
DTSTAMP:20260420T201055Z
UID:d89ca824-1be0-41ae-8894-f54242c21d40
DTSTART:20260508T100000
DTEND:20260508T160000
DESCRIPTION:
LOCATION:Montreat College\, 310 Gaither Cir\, Montreat\, NC 28757\, USA
SUMMARY:West Regional Track Championships @ Montreat College
END:VEVENT
BEGIN:VEVENT
DTSTAMP:20260420T201055Z
UID:efae125d-4041-44bf-bf87-1c287a35a176
DTSTART;VALUE=DATE:20260512
DTEND;VALUE=DATE:20260513
DESCRIPTION:
LOCATION:
SUMMARY:Sball & Bball 3rd Rd Playoffs
END:VEVENT
BEGIN:VEVENT
DTSTAMP:20260420T201055Z
UID:180179ef-3267-4807-8789-251d3b720db8
DTSTART:20260513T084500
DTEND:20260513T124500
DESCRIPTION:
LOCATION:
SUMMARY:AP English 3 - Media Center
END:VEVENT
BEGIN:VEVENT
DTSTAMP:20260420T201055Z
UID:44945a3f-93a6-4e8a-b1fc-5f0199c446d7
DTSTART:20260514T100000
DTEND:20260514T180000
DESCRIPTION:
LOCATION:Durham County Memorial Stadium\, 750 Stadium Dr\, Durham\, NC 2770
 4\, USA
SUMMARY:State Track Championships @ Durham
END:VEVENT
BEGIN:VEVENT
DTSTAMP:20260420T201055Z
UID:4bdcf4cf-7a13-415d-8880-a42667e19bc6
DTSTART:20260514T173000
DTEND:20260514T193000
DESCRIPTION:
LOCATION:
SUMMARY:NSHS & PGMS Band Concert (Tentative Date) 
END:VEVENT
BEGIN:VEVENT
DTSTAMP:20260420T201055Z
UID:1661f2ac-91e5-435f-82a1-93887d81126a
DTSTART;VALUE=DATE:20260515
DTEND;VALUE=DATE:20260516
DESCRIPTION:
LOCATION:
SUMMARY:Sball & Bball 4th Rd Playoffs
END:VEVENT
BEGIN:VEVENT
DTSTAMP:20260420T201055Z
UID:a7fdd9bd-6171-4efe-8f2e-57cb58cc6686
DTSTART;VALUE=DATE:20260519
DTEND;VALUE=DATE:20260524
DESCRIPTION:
LOCATION:
SUMMARY:Bball & Sball Regionals
END:VEVENT
BEGIN:VEVENT
DTSTAMP:20260420T201055Z
UID:15243e48-8d12-4de2-b533-0c0cc7ebd4d6
DTSTART;VALUE=DATE:20260522
DTEND;VALUE=DATE:20260523
DESCRIPTION:
LOCATION:
SUMMARY:Accounting I CTE Exam 
END:VEVENT
BEGIN:VEVENT
DTSTAMP:20260420T201055Z
UID:62dbb1bd-9dc7-478b-a975-f23b692ec43e
DTSTART;VALUE=DATE:20260522
DTEND;VALUE=DATE:20260523
DESCRIPTION:
LOCATION:
SUMMARY:Business Management I CTE Exam 
END:VEVENT
BEGIN:VEVENT
DTSTAMP:20260420T201055Z
UID:29ff8525-37c7-4ab6-9e64-b8d881eb4beb
DTSTART;VALUE=DATE:20260522
DTEND;VALUE=DATE:20260523
DESCRIPTION:
LOCATION:
SUMMARY:End of 4th Grading Period 
END:VEVENT
BEGIN:VEVENT
DTSTAMP:20260420T201055Z
UID:1f0296d0-77e5-453d-9a23-66f1025a7dcf
DTSTART;VALUE=DATE:20260522
DTEND;VALUE=DATE:20260523
DESCRIPTION:
LOCATION:
SUMMARY:Food & Nutrition I CTE Exam 
END:VEVENT
BEGIN:VEVENT
DTSTAMP:20260420T201055Z
UID:8d86dfa3-95a7-462e-bda0-23750c79e2c0
DTSTART;VALUE=DATE:20260522
DTEND;VALUE=DATE:20260523
DESCRIPTION:
LOCATION:
SUMMARY:Full Day/Make up day
END:VEVENT
BEGIN:VEVENT
DTSTAMP:20260420T201055Z
UID:19129d3c-0d31-4a16-b9b8-8763183047b0
DTSTART;VALUE=DATE:20260522
DTEND;VALUE=DATE:20260523
DESCRIPTION:
LOCATION:
SUMMARY:Math I EOC 
END:VEVENT
BEGIN:VEVENT
DTSTAMP:20260420T201055Z
UID:8b783511-2d27-4570-bca5-1637fa30425c
DTSTART;VALUE=DATE:20260522
DTEND;VALUE=DATE:20260523
DESCRIPTION:
LOCATION:
SUMMARY:Math III EOC 
END:VEVENT
BEGIN:VEVENT
DTSTAMP:20260420T201055Z
UID:9ddd3395-dbd5-421d-9b1b-214607729a00
DTSTART;VALUE=DATE:20260526
DTEND;VALUE=DATE:20260527
DESCRIPTION:
LOCATION:
SUMMARY:Ag. Mechanics I CTE Exam 
END:VEVENT
BEGIN:VEVENT
DTSTAMP:20260420T201055Z
UID:d787e2ee-78ab-4c27-91c3-55c01eb4b1d7
DTSTART;VALUE=DATE:20260526
DTEND;VALUE=DATE:20260527
DESCRIPTION:
LOCATION:
SUMMARY:Biology EOC
END:VEVENT
BEGIN:VEVENT
DTSTAMP:20260420T201055Z
UID:4c462693-4fa1-479e-a914-f4e8d1844786
DTSTART;VALUE=DATE:20260526
DTEND;VALUE=DATE:20260527
DESCRIPTION:
LOCATION:
SUMMARY:English II EOC 
END:VEVENT
BEGIN:VEVENT
DTSTAMP:20260420T201055Z
UID:08e1d710-fb62-43eb-b98a-024ea6b15d26
DTSTART;VALUE=DATE:20260526
DTEND;VALUE=DATE:20260527
DESCRIPTION:
LOCATION:
SUMMARY:Food & Nutrition II CTE Exam 
END:VEVENT
BEGIN:VEVENT
DTSTAMP:20260420T201055Z
UID:c14d4156-2919-4e5a-8ec9-b7db0be3b290
DTSTART;VALUE=DATE:20260527
DTEND;VALUE=DATE:20260528
DESCRIPTION:
LOCATION:
SUMMARY:Math III Remediation & Retest
END:VEVENT
BEGIN:VEVENT
DTSTAMP:20260420T201055Z
UID:1abc099e-ea5e-4f1a-bc79-14e342df0042
DTSTART;VALUE=DATE:20260527
DTEND;VALUE=DATE:20260528
DESCRIPTION:
LOCATION:
SUMMARY:Math I Remediation & Retest
END:VEVENT
BEGIN:VEVENT
DTSTAMP:20260420T201055Z
UID:69d02fe3-b194-41d6-90cb-502e6dd330f9
DTSTART;VALUE=DATE:20260528
DTEND;VALUE=DATE:20260529
DESCRIPTION:
LOCATION:
SUMMARY:Biology Remediation & Retest
END:VEVENT
BEGIN:VEVENT
DTSTAMP:20260420T201055Z
UID:ba0a56c3-1a23-4b13-aa66-c03ea8329b30
DTSTART:20260528T190000
DTEND:20260528T200000
DESCRIPTION:
LOCATION:
SUMMARY:Graduation 
END:VEVENT
BEGIN:VEVENT
DTSTAMP:20260420T201055Z
UID:686c2f88-5a63-4bc6-937f-faeee390b15a
DTSTART;VALUE=DATE:20260529
DTEND;VALUE=DATE:20260531
DESCRIPTION:
LOCATION:
SUMMARY:Bball & Sball State Championships 
END:VEVENT
BEGIN:VEVENT
DTSTAMP:20260420T201055Z
UID:bcc5c2da-e2df-4273-9a69-df1937e41784
DTSTART;VALUE=DATE:20260605
DTEND;VALUE=DATE:20260606
DESCRIPTION:
LOCATION:
SUMMARY:Report Cards Go Home (Mailed) 
END:VEVENT
BEGIN:VEVENT
DTSTAMP:20260420T201055Z
UID:209abec9-fb0b-4d36-8dd7-895c7d666a33
DTSTART;VALUE=DATE:20260605
DTEND;VALUE=DATE:20260606
DESCRIPTION:
LOCATION:
SUMMARY:Report Cards Go Home (Mailed) 
END:VEVENT
BEGIN:VEVENT
DTSTAMP:20260420T201055Z
UID:9eb86e69-3632-4410-bcba-4bbe3d69a256
DTSTART;VALUE=DATE:20260605
DTEND;VALUE=DATE:20260606
DESCRIPTION:
LOCATION:
SUMMARY:Report Cards Go Home (Mailed) 
END:VEVENT
BEGIN:VEVENT
DTSTAMP:20260420T201055Z
UID:3b9e15c9-844e-43bd-8812-f4b5dd06b43f
DTSTART;VALUE=DATE:20260605
DTEND;VALUE=DATE:20260606
DESCRIPTION:
LOCATION:
SUMMARY:Report Cards Go Home (Mailed) 
END:VEVENT
BEGIN:VEVENT
DTSTAMP:20260420T201055Z
UID:3742dafb-f612-4fd5-a0b7-7cfbea0ed019
DTSTART;VALUE=DATE:20260605
DTEND;VALUE=DATE:20260606
DESCRIPTION:
LOCATION:
SUMMARY:Report Cards Go Home (Mailed) 
END:VEVENT
BEGIN:VEVENT
DTSTAMP:20260420T201055Z
UID:735a2cb9-4eb9-4d41-bf6e-c471123ecf4c
DTSTART;VALUE=DATE:20260605
DTEND;VALUE=DATE:20260606
DESCRIPTION:
LOCATION:
SUMMARY:Report Cards Go Home (Mailed) 
END:VEVENT
BEGIN:VEVENT
DTSTAMP:20260420T201055Z
UID:b158ca34-aaec-42ad-9835-121ad28ca6b4
DTSTART;VALUE=DATE:20260605
DTEND;VALUE=DATE:20260606
DESCRIPTION:
LOCATION:
SUMMARY:Report Cards Go Home (Mailed) 
END:VEVENT
BEGIN:VEVENT
DTSTAMP:20260420T201055Z
UID:347a49f4-c1b5-4201-8177-4bf1046d7ffe
DTSTART;VALUE=DATE:20260616
DTEND;VALUE=DATE:20260618
DESCRIPTION:
LOCATION:
SUMMARY:Senior Portraits 
END:VEVENT
BEGIN:VEVENT
DTSTAMP:20260420T201055Z
UID:4e8aaa60-4355-445c-958e-dc29315ea77c
DTSTART;VALUE=DATE:20260616
DTEND;VALUE=DATE:20260618
DESCRIPTION:
LOCATION:
SUMMARY:Senior Portraits 
END:VEVENT
BEGIN:VEVENT
DTSTAMP:20260420T201055Z
UID:84e4bb40-543d-4275-a481-862c907c8072
DTSTART;VALUE=DATE:20260616
DTEND;VALUE=DATE:20260618
DESCRIPTION:
LOCATION:
SUMMARY:Senior Portraits 
END:VEVENT
BEGIN:VEVENT
DTSTAMP:20260420T201055Z
UID:51fe5b18-80b6-4260-b5e1-d577aad24742
DTSTART;VALUE=DATE:20260616
DTEND;VALUE=DATE:20260618
DESCRIPTION:
LOCATION:
SUMMARY:Senior Portraits 
END:VEVENT
BEGIN:VEVENT
DTSTAMP:20260420T201055Z
UID:8c44e7f6-a7f8-4e96-a24e-9753679b1f37
DTSTART;VALUE=DATE:20260616
DTEND;VALUE=DATE:20260618
DESCRIPTION:
LOCATION:
SUMMARY:Senior Portraits 
END:VEVENT
BEGIN:VEVENT
DTSTAMP:20260420T201055Z
UID:d635e693-4020-4227-81c2-1b9e6fe1a902
DTSTART;VALUE=DATE:20260923
DTEND;VALUE=DATE:20260924
DESCRIPTION:
LOCATION:
SUMMARY:Fall Pictures with Strawbridge 
END:VEVENT
BEGIN:VEVENT
DTSTAMP:20260420T201055Z
UID:7811cdfc-3d23-4c72-a062-156c0165e63f
DTSTART;VALUE=DATE:20260923
DTEND;VALUE=DATE:20260924
DESCRIPTION:
LOCATION:
SUMMARY:Fall Pictures with Strawbridge 
END:VEVENT
BEGIN:VEVENT
DTSTAMP:20260420T201055Z
UID:2744eb91-830f-4cc4-8667-6c1cf7a8a978
DTSTART;VALUE=DATE:20260923
DTEND;VALUE=DATE:20260924
DESCRIPTION:
LOCATION:
SUMMARY:Fall Pictures with Strawbridge 
END:VEVENT
BEGIN:VEVENT
DTSTAMP:20260420T201055Z
UID:4c7dd903-2aa3-47b4-9613-782033361afa
DTSTART;VALUE=DATE:20260923
DTEND;VALUE=DATE:20260924
DESCRIPTION:
LOCATION:
SUMMARY:Fall Pictures with Strawbridge 
END:VEVENT
BEGIN:VEVENT
DTSTAMP:20260420T201055Z
UID:ba2f1fbf-53e7-4b38-9536-40beac285692
DTSTART;VALUE=DATE:20260923
DTEND;VALUE=DATE:20260924
DESCRIPTION:
LOCATION:
SUMMARY:Fall Pictures with Strawbridge 
END:VEVENT
BEGIN:VEVENT
DTSTAMP:20260420T201055Z
UID:6a9ba201-8fcc-409c-9e2d-0d18dec15270
DTSTART;VALUE=DATE:20261105
DTEND;VALUE=DATE:20261106
DESCRIPTION:
LOCATION:
SUMMARY:Fall Makeup Pictures with Strawbridge 
END:VEVENT
BEGIN:VEVENT
DTSTAMP:20260420T201055Z
UID:bc149162-f489-46af-a5c6-27d66f32463d
DTSTART;VALUE=DATE:20261105
DTEND;VALUE=DATE:20261106
DESCRIPTION:
LOCATION:
SUMMARY:Fall Makeup Pictures with Strawbridge 
END:VEVENT
BEGIN:VEVENT
DTSTAMP:20260420T201055Z
UID:e301ceb7-e8a4-44ac-81e8-f59e5f9e21f7
DTSTART;VALUE=DATE:20261105
DTEND;VALUE=DATE:20261106
DESCRIPTION:
LOCATION:
SUMMARY:Fall Makeup Pictures with Strawbridge 
END:VEVENT
BEGIN:VEVENT
DTSTAMP:20260420T201055Z
UID:55acc87b-1be6-497a-8dc7-9e6182aba317
DTSTART;VALUE=DATE:20261105
DTEND;VALUE=DATE:20261106
DESCRIPTION:
LOCATION:
SUMMARY:Fall Makeup Pictures with Strawbridge 
END:VEVENT
BEGIN:VEVENT
DTSTAMP:20260420T201055Z
UID:cfa7fad7-dbb3-4d3f-9e4c-438daecf730c
DTSTART;VALUE=DATE:20261105
DTEND;VALUE=DATE:20261106
DESCRIPTION:
LOCATION:
SUMMARY:Fall Makeup Pictures with Strawbridge 
END:VEVENT
BEGIN:VEVENT
DTSTAMP:20260420T201055Z
UID:60bb58fd-a0bd-4f5b-9631-4ebc2d4f8415
DTSTART;VALUE=DATE:20270414
DTEND;VALUE=DATE:20270415
DESCRIPTION:
LOCATION:
SUMMARY:Senior Cap & Gown Pictures 
END:VEVENT
BEGIN:VEVENT
DTSTAMP:20260420T201055Z
UID:3f015331-9b66-4e60-968c-e69c0d32f949
DTSTART;VALUE=DATE:20270414
DTEND;VALUE=DATE:20270415
DESCRIPTION:
LOCATION:
SUMMARY:Senior Cap & Gown Pictures 
END:VEVENT
BEGIN:VEVENT
DTSTAMP:20260420T201055Z
UID:da5c3e73-e0d4-485d-836f-4a47ec3c7a63
DTSTART;VALUE=DATE:20270414
DTEND;VALUE=DATE:20270415
DESCRIPTION:
LOCATION:
SUMMARY:Senior Cap & Gown Pictures 
END:VEVENT
BEGIN:VEVENT
DTSTAMP:20260420T201055Z
UID:5f36e62b-b48c-4036-a07f-4f037381d1ac
DTSTART;VALUE=DATE:20270414
DTEND;VALUE=DATE:20270415
DESCRIPTION:
LOCATION:
SUMMARY:Senior Cap & Gown Pictures 
END:VEVENT
BEGIN:VEVENT
DTSTAMP:20260420T201055Z
UID:d2b0cd49-8a0b-4239-a72d-979e142f4b8e
DTSTART;VALUE=DATE:20270414
DTEND;VALUE=DATE:20270415
DESCRIPTION:
LOCATION:
SUMMARY:Senior Cap & Gown Pictures 
END:VEVENT
END:VCALENDAR
