BEGIN:VCALENDAR
VERSION:2.0
PRODID:icalendar-ruby
CALSCALE:GREGORIAN
BEGIN:VTIMEZONE
TZID:America/New_York
BEGIN:DAYLIGHT
DTSTART:20260308T030000
TZOFFSETFROM:-0500
TZOFFSETTO:-0400
RRULE:FREQ=YEARLY;BYDAY=2SU;BYMONTH=3
TZNAME:EDT
END:DAYLIGHT
BEGIN:STANDARD
DTSTART:20261101T010000
TZOFFSETFROM:-0400
TZOFFSETTO:-0500
RRULE:FREQ=YEARLY;BYDAY=1SU;BYMONTH=11
TZNAME:EST
END:STANDARD
END:VTIMEZONE
BEGIN:VEVENT
DTSTAMP:20260419T144211Z
UID:947d55e4-d9dd-4e2c-ac9f-3a223da44136
DTSTART;VALUE=DATE:20260425
DTEND;VALUE=DATE:20260426
DESCRIPTION:
LOCATION:
SUMMARY:MHS Basketball
END:VEVENT
BEGIN:VEVENT
DTSTAMP:20260419T144211Z
UID:f50ef1d4-6f28-41ee-939b-c021ecd9e118
DTSTART;VALUE=DATE:20260501
DTEND;VALUE=DATE:20260502
DESCRIPTION:
LOCATION:
SUMMARY:JV BASEBALL Vs Pisgah
END:VEVENT
BEGIN:VEVENT
DTSTAMP:20260419T144211Z
UID:04d551db-f8f8-49ce-9a53-0cd619d5b1b3
DTSTART:20260518T180000
DTEND:20260519T200000
DESCRIPTION:
LOCATION:
SUMMARY:8th grade Promotion
END:VEVENT
BEGIN:VEVENT
DTSTAMP:20260419T144211Z
UID:e65f479e-710b-4592-be09-047309619ff7
DTSTART:20260520T120000
DTEND:20260520T130000
DESCRIPTION:
LOCATION:
SUMMARY:5th grade promotion 
END:VEVENT
END:VCALENDAR
