BEGIN:VCALENDAR
VERSION:2.0
PRODID:icalendar-ruby
CALSCALE:GREGORIAN
BEGIN:VTIMEZONE
TZID:America/Chicago
BEGIN:DAYLIGHT
DTSTART:20260308T030000
TZOFFSETFROM:-0600
TZOFFSETTO:-0500
RRULE:FREQ=YEARLY;BYDAY=2SU;BYMONTH=3
TZNAME:CDT
END:DAYLIGHT
BEGIN:STANDARD
DTSTART:20261101T010000
TZOFFSETFROM:-0500
TZOFFSETTO:-0600
RRULE:FREQ=YEARLY;BYDAY=1SU;BYMONTH=11
TZNAME:CST
END:STANDARD
END:VTIMEZONE
BEGIN:VEVENT
DTSTAMP:20260421T085026Z
UID:ef37ca4e-3dc4-4cc5-af2a-c38cacc62e00
DTSTART:20260428T170000
DTEND:20260428T193000
DESCRIPTION:
LOCATION:Intermediate Band Hall
SUMMARY:5th Graders Band Instrument Rental Drive
END:VEVENT
BEGIN:VEVENT
DTSTAMP:20260421T085026Z
UID:c94158ed-ff83-4306-9dc4-c6511f9ab751
DTSTART;VALUE=DATE:20260430
DTEND;VALUE=DATE:20260501
DESCRIPTION:
LOCATION:
SUMMARY:6th Grade Band Festival
END:VEVENT
BEGIN:VEVENT
DTSTAMP:20260421T085026Z
UID:3e122a84-e2ae-4e38-976d-49d75b852fe2
DTSTART:20260505T180000
DTEND:20260505T190000
DESCRIPTION:
LOCATION:RHS 
SUMMARY:6th Grade Spring Choir Concert
END:VEVENT
BEGIN:VEVENT
DTSTAMP:20260421T085026Z
UID:a8fb64a1-4565-478e-bc69-8ffbad7c8205
DTSTART:20260507T090000
DTEND:20260507T140000
DESCRIPTION:
LOCATION:Whitehall Park\, 7600 Fresno Rd\, Woodway\, TX 76712\, USA
SUMMARY:6th Grade Field Trip - Main Event
END:VEVENT
BEGIN:VEVENT
DTSTAMP:20260421T085026Z
UID:53ac25b6-fa4f-47e2-878d-b473bfd8f66f
DTSTART;VALUE=DATE:20260508
DTEND;VALUE=DATE:20260509
DESCRIPTION:
LOCATION:
SUMMARY:6th Grade Choir Festival
END:VEVENT
BEGIN:VEVENT
DTSTAMP:20260421T085026Z
UID:e29bf80d-732e-41bb-a582-27be87660389
DTSTART:20260508T090000
DTEND:20260508T140000
DESCRIPTION:
LOCATION:
SUMMARY:5th Grade Field Trip - Cameron Park Zoo
END:VEVENT
BEGIN:VEVENT
DTSTAMP:20260421T085026Z
UID:39d2073c-42c7-45bd-bb37-b9b786fad18e
DTSTART:20260513T081500
DTEND:20260513T143000
DESCRIPTION:
LOCATION:
SUMMARY:4th Grade Field Trip - Clifton Theaters
END:VEVENT
BEGIN:VEVENT
DTSTAMP:20260421T085026Z
UID:c4324bcf-4b9d-4a47-bc35-58e57173a653
DTSTART:20260515T080000
DTEND:20260515T130000
DESCRIPTION:
LOCATION:Rocket Field
SUMMARY:Intermediate FIELD DAY
END:VEVENT
BEGIN:VEVENT
DTSTAMP:20260421T085026Z
UID:c90f6d04-5554-4603-b345-04d367d0da67
DTSTART:20260518T080000
DTEND:20260518T114500
DESCRIPTION:5th - 8:15 - 9:00\n6th - 10:00 - 10:45\n4th/FA - 1:15 - 2:00
LOCATION:
SUMMARY:Intermediate Awards Day
END:VEVENT
BEGIN:VEVENT
DTSTAMP:20260421T085026Z
UID:17751210-909c-47e6-8fc7-d8745332efea
DTSTART:20260520T090000
DTEND:20260520T150000
DESCRIPTION:
LOCATION:Summer Fun Water Park\, 1410 Waco Rd\, Belton\, TX 76513\, USA
SUMMARY:Intermediate Summer Fun Trip
END:VEVENT
END:VCALENDAR
