BEGIN:VCALENDAR
VERSION:2.0
PRODID:icalendar-ruby
CALSCALE:GREGORIAN
BEGIN:VTIMEZONE
TZID:America/Chicago
BEGIN:DAYLIGHT
DTSTART:20260308T030000
TZOFFSETFROM:-0600
TZOFFSETTO:-0500
RRULE:FREQ=YEARLY;BYDAY=2SU;BYMONTH=3
TZNAME:CDT
END:DAYLIGHT
BEGIN:STANDARD
DTSTART:20261101T010000
TZOFFSETFROM:-0500
TZOFFSETTO:-0600
RRULE:FREQ=YEARLY;BYDAY=1SU;BYMONTH=11
TZNAME:CST
END:STANDARD
END:VTIMEZONE
BEGIN:VEVENT
DTSTAMP:20260420T053345Z
UID:3d3212ec-b2f3-4957-800a-ad3b9e4eed1f
DTSTART;VALUE=DATE:20260513
DTEND;VALUE=DATE:20260514
DESCRIPTION:
LOCATION:
SUMMARY:Shark Day
END:VEVENT
BEGIN:VEVENT
DTSTAMP:20260420T053345Z
UID:cc85a0e0-b3d9-4113-8264-1833f2aee977
DTSTART;VALUE=DATE:20260518
DTEND;VALUE=DATE:20260519
DESCRIPTION:
LOCATION:
SUMMARY:3rd Grade Field Day 
END:VEVENT
BEGIN:VEVENT
DTSTAMP:20260420T053345Z
UID:4a1f785c-7b97-4f5c-94ce-e21703667487
DTSTART;VALUE=DATE:20260519
DTEND;VALUE=DATE:20260520
DESCRIPTION:
LOCATION:
SUMMARY:4th Grade Field Day
END:VEVENT
BEGIN:VEVENT
DTSTAMP:20260420T053345Z
UID:bc605651-2097-4175-bc6c-d1bf438f5a64
DTSTART;VALUE=DATE:20260520
DTEND;VALUE=DATE:20260521
DESCRIPTION:
LOCATION:
SUMMARY:3rd Grade Awards Assemblies
END:VEVENT
BEGIN:VEVENT
DTSTAMP:20260420T053345Z
UID:b302a572-48d9-4809-bb9f-3f671d3ca9ae
DTSTART;VALUE=DATE:20260521
DTEND;VALUE=DATE:20260522
DESCRIPTION:
LOCATION:
SUMMARY:4th Grade Award Assemblies
END:VEVENT
END:VCALENDAR
