BEGIN:VCALENDAR
VERSION:2.0
PRODID:icalendar-ruby
CALSCALE:GREGORIAN
BEGIN:VTIMEZONE
TZID:America/Chicago
BEGIN:DAYLIGHT
DTSTART:20260308T030000
TZOFFSETFROM:-0600
TZOFFSETTO:-0500
RRULE:FREQ=YEARLY;BYDAY=2SU;BYMONTH=3
TZNAME:CDT
END:DAYLIGHT
BEGIN:STANDARD
DTSTART:20261101T010000
TZOFFSETFROM:-0500
TZOFFSETTO:-0600
RRULE:FREQ=YEARLY;BYDAY=1SU;BYMONTH=11
TZNAME:CST
END:STANDARD
END:VTIMEZONE
BEGIN:VEVENT
DTSTAMP:20260424T165031Z
UID:cb88a7c1-836c-4c07-b505-1235558a29ed
DTSTART;VALUE=DATE:20260501
DTEND;VALUE=DATE:20260502
DESCRIPTION:\nDate - May 1st 2026\nOpponent - Weatherford \nLocation - AWA
 Y\nTime G: TBA \nTime B: TBA
LOCATION:
SUMMARY:Altus Jr. High Soccer - Weatherford Tournament 
END:VEVENT
BEGIN:VEVENT
DTSTAMP:20260424T165031Z
UID:e2ab2c2d-7dfc-45fd-b48d-e1ceae21be7b
DTSTART;VALUE=DATE:20260502
DTEND;VALUE=DATE:20260503
DESCRIPTION:\nDate - May 2nd 2026\nOpponent - Weatherford Tournament \nLoc
 ation - AWAY\nTime G: TBA\nTime B: TBA
LOCATION:
SUMMARY:Altus Jr. High Soccer - Weatherford Tournament 
END:VEVENT
BEGIN:VEVENT
DTSTAMP:20260424T165031Z
UID:81a690c1-4432-4bc5-a635-bc05cb54f1a5
DTSTART:20260504T180000
DTEND:20260504T190000
DESCRIPTION:
LOCATION:@AHS Auditorium
SUMMARY:National Junior Honor Society Inductions
END:VEVENT
BEGIN:VEVENT
DTSTAMP:20260424T165031Z
UID:af8e65e3-959b-44a0-a5eb-3b0c1756d908
DTSTART:20260518T180000
DTEND:20260518T190000
DESCRIPTION:
LOCATION:@AHS Auditorium
SUMMARY:Academic Assembly
END:VEVENT
END:VCALENDAR
