BEGIN:VCALENDAR
VERSION:2.0
PRODID:icalendar-ruby
CALSCALE:GREGORIAN
BEGIN:VTIMEZONE
TZID:America/Chicago
BEGIN:DAYLIGHT
DTSTART:20260308T030000
TZOFFSETFROM:-0600
TZOFFSETTO:-0500
RRULE:FREQ=YEARLY;BYDAY=2SU;BYMONTH=3
TZNAME:CDT
END:DAYLIGHT
BEGIN:STANDARD
DTSTART:20261101T010000
TZOFFSETFROM:-0500
TZOFFSETTO:-0600
RRULE:FREQ=YEARLY;BYDAY=1SU;BYMONTH=11
TZNAME:CST
END:STANDARD
END:VTIMEZONE
BEGIN:VEVENT
DTSTAMP:20260421T095653Z
UID:2c75b94e-8733-4d9c-b072-95cf6ce11c4a
DTSTART:20260421T180000
DTEND:20260421T193000
DESCRIPTION:
LOCATION:Monmouth Roseville High School\, 200 S B St\, Monmouth\, IL 61462\
 , USA
SUMMARY:PTC Talent Show PRACTICE
END:VEVENT
BEGIN:VEVENT
DTSTAMP:20260421T095653Z
UID:ae9aea8b-7312-458b-ab8e-db0573e96bcc
DTSTART:20260423T170000
DTEND:20260423T190000
DESCRIPTION:
LOCATION:
SUMMARY:PTC McDonald's Fundraiser
END:VEVENT
BEGIN:VEVENT
DTSTAMP:20260421T095653Z
UID:36c03dbd-03b4-439b-812b-c6cb4f7c4edd
DTSTART;VALUE=DATE:20260424
DTEND;VALUE=DATE:20260425
DESCRIPTION:\nDismissal Times:\nPreK PM - 1:30 p.m. \nLincoln K-1 - 2 p.m.
   \nHarding - 2 p.m.  \nCentral - 2 p.m.  \nMRJH - 1:50 p.m.  \nMR
 HS - 2:08 p.m.
LOCATION:
SUMMARY:2 p.m. dismissal schedule
END:VEVENT
BEGIN:VEVENT
DTSTAMP:20260421T095653Z
UID:4ba9b097-42a6-4dea-8c16-034c4730d44a
DTSTART:20260428T180000
DTEND:20260428T193000
DESCRIPTION:
LOCATION:Monmouth Roseville High School\, 200 S B St\, Monmouth\, IL 61462\
 , USA
SUMMARY:PTC Talent Show EVENT
END:VEVENT
BEGIN:VEVENT
DTSTAMP:20260421T095653Z
UID:40a90b1d-9703-40ee-a8d3-4cc5ad5933ef
DTSTART;VALUE=DATE:20260429
DTEND;VALUE=DATE:20260430
DESCRIPTION:
LOCATION:
SUMMARY:No Preschool in Attendance
END:VEVENT
BEGIN:VEVENT
DTSTAMP:20260421T095653Z
UID:bf06a4b1-499e-4b39-ad3a-af4ce9d3c278
DTSTART;VALUE=DATE:20260501
DTEND;VALUE=DATE:20260502
DESCRIPTION:\nDismissal Times:\nPreK PM - 1:30 p.m. \nLincoln K-1 - 2 p.m.
   \nHarding - 2 p.m.  \nCentral - 2 p.m.  \nMRJH - 1:50 p.m.  \nMR
 HS - 2:08 p.m.
LOCATION:
SUMMARY:2 p.m. dismissal schedule
END:VEVENT
BEGIN:VEVENT
DTSTAMP:20260421T095653Z
UID:0463613f-cfc8-467e-8499-759c28945e48
DTSTART;VALUE=DATE:20260508
DTEND;VALUE=DATE:20260509
DESCRIPTION:\nDismissal Times:\nPreK PM - 1:30 p.m. \nLincoln K-1 - 2 p.m.
   \nHarding - 2 p.m.  \nCentral - 2 p.m.  \nMRJH - 1:50 p.m.  \nMR
 HS - 2:08 p.m.
LOCATION:
SUMMARY:2 p.m. dismissal schedule
END:VEVENT
BEGIN:VEVENT
DTSTAMP:20260421T095653Z
UID:2cbb9be8-7642-4e93-8491-13ec09b6818a
DTSTART:20260512T170000
DTEND:20260512T183000
DESCRIPTION:This board meeting is at 5 p.m.
LOCATION:Monmouth Roseville High School\, 200 S B St\, Monmouth\, IL 61462\
 , USA
SUMMARY:5 p.m. Board of Education Meeting
END:VEVENT
BEGIN:VEVENT
DTSTAMP:20260421T095653Z
UID:ad03113c-2581-46d5-9a0a-6d768d6ecb3f
DTSTART;VALUE=DATE:20260515
DTEND;VALUE=DATE:20260516
DESCRIPTION:\nDismissal Times:\nPreK PM - 1:30 p.m. \nLincoln K-1 - 2 p.m.
   \nHarding - 2 p.m.  \nCentral - 2 p.m.  \nMRJH - 1:50 p.m.  \nMR
 HS - 2:08 p.m.
LOCATION:
SUMMARY:2 p.m. dismissal schedule
END:VEVENT
BEGIN:VEVENT
DTSTAMP:20260421T095653Z
UID:c6c8b573-2d2b-4c7e-879f-ed3a667118ea
DTSTART:20260515T170000
DTEND:20260515T200000
DESCRIPTION:<p>PTC's Spring Carnival at Lincoln Early Childhood School from
  5 p.m. - 8 p.m.</p>
LOCATION:325 S 11th St\, Monmouth\, IL 61462\, USA
SUMMARY:PTC's Spring Carnival
END:VEVENT
BEGIN:VEVENT
DTSTAMP:20260421T095653Z
UID:8e2cdb9e-8c96-4fd1-8ef0-bf45e9ff114a
DTSTART;VALUE=DATE:20260520
DTEND;VALUE=DATE:20260521
DESCRIPTION:
LOCATION:
SUMMARY:Preschool last day of attendance
END:VEVENT
BEGIN:VEVENT
DTSTAMP:20260421T095653Z
UID:d902909b-4e0d-4e52-8bf3-3cc4bf63f0b8
DTSTART;VALUE=DATE:20260522
DTEND;VALUE=DATE:20260523
DESCRIPTION:
LOCATION:
SUMMARY:End of Fourth Quarter/Semester 2
END:VEVENT
BEGIN:VEVENT
DTSTAMP:20260421T095653Z
UID:80af5be6-c637-48dc-adcd-900c9a405bad
DTSTART;VALUE=DATE:20260522
DTEND;VALUE=DATE:20260523
DESCRIPTION:
LOCATION:
SUMMARY:Last day for students (1 snow day used)/2 p.m. dismissal schedule
END:VEVENT
BEGIN:VEVENT
DTSTAMP:20260421T095653Z
UID:c4ff30f8-63f1-4965-b44a-e5f02e82fd26
DTSTART;VALUE=DATE:20260525
DTEND;VALUE=DATE:20260526
DESCRIPTION:
LOCATION:
SUMMARY:No School - Memorial Day
END:VEVENT
BEGIN:VEVENT
DTSTAMP:20260421T095653Z
UID:76a25c90-fd43-4907-bb0b-dd34aeefe795
DTSTART;VALUE=DATE:20260526
DTEND;VALUE=DATE:20260527
DESCRIPTION:
LOCATION:
SUMMARY:Teacher's Institute (1 snow day used)/No School for students
END:VEVENT
BEGIN:VEVENT
DTSTAMP:20260421T095653Z
UID:e8b25160-a5ef-4803-a54f-ca8c0a15f16c
DTSTART;VALUE=DATE:20260529
DTEND;VALUE=DATE:20260530
DESCRIPTION:
LOCATION:
SUMMARY:Last day for students if 5 snow days are used/2 p.m. dismissal sche
 dule
END:VEVENT
BEGIN:VEVENT
DTSTAMP:20260421T095653Z
UID:829408db-32de-4930-9dd1-7863b8a8d9e3
DTSTART;VALUE=DATE:20260601
DTEND;VALUE=DATE:20260602
DESCRIPTION:
LOCATION:
SUMMARY:Teacher's Institute if 5 snow days are used/No School for students
END:VEVENT
BEGIN:VEVENT
DTSTAMP:20260421T095653Z
UID:7d678984-df3b-4c26-8896-b1007f63e5b5
DTSTART:20260616T180000
DTEND:20260616T193000
DESCRIPTION:
LOCATION:Monmouth Roseville High School\, 200 S B St\, Monmouth\, IL 61462\
 , USA
SUMMARY:6 p.m. Board of Education Meeting
END:VEVENT
BEGIN:VEVENT
DTSTAMP:20260421T095653Z
UID:9dd8b4d7-5b26-4e75-b5fd-33109a987a2c
DTSTART:20260714T180000
DTEND:20260714T193000
DESCRIPTION:
LOCATION:Monmouth Roseville High School\, 200 S B St\, Monmouth\, IL 61462\
 , USA
SUMMARY:6 p.m. Board of Education Meeting
END:VEVENT
BEGIN:VEVENT
DTSTAMP:20260421T095653Z
UID:14baa3ef-e653-4b13-bea7-ce6f05dca6b9
DTSTART:20260811T180000
DTEND:20260811T193000
DESCRIPTION:
LOCATION:Monmouth Roseville High School\, 200 S B St\, Monmouth\, IL 61462\
 , USA
SUMMARY:6 p.m. Board of Education Meeting
END:VEVENT
BEGIN:VEVENT
DTSTAMP:20260421T095653Z
UID:0344865d-7048-4227-9978-d9bdff3f0fee
DTSTART:20260915T180000
DTEND:20260915T193000
DESCRIPTION:
LOCATION:Monmouth Roseville High School\, 200 S B St\, Monmouth\, IL 61462\
 , USA
SUMMARY:6 p.m. Board of Education Meeting
END:VEVENT
BEGIN:VEVENT
DTSTAMP:20260421T095653Z
UID:a3d54d7a-f25e-401e-8201-8dee92775efd
DTSTART:20261013T180000
DTEND:20261013T193000
DESCRIPTION:
LOCATION:Monmouth Roseville High School\, 200 S B St\, Monmouth\, IL 61462\
 , USA
SUMMARY:6 p.m. Board of Education Meeting
END:VEVENT
BEGIN:VEVENT
DTSTAMP:20260421T095653Z
UID:7f175399-2f7b-4982-8ab3-15a0a11cc248
DTSTART:20261110T180000
DTEND:20261110T193000
DESCRIPTION:
LOCATION:Monmouth Roseville High School\, 200 S B St\, Monmouth\, IL 61462\
 , USA
SUMMARY:6 p.m. Board of Education Meeting
END:VEVENT
BEGIN:VEVENT
DTSTAMP:20260421T095653Z
UID:35dab3ac-481e-4fda-a63f-f2a79863bda3
DTSTART:20261208T180000
DTEND:20261208T193000
DESCRIPTION:
LOCATION:Monmouth Roseville High School\, 200 S B St\, Monmouth\, IL 61462\
 , USA
SUMMARY:6 p.m. Board of Education Meeting
END:VEVENT
BEGIN:VEVENT
DTSTAMP:20260421T095653Z
UID:c91c1a5a-7bc6-45df-8e73-d601311e1577
DTSTART:20270112T180000
DTEND:20270112T193000
DESCRIPTION:
LOCATION:Monmouth Roseville High School\, 200 S B St\, Monmouth\, IL 61462\
 , USA
SUMMARY:6 p.m. Board of Education Meeting
END:VEVENT
BEGIN:VEVENT
DTSTAMP:20260421T095653Z
UID:c1240c0f-c8bf-40f4-80b2-e0992ea17106
DTSTART:20270209T180000
DTEND:20270209T193000
DESCRIPTION:
LOCATION:Monmouth Roseville High School\, 200 S B St\, Monmouth\, IL 61462\
 , USA
SUMMARY:6 p.m. Board of Education Meeting
END:VEVENT
BEGIN:VEVENT
DTSTAMP:20260421T095653Z
UID:f2d71182-cb78-4b94-9d9b-0412d18d3bc7
DTSTART:20270309T180000
DTEND:20270309T193000
DESCRIPTION:
LOCATION:Monmouth Roseville High School\, 200 S B St\, Monmouth\, IL 61462\
 , USA
SUMMARY:6 p.m. Board of Education Meeting
END:VEVENT
BEGIN:VEVENT
DTSTAMP:20260421T095653Z
UID:242ca71d-00f1-47a6-bbd1-31ebab568245
DTSTART:20270413T180000
DTEND:20270413T193000
DESCRIPTION:
LOCATION:Monmouth Roseville High School\, 200 S B St\, Monmouth\, IL 61462\
 , USA
SUMMARY:6 p.m. Board of Education Meeting
END:VEVENT
END:VCALENDAR
