BEGIN:VCALENDAR
VERSION:2.0
PRODID:icalendar-ruby
CALSCALE:GREGORIAN
BEGIN:VTIMEZONE
TZID:America/New_York
BEGIN:DAYLIGHT
DTSTART:20260308T030000
TZOFFSETFROM:-0500
TZOFFSETTO:-0400
RRULE:FREQ=YEARLY;BYDAY=2SU;BYMONTH=3
TZNAME:EDT
END:DAYLIGHT
BEGIN:STANDARD
DTSTART:20261101T010000
TZOFFSETFROM:-0400
TZOFFSETTO:-0500
RRULE:FREQ=YEARLY;BYDAY=1SU;BYMONTH=11
TZNAME:EST
END:STANDARD
END:VTIMEZONE
BEGIN:VEVENT
DTSTAMP:20260423T145948Z
UID:85e69b42-03bc-4e1f-92f9-5be60b5188bc
DTSTART;VALUE=DATE:20260401
DTEND;VALUE=DATE:20260501
DESCRIPTION:
LOCATION:
SUMMARY:Autism Awareness Month
END:VEVENT
BEGIN:VEVENT
DTSTAMP:20260423T145948Z
UID:6d4e62ff-6a25-45d8-b05f-c79d9eebfb84
DTSTART;VALUE=DATE:20260401
DTEND;VALUE=DATE:20260501
DESCRIPTION:
LOCATION:
SUMMARY:Financial Literacy Month
END:VEVENT
BEGIN:VEVENT
DTSTAMP:20260423T145948Z
UID:884dbfee-44a3-4ac2-9bf0-7b867c1ea874
DTSTART;VALUE=DATE:20260401
DTEND;VALUE=DATE:20260501
DESCRIPTION:
LOCATION:
SUMMARY:NC Child Abuse Prevention Month
END:VEVENT
BEGIN:VEVENT
DTSTAMP:20260423T145948Z
UID:80a9e781-4de1-496a-8ae1-4d84661800b3
DTSTART;VALUE=DATE:20260420
DTEND;VALUE=DATE:20260425
DESCRIPTION:
LOCATION:
SUMMARY:School Volunteer Week
END:VEVENT
BEGIN:VEVENT
DTSTAMP:20260423T145948Z
UID:4cbc6f80-78ba-4d04-b9cf-2606f2b43741
DTSTART:20260423T163000
DTEND:20260423T193000
DESCRIPTION:
LOCATION:
SUMMARY:Track vs. TW Andrews 
END:VEVENT
BEGIN:VEVENT
DTSTAMP:20260423T145948Z
UID:1b5bbf6c-188f-4503-9cf5-ab453b78a49a
DTSTART:20260423T170000
DTEND:20260423T190000
DESCRIPTION:
LOCATION:
SUMMARY:Softball vs. Montgomery Central
END:VEVENT
BEGIN:VEVENT
DTSTAMP:20260423T145948Z
UID:2297af13-e07f-42a6-9d21-ed3bda956dd3
DTSTART:20260423T180000
DTEND:20260423T200000
DESCRIPTION:
LOCATION:
SUMMARY:Women's Soccer at Thomasville
END:VEVENT
BEGIN:VEVENT
DTSTAMP:20260423T145948Z
UID:cf0643ad-9a0d-4a26-af2b-999c4ce2747b
DTSTART:20260424T180000
DTEND:20260424T190000
DESCRIPTION:
LOCATION:LSHS Auditorium
SUMMARY:Talent show
END:VEVENT
BEGIN:VEVENT
DTSTAMP:20260423T145948Z
UID:ff327a10-201d-4083-ad40-033975edbc64
DTSTART:20260424T180000
DTEND:20260424T200000
DESCRIPTION:
LOCATION:
SUMMARY:Women's Soccer vs. East Davidson
END:VEVENT
BEGIN:VEVENT
DTSTAMP:20260423T145948Z
UID:8315f87d-3be7-40a8-9502-b8dc41f60225
DTSTART:20260424T190000
DTEND:20260424T210000
DESCRIPTION:
LOCATION:
SUMMARY:Baseball vs. Montgomery Central
END:VEVENT
BEGIN:VEVENT
DTSTAMP:20260423T145948Z
UID:15dd4241-006f-43f8-b424-03d5b0098c72
DTSTART:20260427T130000
DTEND:20260427T190000
DESCRIPTION:
LOCATION:
SUMMARY:Men's Golf Conference Tournament (Sappona)
END:VEVENT
BEGIN:VEVENT
DTSTAMP:20260423T145948Z
UID:973a283b-b5e2-4b3f-973f-938ea99afdef
DTSTART:20260428T170000
DTEND:20260428T190000
DESCRIPTION:
LOCATION:
SUMMARY:Softball at HP Central
END:VEVENT
BEGIN:VEVENT
DTSTAMP:20260423T145948Z
UID:e3ea4390-fcf4-431e-812f-76ce76b79d9e
DTSTART:20260428T190000
DTEND:20260428T210000
DESCRIPTION:
LOCATION:
SUMMARY:Baseball vs. HP Central (Senior Night)
END:VEVENT
BEGIN:VEVENT
DTSTAMP:20260423T145948Z
UID:0cb6dc01-27c3-438c-b831-54fd35ffd2bd
DTSTART:20260429T130000
DTEND:20260429T133000
DESCRIPTION:
LOCATION:Room 15
SUMMARY:Literacy Team Meeting
END:VEVENT
BEGIN:VEVENT
DTSTAMP:20260423T145948Z
UID:e59ee2ed-4b4e-4023-8a4b-73e21f708a18
DTSTART:20260429T133000
DTEND:20260429T140000
DESCRIPTION:
LOCATION:Media Center
SUMMARY:BT Meeting
END:VEVENT
BEGIN:VEVENT
DTSTAMP:20260423T145948Z
UID:1eb53e90-78aa-4bbe-939f-adae618c69bc
DTSTART:20260430T141500
DTEND:20260430T151500
DESCRIPTION:
LOCATION:
SUMMARY:Class of 2026 Awards Day Practice
END:VEVENT
BEGIN:VEVENT
DTSTAMP:20260423T145948Z
UID:5a60acac-d8a2-40e4-8173-c2ddb2c97237
DTSTART:20260430T160000
DTEND:20260430T180000
DESCRIPTION:
LOCATION:LSHS Media Center
SUMMARY:Poetry Slam!
END:VEVENT
BEGIN:VEVENT
DTSTAMP:20260423T145948Z
UID:61700eb8-993f-487a-a8f6-79b88da9e0d3
DTSTART:20260430T180000
DTEND:20260430T200000
DESCRIPTION:
LOCATION:
SUMMARY:Men's Volleyball at Northern Guilford
END:VEVENT
BEGIN:VEVENT
DTSTAMP:20260423T145948Z
UID:b10e3a73-cecf-4786-8cfb-eabfa9c88bca
DTSTART;VALUE=DATE:20260501
DTEND;VALUE=DATE:20260502
DESCRIPTION:
LOCATION:
SUMMARY:School Lunch Hero Day
END:VEVENT
BEGIN:VEVENT
DTSTAMP:20260423T145948Z
UID:af679cd5-176f-432c-9cb0-be9af58cab7e
DTSTART:20260501T090000
DTEND:20260501T113000
DESCRIPTION:
LOCATION:LSHS Auditorium
SUMMARY:Senior Awards Ceremony
END:VEVENT
BEGIN:VEVENT
DTSTAMP:20260423T145948Z
UID:abac082d-b316-4217-9cb2-7b91c553a5df
DTSTART:20260501T170000
DTEND:20260501T190000
DESCRIPTION:
LOCATION:
SUMMARY:Softball at TW Andrews
END:VEVENT
BEGIN:VEVENT
DTSTAMP:20260423T145948Z
UID:03b02896-3688-4253-88f5-4f1072a42a54
DTSTART:20260502T100000
DTEND:20260502T170000
DESCRIPTION:
LOCATION:Davidson County Fairgrounds
SUMMARY:30th Multicultural Festival
END:VEVENT
BEGIN:VEVENT
DTSTAMP:20260423T145948Z
UID:0eb51c49-159c-43f8-b501-318cbd78e89b
DTSTART;VALUE=DATE:20260504
DTEND;VALUE=DATE:20260509
DESCRIPTION:
LOCATION:
SUMMARY:Teacher Appreciation Week
END:VEVENT
BEGIN:VEVENT
DTSTAMP:20260423T145948Z
UID:4d55f181-efe9-43a7-8655-104b8b8355bb
DTSTART:20260504T180000
DTEND:20260504T200000
DESCRIPTION:
LOCATION:
SUMMARY:Women's Soccer vs. Ledford
END:VEVENT
BEGIN:VEVENT
DTSTAMP:20260423T145948Z
UID:70190419-d2dd-456b-8205-75a91e25b620
DTSTART:20260505T100000
DTEND:20260505T170000
DESCRIPTION:
LOCATION:Davidson County Fair Grounds 
SUMMARY:Multicultural Festival
END:VEVENT
BEGIN:VEVENT
DTSTAMP:20260423T145948Z
UID:4a2d4db5-a961-4666-ae49-08ff86de917c
DTSTART:20260505T113000
DTEND:20260505T123000
DESCRIPTION:
LOCATION:
SUMMARY:Senior Walk
END:VEVENT
BEGIN:VEVENT
DTSTAMP:20260423T145948Z
UID:a2c844a5-07a1-49db-bc13-d77ff8f3a217
DTSTART:20260505T183000
DTEND:20260505T210000
DESCRIPTION:
LOCATION:
SUMMARY:Board Meeting
END:VEVENT
BEGIN:VEVENT
DTSTAMP:20260423T145948Z
UID:2d1b41a8-6af9-47db-9460-7efdc3f0b77f
DTSTART;VALUE=DATE:20260506
DTEND;VALUE=DATE:20260507
DESCRIPTION:
LOCATION:
SUMMARY:School Nurse Day
END:VEVENT
BEGIN:VEVENT
DTSTAMP:20260423T145948Z
UID:b2069315-ff24-4d10-92ba-2d631f310b3a
DTSTART:20260506T180000
DTEND:20260506T200000
DESCRIPTION:
LOCATION:
SUMMARY:Women's Soccer vs. Randleman
END:VEVENT
BEGIN:VEVENT
DTSTAMP:20260423T145948Z
UID:9faf03cf-aa8a-437b-91c1-0a509e40667e
DTSTART:20260507T121500
DTEND:20260507T140000
DESCRIPTION:
LOCATION:Smith Civic Center
SUMMARY:Chorus Spring Concert Dress Rehearsal
END:VEVENT
BEGIN:VEVENT
DTSTAMP:20260423T145948Z
UID:db4a688f-1dd4-49c8-9ab3-51884b582d40
DTSTART:20260507T160000
DTEND:20260507T180000
DESCRIPTION:
LOCATION:
SUMMARY:Free Physical Night
END:VEVENT
BEGIN:VEVENT
DTSTAMP:20260423T145948Z
UID:39d7e92b-56de-450d-9d61-11ef62e9b31c
DTSTART:20260508T190000
DTEND:20260508T210000
DESCRIPTION:
LOCATION:Smith civic Center
SUMMARY:Chorus Spring Concert
END:VEVENT
BEGIN:VEVENT
DTSTAMP:20260423T145948Z
UID:9f8fa2d5-6ef1-4b52-9b09-2312a4c9e8ee
DTSTART:20260511T173000
DTEND:20260511T203000
DESCRIPTION:
LOCATION:The Edward C Smith Civic Center\, 217 S Main St\, Lexington\, NC 2
 7292\, USA
SUMMARY:2026 Athletic Celebration
END:VEVENT
BEGIN:VEVENT
DTSTAMP:20260423T145948Z
UID:8f671a08-dd3b-4b2e-9b10-aef197323340
DTSTART:20260511T173000
DTEND:20260511T203000
DESCRIPTION:
LOCATION:
SUMMARY:Lexington Athletic Celebration at the Civic Center
END:VEVENT
BEGIN:VEVENT
DTSTAMP:20260423T145948Z
UID:26b19aa4-bd6d-4d0f-96b6-f4276e88d432
DTSTART:20260512T190000
DTEND:20260512T200000
DESCRIPTION:
LOCATION:LSHS Auditorium
SUMMARY:BAND Spring Concert 
END:VEVENT
BEGIN:VEVENT
DTSTAMP:20260423T145948Z
UID:e7e5191a-f5f4-4192-a71f-9fafb8135662
DTSTART:20260514T083000
DTEND:20260514T130000
DESCRIPTION:
LOCATION:
SUMMARY:TEACHER MADE B1 & B2
END:VEVENT
BEGIN:VEVENT
DTSTAMP:20260423T145948Z
UID:79967436-9846-4b2f-95fb-9eb2330411b9
DTSTART:20260514T100000
DTEND:20260514T140000
DESCRIPTION:
LOCATION:
SUMMARY:DDCC Commencement 2026
END:VEVENT
BEGIN:VEVENT
DTSTAMP:20260423T145948Z
UID:c4c78c6e-fc23-4562-867b-a745d2584fb1
DTSTART:20260514T120000
DTEND:20260514T133000
DESCRIPTION:
LOCATION:YMCA Lexington
SUMMARY:Chorus Kiwanis Performance
END:VEVENT
BEGIN:VEVENT
DTSTAMP:20260423T145948Z
UID:b121ddae-e447-4dd8-a20b-64fb2b2235c4
DTSTART;VALUE=DATE:20260518
DTEND;VALUE=DATE:20260519
DESCRIPTION:
LOCATION:
SUMMARY:Senior Field Trip
END:VEVENT
BEGIN:VEVENT
DTSTAMP:20260423T145948Z
UID:1099f3c2-bb50-4f5c-9269-319c706dc615
DTSTART:20260519T200000
DTEND:20260519T220000
DESCRIPTION:
LOCATION:Stadium
SUMMARY:Senior Sunset
END:VEVENT
BEGIN:VEVENT
DTSTAMP:20260423T145948Z
UID:27b95268-9720-420e-9bc7-7b538595584d
DTSTART:20260520T180000
DTEND:20260520T190000
DESCRIPTION:
LOCATION:
SUMMARY:Senior Decision Day
END:VEVENT
BEGIN:VEVENT
DTSTAMP:20260423T145948Z
UID:7026edcc-be1f-48b3-9bc2-b2484cc3681e
DTSTART:20260520T191500
DTEND:20260520T201500
DESCRIPTION:
LOCATION:Jacket Way\, Jacket Wy\, Lexington\, NC 27292\, USA
SUMMARY:Senior Parade
END:VEVENT
BEGIN:VEVENT
DTSTAMP:20260423T145948Z
UID:73a7dc07-944b-4636-9c0f-21b8e1045dc6
DTSTART:20260521T134500
DTEND:20260521T153000
DESCRIPTION:
LOCATION:
SUMMARY:Graduation Practice
END:VEVENT
BEGIN:VEVENT
DTSTAMP:20260423T145948Z
UID:c01df804-5da5-44b1-ba92-a976d3bbd910
DTSTART;VALUE=DATE:20260522
DTEND;VALUE=DATE:20260523
DESCRIPTION:
LOCATION:
SUMMARY:Last Day of School/Early Release (End of 4th Qtr.)
END:VEVENT
BEGIN:VEVENT
DTSTAMP:20260423T145948Z
UID:4890ba24-a055-48a7-8a3a-ef57892023eb
DTSTART:20260522T133000
DTEND:20260522T143000
DESCRIPTION:
LOCATION:Media Center
SUMMARY:BT Celebration
END:VEVENT
BEGIN:VEVENT
DTSTAMP:20260423T145948Z
UID:efe3ea75-4f85-445b-99a3-eaf591d2fc3d
DTSTART:20260522T180000
DTEND:20260522T193000
DESCRIPTION:
LOCATION:Philpott Stadium
SUMMARY:LSHS Commencement Ceremony
END:VEVENT
BEGIN:VEVENT
DTSTAMP:20260423T145948Z
UID:3fdd3256-9e1a-46c2-a130-122c0e7f7b1e
DTSTART;VALUE=DATE:20260525
DTEND;VALUE=DATE:20260526
DESCRIPTION:
LOCATION:
SUMMARY:Holiday
END:VEVENT
BEGIN:VEVENT
DTSTAMP:20260423T145948Z
UID:147fbbde-4a26-4515-820f-9a6471700d39
DTSTART;VALUE=DATE:20260526
DTEND;VALUE=DATE:20260527
DESCRIPTION:
LOCATION:
SUMMARY:Required Teacher Workday
END:VEVENT
BEGIN:VEVENT
DTSTAMP:20260423T145948Z
UID:35c63ab5-f7ed-43b2-ae0d-9625d41e6e69
DTSTART;VALUE=DATE:20260527
DTEND;VALUE=DATE:20260529
DESCRIPTION:
LOCATION:
SUMMARY:Teacher Workday
END:VEVENT
BEGIN:VEVENT
DTSTAMP:20260423T145948Z
UID:3dc7fc63-e369-49d8-a19e-0e4dd4745d82
DTSTART;VALUE=DATE:20260529
DTEND;VALUE=DATE:20260530
DESCRIPTION:
LOCATION:
SUMMARY:Report Card Distribution
END:VEVENT
BEGIN:VEVENT
DTSTAMP:20260423T145948Z
UID:d6834e6c-28bf-4181-b42c-2384821fe0a5
DTSTART:20260602T183000
DTEND:20260602T210000
DESCRIPTION:
LOCATION:
SUMMARY:Board Meeting
END:VEVENT
BEGIN:VEVENT
DTSTAMP:20260423T145948Z
UID:1323ca84-a4a0-4c98-ac37-a16505879794
DTSTART;VALUE=DATE:20260619
DTEND;VALUE=DATE:20260620
DESCRIPTION:
LOCATION:
SUMMARY:Juneteenth
END:VEVENT
BEGIN:VEVENT
DTSTAMP:20260423T145948Z
UID:2c8fdb0f-140a-4b09-9021-3bd9415e0edd
DTSTART;VALUE=DATE:20261001
DTEND;VALUE=DATE:20261101
DESCRIPTION:
LOCATION:
SUMMARY:National Principals Month
END:VEVENT
BEGIN:VEVENT
DTSTAMP:20260423T145948Z
UID:903997b8-17d9-40dd-b729-187c88da844e
DTSTART;VALUE=DATE:20261005
DTEND;VALUE=DATE:20261006
DESCRIPTION:
LOCATION:
SUMMARY:Happy Birthday Dr. Porter
END:VEVENT
END:VCALENDAR
