BEGIN:VCALENDAR
VERSION:2.0
PRODID:icalendar-ruby
CALSCALE:GREGORIAN
BEGIN:VTIMEZONE
TZID:America/New_York
BEGIN:DAYLIGHT
DTSTART:20260308T030000
TZOFFSETFROM:-0500
TZOFFSETTO:-0400
RRULE:FREQ=YEARLY;BYDAY=2SU;BYMONTH=3
TZNAME:EDT
END:DAYLIGHT
BEGIN:STANDARD
DTSTART:20261101T010000
TZOFFSETFROM:-0400
TZOFFSETTO:-0500
RRULE:FREQ=YEARLY;BYDAY=1SU;BYMONTH=11
TZNAME:EST
END:STANDARD
END:VTIMEZONE
BEGIN:VEVENT
DTSTAMP:20260423T151659Z
UID:c34115dd-cab4-4bb9-8ba7-d75b48e41f7d
DTSTART;VALUE=DATE:20260515
DTEND;VALUE=DATE:20260516
DESCRIPTION:
LOCATION:
SUMMARY:Staff In-Service: Early Dismissal for Students
END:VEVENT
BEGIN:VEVENT
DTSTAMP:20260423T151659Z
UID:bfabdb06-8461-4056-aaf9-a9045cc02314
DTSTART;VALUE=DATE:20260525
DTEND;VALUE=DATE:20260526
DESCRIPTION:
LOCATION:
SUMMARY:Memorial Day: Schools Closed
END:VEVENT
BEGIN:VEVENT
DTSTAMP:20260423T151659Z
UID:4b99772d-034a-4cb6-a364-23301ffec9d3
DTSTART:20260528T180000
DTEND:20260528T200000
DESCRIPTION:
LOCATION:695 Woodlane Rd\, Westampton Township\, NJ 08060\, USA
SUMMARY:Adult Ed Career Fair 
END:VEVENT
BEGIN:VEVENT
DTSTAMP:20260423T151659Z
UID:d97c6c65-ec97-48be-8519-95c9a387fd45
DTSTART;VALUE=DATE:20260618
DTEND;VALUE=DATE:20260619
DESCRIPTION:
LOCATION:
SUMMARY:Early Dismissal
END:VEVENT
BEGIN:VEVENT
DTSTAMP:20260423T151659Z
UID:921d1d1d-0690-4d70-bae3-aa06840fd0dc
DTSTART;VALUE=DATE:20260618
DTEND;VALUE=DATE:20260619
DESCRIPTION:
LOCATION:
SUMMARY:Exams
END:VEVENT
BEGIN:VEVENT
DTSTAMP:20260423T151659Z
UID:90a1c204-8cf3-4e33-b1dd-3e1e2c2c209c
DTSTART;VALUE=DATE:20260619
DTEND;VALUE=DATE:20260620
DESCRIPTION:
LOCATION:
SUMMARY:Juneteenth: Schools Closed
END:VEVENT
BEGIN:VEVENT
DTSTAMP:20260423T151659Z
UID:8626a3af-f597-496b-a75c-aa6546cf757d
DTSTART;VALUE=DATE:20260619
DTEND;VALUE=DATE:20260620
DESCRIPTION:
LOCATION:
SUMMARY:Schools Closed
END:VEVENT
BEGIN:VEVENT
DTSTAMP:20260423T151659Z
UID:cce75d2a-7859-405c-a982-efdf67477c55
DTSTART;VALUE=DATE:20260622
DTEND;VALUE=DATE:20260624
DESCRIPTION:
LOCATION:
SUMMARY:Early Dismissal 
END:VEVENT
BEGIN:VEVENT
DTSTAMP:20260423T151659Z
UID:bdf44c1a-c33f-4dfa-950c-a2be50ba7b1b
DTSTART;VALUE=DATE:20260622
DTEND;VALUE=DATE:20260623
DESCRIPTION:
LOCATION:
SUMMARY:Exams
END:VEVENT
BEGIN:VEVENT
DTSTAMP:20260423T151659Z
UID:0440d95c-1248-4482-a7fb-27ccb3cff56d
DTSTART;VALUE=DATE:20260623
DTEND;VALUE=DATE:20260624
DESCRIPTION:
LOCATION:
SUMMARY:Graduation
END:VEVENT
BEGIN:VEVENT
DTSTAMP:20260423T151659Z
UID:d6e2f3b0-ead7-4431-acfc-afb9243175ef
DTSTART;VALUE=DATE:20260623
DTEND;VALUE=DATE:20260624
DESCRIPTION:
LOCATION:
SUMMARY:Last Day for Students\, Semester 2 Ends
END:VEVENT
BEGIN:VEVENT
DTSTAMP:20260423T151659Z
UID:66578ce5-4dcc-49c7-bd37-6fc3da8af4c9
DTSTART;VALUE=DATE:20260624
DTEND;VALUE=DATE:20260625
DESCRIPTION:
LOCATION:
SUMMARY:Last Day of School  for Staff
END:VEVENT
BEGIN:VEVENT
DTSTAMP:20260423T151659Z
UID:d15e8d16-00f4-4bcb-b243-e3486c717805
DTSTART;VALUE=DATE:20260624
DTEND;VALUE=DATE:20260625
DESCRIPTION:
LOCATION:
SUMMARY:Schools Closed for Students Only
END:VEVENT
END:VCALENDAR
